BEGIN:VCALENDAR
VERSION:2.0
PRODID:-//Jackson Tourism - ECPv6.15.18//NONSGML v1.0//EN
CALSCALE:GREGORIAN
METHOD:PUBLISH
X-WR-CALNAME:Jackson Tourism
X-ORIGINAL-URL:https://visitjacksontn.com
X-WR-CALDESC:Events for Jackson Tourism
REFRESH-INTERVAL;VALUE=DURATION:PT1H
X-Robots-Tag:noindex
X-PUBLISHED-TTL:PT1H
BEGIN:VTIMEZONE
TZID:America/Chicago
BEGIN:DAYLIGHT
TZOFFSETFROM:-0600
TZOFFSETTO:-0500
TZNAME:CDT
DTSTART:20250309T080000
END:DAYLIGHT
BEGIN:STANDARD
TZOFFSETFROM:-0500
TZOFFSETTO:-0600
TZNAME:CST
DTSTART:20251102T070000
END:STANDARD
BEGIN:DAYLIGHT
TZOFFSETFROM:-0600
TZOFFSETTO:-0500
TZNAME:CDT
DTSTART:20260308T080000
END:DAYLIGHT
BEGIN:STANDARD
TZOFFSETFROM:-0500
TZOFFSETTO:-0600
TZNAME:CST
DTSTART:20261101T070000
END:STANDARD
BEGIN:DAYLIGHT
TZOFFSETFROM:-0600
TZOFFSETTO:-0500
TZNAME:CDT
DTSTART:20270314T080000
END:DAYLIGHT
BEGIN:STANDARD
TZOFFSETFROM:-0500
TZOFFSETTO:-0600
TZNAME:CST
DTSTART:20271107T070000
END:STANDARD
END:VTIMEZONE
BEGIN:VEVENT
DTSTART;TZID=America/Chicago:20260511T190000
DTEND;TZID=America/Chicago:20260511T210000
DTSTAMP:20260419T082629
CREATED:20260326T201318Z
LAST-MODIFIED:20260326T201318Z
UID:10006115-1778526000-1778533200@visitjacksontn.com
SUMMARY:"Life in the Big City" - Symphonic Winds
DESCRIPTION:The Jackson Area Community Bands will present their Spring 2026 concert on Monday\, May 11\, 2026 beginning at 7:00 p.m. in the Chapel at Union University. The concert is free and open to the public. \nThe Symphonic Winds will present “Life in the Big City” under the baton of Mr. Steven R. Barnett. The Swing Orchestra will then entertain the audience with a program entitled “Latinesque\,” conducted by Mr. David Kyles. \nJackson Area Community Bands is a fund of the Foundation of West Tennessee. Our conductors and musicians are from West Tennessee. We donate our time and talent to bring live\, family-friendly music to the Jackson area.
URL:https://visitjacksontn.com/event/life-in-the-big-city-symphonic-winds/
LOCATION:Union University Savage Chapel\, 1050 Union University Dr\, Jackson\, TN\, 38305\, United States
ATTACH;FMTTYPE=image/jpeg:https://visitjacksontn.com/wp-content/uploads/498665926_1296649885796262_4525532987260987624_n-5-e1774555985259.jpg
END:VEVENT
END:VCALENDAR