BEGIN:VCALENDAR
VERSION:2.0
PRODID:-//Jackson Tourism - ECPv6.15.20//NONSGML v1.0//EN
CALSCALE:GREGORIAN
METHOD:PUBLISH
X-WR-CALNAME:Jackson Tourism
X-ORIGINAL-URL:https://visitjacksontn.com
X-WR-CALDESC:Events for Jackson Tourism
REFRESH-INTERVAL;VALUE=DURATION:PT1H
X-Robots-Tag:noindex
X-PUBLISHED-TTL:PT1H
BEGIN:VTIMEZONE
TZID:America/Chicago
BEGIN:DAYLIGHT
TZOFFSETFROM:-0600
TZOFFSETTO:-0500
TZNAME:CDT
DTSTART:20220313T080000
END:DAYLIGHT
BEGIN:STANDARD
TZOFFSETFROM:-0500
TZOFFSETTO:-0600
TZNAME:CST
DTSTART:20221106T070000
END:STANDARD
BEGIN:DAYLIGHT
TZOFFSETFROM:-0600
TZOFFSETTO:-0500
TZNAME:CDT
DTSTART:20230312T080000
END:DAYLIGHT
BEGIN:STANDARD
TZOFFSETFROM:-0500
TZOFFSETTO:-0600
TZNAME:CST
DTSTART:20231105T070000
END:STANDARD
BEGIN:DAYLIGHT
TZOFFSETFROM:-0600
TZOFFSETTO:-0500
TZNAME:CDT
DTSTART:20240310T080000
END:DAYLIGHT
BEGIN:STANDARD
TZOFFSETFROM:-0500
TZOFFSETTO:-0600
TZNAME:CST
DTSTART:20241103T070000
END:STANDARD
END:VTIMEZONE
BEGIN:VEVENT
DTSTART;TZID=America/Chicago:20231114T180000
DTEND;TZID=America/Chicago:20231114T203000
DTSTAMP:20260425T071950
CREATED:20240411T191936Z
LAST-MODIFIED:20240411T191936Z
UID:10001551-1699984800-1699993800@visitjacksontn.com
SUMMARY:Grinchmas at The City Limits
DESCRIPTION:Get ready to celebrate Grinchmas at The City Limits\, where the grumpiest holiday character comes to life with mischievous games and Painting Join this festive celebration at The City Limits Bar and Grill! Get ready to embrace your inner Grinch and spread some holiday cheer. This in-person event will take place at The City Limits Bar and Grill located on Milan Highway in Trenton\, TN. For more information\, click learn more.
URL:https://visitjacksontn.com/event/grinchmas-at-the-city-limits/
LOCATION:The City Limits\, 10 Milan Highway\, TN
CATEGORIES:Sports & Outdoor
ATTACH;FMTTYPE=image/jpeg:https://visitjacksontn.com/wp-content/uploads/395177233_339014078778256_1539050144538704755_n-KClg1g.tmp_.jpg
END:VEVENT
END:VCALENDAR