BEGIN:VCALENDAR
VERSION:2.0
PRODID:-//Jackson Tourism - ECPv6.15.18//NONSGML v1.0//EN
CALSCALE:GREGORIAN
METHOD:PUBLISH
X-WR-CALNAME:Jackson Tourism
X-ORIGINAL-URL:https://visitjacksontn.com
X-WR-CALDESC:Events for Jackson Tourism
REFRESH-INTERVAL;VALUE=DURATION:PT1H
X-Robots-Tag:noindex
X-PUBLISHED-TTL:PT1H
BEGIN:VTIMEZONE
TZID:America/Chicago
BEGIN:DAYLIGHT
TZOFFSETFROM:-0600
TZOFFSETTO:-0500
TZNAME:CDT
DTSTART:20220313T080000
END:DAYLIGHT
BEGIN:STANDARD
TZOFFSETFROM:-0500
TZOFFSETTO:-0600
TZNAME:CST
DTSTART:20221106T070000
END:STANDARD
BEGIN:DAYLIGHT
TZOFFSETFROM:-0600
TZOFFSETTO:-0500
TZNAME:CDT
DTSTART:20230312T080000
END:DAYLIGHT
BEGIN:STANDARD
TZOFFSETFROM:-0500
TZOFFSETTO:-0600
TZNAME:CST
DTSTART:20231105T070000
END:STANDARD
BEGIN:DAYLIGHT
TZOFFSETFROM:-0600
TZOFFSETTO:-0500
TZNAME:CDT
DTSTART:20240310T080000
END:DAYLIGHT
BEGIN:STANDARD
TZOFFSETFROM:-0500
TZOFFSETTO:-0600
TZNAME:CST
DTSTART:20241103T070000
END:STANDARD
BEGIN:DAYLIGHT
TZOFFSETFROM:-0600
TZOFFSETTO:-0500
TZNAME:CDT
DTSTART:20250309T080000
END:DAYLIGHT
BEGIN:STANDARD
TZOFFSETFROM:-0500
TZOFFSETTO:-0600
TZNAME:CST
DTSTART:20251102T070000
END:STANDARD
END:VTIMEZONE
BEGIN:VEVENT
DTSTART;TZID=America/Chicago:20241207T180000
DTEND;TZID=America/Chicago:20241207T180000
DTSTAMP:20260419T220219
CREATED:20241104T160557Z
LAST-MODIFIED:20241104T160610Z
UID:10002782-1733594400-1733594400@visitjacksontn.com
SUMMARY:Saltillo Christmas Parade & Bazaar
DESCRIPTION:Get ready to experience the magic of the Saltillo Christmas Parade as it winds through town\, featuring festive floats and holiday characters. \nBefore the parade\, explore the Holiday Bazaar\, where local artisans offer unique gifts\, crafts\, and treats—perfect for holiday shopping! \n 
URL:https://visitjacksontn.com/event/saltillo-christmas-parade-bazaar/
LOCATION:Saltillo Community Center\, Highway 69\, Saltillo\, TN\, 38370\, United States
CATEGORIES:Events
ATTACH;FMTTYPE=image/png:https://visitjacksontn.com/wp-content/uploads/christmas-open-house-post.png
END:VEVENT
BEGIN:VEVENT
DTSTART;TZID=America/Chicago:20231202T170000
DTEND;TZID=America/Chicago:20231202T235000
DTSTAMP:20260419T220219
CREATED:20240411T191703Z
LAST-MODIFIED:20240411T191703Z
UID:10001531-1701536400-1701561000@visitjacksontn.com
SUMMARY:Saltillo Christmas Parade & Holiday Bazaar
DESCRIPTION:Holiday Bazaar Date: Dec 2\,2023 Time: 10 AM to 3 PM Location: Saltillo Community Center Before the parade\, step into the enchanting Holiday Bazaar. Here\, local artisans and vendors showcase unique gifts\, crafts\, and holiday treats. It’s the perfect opportunity to find that special something for your loved ones. Christmas Parade Date: Dec 2\,2023 Time: 5 PM Location: Saltillo Community Center Experience the joy and excitement of the Christmas Parade as it winds through the streets of Saltillo. Marvel at the beautifully decorated floats and catch glimpses of holiday characters. The highlight of the parade? A special appearance by Santa Claus himself\, ushering in the holiday spirit! Join him for cookies and hot cocoa after the parade! For more information\, click learn more.
URL:https://visitjacksontn.com/event/saltillo-christmas-parade-holiday-bazaar/
LOCATION:Saltillo Community Center\, Highway 69\, Saltillo\, TN\, 38370\, United States
CATEGORIES:Sports & Outdoor
ATTACH;FMTTYPE=image/png:https://visitjacksontn.com/wp-content/uploads/Christmas-parade-Q3SOyD.tmp_.png
END:VEVENT
END:VCALENDAR