BEGIN:VCALENDAR
VERSION:2.0
PRODID:-//Jackson Tourism - ECPv6.15.18//NONSGML v1.0//EN
CALSCALE:GREGORIAN
METHOD:PUBLISH
X-WR-CALNAME:Jackson Tourism
X-ORIGINAL-URL:https://visitjacksontn.com
X-WR-CALDESC:Events for Jackson Tourism
REFRESH-INTERVAL;VALUE=DURATION:PT1H
X-Robots-Tag:noindex
X-PUBLISHED-TTL:PT1H
BEGIN:VTIMEZONE
TZID:America/Chicago
BEGIN:DAYLIGHT
TZOFFSETFROM:-0600
TZOFFSETTO:-0500
TZNAME:CDT
DTSTART:20230312T080000
END:DAYLIGHT
BEGIN:STANDARD
TZOFFSETFROM:-0500
TZOFFSETTO:-0600
TZNAME:CST
DTSTART:20231105T070000
END:STANDARD
BEGIN:DAYLIGHT
TZOFFSETFROM:-0600
TZOFFSETTO:-0500
TZNAME:CDT
DTSTART:20240310T080000
END:DAYLIGHT
BEGIN:STANDARD
TZOFFSETFROM:-0500
TZOFFSETTO:-0600
TZNAME:CST
DTSTART:20241103T070000
END:STANDARD
BEGIN:DAYLIGHT
TZOFFSETFROM:-0600
TZOFFSETTO:-0500
TZNAME:CDT
DTSTART:20250309T080000
END:DAYLIGHT
BEGIN:STANDARD
TZOFFSETFROM:-0500
TZOFFSETTO:-0600
TZNAME:CST
DTSTART:20251102T070000
END:STANDARD
END:VTIMEZONE
BEGIN:VEVENT
DTSTART;VALUE=DATE:20241121
DTEND;VALUE=DATE:20241122
DTSTAMP:20260419T180637
CREATED:20241120T162958Z
LAST-MODIFIED:20241120T163022Z
UID:10002911-1732147200-1732233599@visitjacksontn.com
SUMMARY:Grinch Takeover at PYRO's Jackson
DESCRIPTION:Whoville is coming to PYRO’s Jackson! \nGet ready for a Grinch Takeover this holiday season! From November 21st to December 31st\, 2024\, the restaurant will transform into a magical Whoville wonderland\, complete with festive decor\, Grinch-themed menu items\, and all the holiday cheer straight from Mt. Crumpit. \nEnjoy whimsical eats\, fun treats\, and a merry atmosphere perfect for the whole family. Don’t miss this unforgettable holiday celebration—where even the Grinch lights up the season! \nSpread the word and join us at PYRO’s Jackson for a one-of-a-kind holiday pizza experience!
URL:https://visitjacksontn.com/event/grinch-takeover-at-pyros-jackson/
LOCATION:PYRO’S Fire Fresh Pizza\, 1150 Vann Drive\, Suite A\, Jackson\, TN\, 38305\, United States
CATEGORIES:Events
ATTACH;FMTTYPE=image/png:https://visitjacksontn.com/wp-content/uploads/PYROS-Jackson-Christmas-Door-Sign-Facebook-Post-Square.png
END:VEVENT
END:VCALENDAR