BEGIN:VCALENDAR
VERSION:2.0
PRODID:-//Jackson Tourism - ECPv6.15.18//NONSGML v1.0//EN
CALSCALE:GREGORIAN
METHOD:PUBLISH
X-WR-CALNAME:Jackson Tourism
X-ORIGINAL-URL:https://visitjacksontn.com
X-WR-CALDESC:Events for Jackson Tourism
REFRESH-INTERVAL;VALUE=DURATION:PT1H
X-Robots-Tag:noindex
X-PUBLISHED-TTL:PT1H
BEGIN:VTIMEZONE
TZID:America/Chicago
BEGIN:DAYLIGHT
TZOFFSETFROM:-0600
TZOFFSETTO:-0500
TZNAME:CDT
DTSTART:20220313T080000
END:DAYLIGHT
BEGIN:STANDARD
TZOFFSETFROM:-0500
TZOFFSETTO:-0600
TZNAME:CST
DTSTART:20221106T070000
END:STANDARD
BEGIN:DAYLIGHT
TZOFFSETFROM:-0600
TZOFFSETTO:-0500
TZNAME:CDT
DTSTART:20230312T080000
END:DAYLIGHT
BEGIN:STANDARD
TZOFFSETFROM:-0500
TZOFFSETTO:-0600
TZNAME:CST
DTSTART:20231105T070000
END:STANDARD
BEGIN:DAYLIGHT
TZOFFSETFROM:-0600
TZOFFSETTO:-0500
TZNAME:CDT
DTSTART:20240310T080000
END:DAYLIGHT
BEGIN:STANDARD
TZOFFSETFROM:-0500
TZOFFSETTO:-0600
TZNAME:CST
DTSTART:20241103T070000
END:STANDARD
BEGIN:DAYLIGHT
TZOFFSETFROM:-0600
TZOFFSETTO:-0500
TZNAME:CDT
DTSTART:20250309T080000
END:DAYLIGHT
BEGIN:STANDARD
TZOFFSETFROM:-0500
TZOFFSETTO:-0600
TZNAME:CST
DTSTART:20251102T070000
END:STANDARD
BEGIN:DAYLIGHT
TZOFFSETFROM:-0600
TZOFFSETTO:-0500
TZNAME:CDT
DTSTART:20260308T080000
END:DAYLIGHT
BEGIN:STANDARD
TZOFFSETFROM:-0500
TZOFFSETTO:-0600
TZNAME:CST
DTSTART:20261101T070000
END:STANDARD
BEGIN:DAYLIGHT
TZOFFSETFROM:-0600
TZOFFSETTO:-0500
TZNAME:CDT
DTSTART:20270314T080000
END:DAYLIGHT
BEGIN:STANDARD
TZOFFSETFROM:-0500
TZOFFSETTO:-0600
TZNAME:CST
DTSTART:20271107T070000
END:STANDARD
END:VTIMEZONE
BEGIN:VEVENT
DTSTART;TZID=America/Chicago:20251128T170000
DTEND;TZID=America/Chicago:20260103T170000
DTSTAMP:20260420T134241
CREATED:20251124T201612Z
LAST-MODIFIED:20251124T201612Z
UID:10005782-1764349200-1767459600@visitjacksontn.com
SUMMARY:Festival of Lights
DESCRIPTION:
URL:https://visitjacksontn.com/event/festival-of-lights/
LOCATION:Pugh Bourne Park\, 343 Oakfield Road\, Oakfield\, TN\, 38362\, United States
CATEGORIES:Events,Outdoor
ATTACH;FMTTYPE=image/png:https://visitjacksontn.com/wp-content/uploads/Screenshot-2025-11-24-092849-e1763998188178.png
END:VEVENT
BEGIN:VEVENT
DTSTART;VALUE=DATE:20250906
DTEND;VALUE=DATE:20250908
DTSTAMP:20260420T134241
CREATED:20250828T193602Z
LAST-MODIFIED:20250828T193602Z
UID:10005700-1757116800-1757289599@visitjacksontn.com
SUMMARY:2025 NICA-TN - Rockabilly Ridge - Pugh Bourne Park
DESCRIPTION:Fun\, inclusivity\, equity\, respect\, and community are the guiding principles of the Tennessee Interscholastic Cycling League\, and we are incredibly thankful that you are a part of it. Our Tennessee League teams are making a significant difference in our communities and in the lives of our student-athletes. Together\, we are building strong minds\, bodies\, character\, and communities through cycling. At NICA events\, everyone is cheered on\, and everyone participates. In that spirit\, we are excited to begin our 13th season of camaraderie and racing in Tennessee! \nThe Rockabilly Ridge Mountain bike trail\, designed and created by local rider Matt Joiner in partnership with Madison County Parks & Recreation\, is fun\, fast and challenging. This singletrack trail twists and turns along the hills and ridges inside Pugh Bourne Park. It’s classified as intermediate due to the continuous elevation changes rather than technical difficulty. It’s one of our shortest loops\, offering fantastic spectator opportunities and a chance for all racers to shine during the midway open field\, feed zone\, and fast infield finish. STRAVA LINK \nThe information in this event flyer is tentative and is subject to change. Please contact your League Director\, Katherine Williams with questions or concerns\, info@tennesseemtb.org. Thank you!
URL:https://visitjacksontn.com/event/2025-nica-tn-rockabilly-ridge-pugh-bourne-park/
LOCATION:Pugh Bourne Park\, 343 Oakfield Road\, Oakfield\, TN\, 38362\, United States
ATTACH;FMTTYPE=image/png:https://visitjacksontn.com/wp-content/uploads/nica-1.png
END:VEVENT
BEGIN:VEVENT
DTSTART;TZID=America/Chicago:20250607T080000
DTEND;TZID=America/Chicago:20250607T080000
DTSTAMP:20260420T134241
CREATED:20250401T202803Z
LAST-MODIFIED:20250401T202833Z
UID:10005462-1749283200-1749283200@visitjacksontn.com
SUMMARY:State Games of Tennessee 2025: Mountain Bike Race
DESCRIPTION:​The State Games of Tennessee 2025 Mountain Bike Race invites cyclists of all levels to compete on Pugh Bourne Park’s dynamic trails. \nAdditional details\, including registration information\, will be announced soon.
URL:https://visitjacksontn.com/event/state-games-of-tennessee-2025-mountain-bike-race/
LOCATION:Pugh Bourne Park\, 343 Oakfield Road\, Oakfield\, TN\, 38362\, United States
CATEGORIES:Events,Sports & Outdoor
ATTACH;FMTTYPE=image/png:https://visitjacksontn.com/wp-content/uploads/t_170243.png
END:VEVENT
BEGIN:VEVENT
DTSTART;TZID=America/Chicago:20250418T150000
DTEND;TZID=America/Chicago:20250418T180000
DTSTAMP:20260420T134241
CREATED:20250331T152558Z
LAST-MODIFIED:20250331T152840Z
UID:10005453-1744988400-1744999200@visitjacksontn.com
SUMMARY:Eggstravaganza In The Park
DESCRIPTION:Hop into spring at Eggstravaganza in the Park! \nEnjoy a fun-filled Easter celebration with bounce houses\, a Bunny Shop\, free entry\, and complimentary food and drinks.
URL:https://visitjacksontn.com/event/eggstravaganza-in-the-park/
LOCATION:Pugh Bourne Park\, 343 Oakfield Road\, Oakfield\, TN\, 38362\, United States
CATEGORIES:Events,Sports & Outdoor
ATTACH;FMTTYPE=image/jpeg:https://visitjacksontn.com/wp-content/uploads/484477433_10222470189978377_1302079006825420127_n.jpg
END:VEVENT
BEGIN:VEVENT
DTSTART;VALUE=DATE:20240907
DTEND;VALUE=DATE:20240909
DTSTAMP:20260420T134241
CREATED:20240906T153326Z
LAST-MODIFIED:20240906T153326Z
UID:10002560-1725667200-1725839999@visitjacksontn.com
SUMMARY:Tennessee Interscholastic Cycling League - Rockabilly Ridge Race
DESCRIPTION:The Tennessee Interscholastic Cycling League will hold their second race of the fall high school mountain biking season Sunday\, September 8\, 2024 on the Rockabilly Ridge trail system at Madison County’s Rockabilly Ridge at Pugh Bourne Park\, 343 Oakfield Road. \nTo learn more visit  https://tennesseemtb.org/  or contact Matt Joiner\, Rockabilly Gran Prix\, Marx-Bensdorf Cycling Team at 901.487.7024. \nClick here for the flyer with more information.
URL:https://visitjacksontn.com/event/tennessee-interscholastic-cycling-league-rockabilly-ridge-race/
LOCATION:Pugh Bourne Park\, 343 Oakfield Road\, Oakfield\, TN\, 38362\, United States
CATEGORIES:Events,Sports & Outdoor
ATTACH;FMTTYPE=image/jpeg:https://visitjacksontn.com/wp-content/uploads/Interscholasticbicycle-student.jpg
END:VEVENT
BEGIN:VEVENT
DTSTART;VALUE=DATE:20230910
DTEND;VALUE=DATE:20230911
DTSTAMP:20260420T134241
CREATED:20240411T192533Z
LAST-MODIFIED:20240411T192533Z
UID:10001763-1694304000-1694390399@visitjacksontn.com
SUMMARY:Tennessee Interscholastic Cycling League Race
DESCRIPTION:The Rockabilly Ridge mountain bike trail was designed and created by local mountain bike rider Matt Joiner\, in partnership with Madison County Parks & Recreation. This singletrack trail twists and turns up and down along the hills and ridges inside Pugh Bourne Park.The trail is classified as intermediate because of the continual elevation changes rather than the technical difficulty.This is one of our shortest loops with great spectator opportunities and the chance for all racers to shine during the midway open field feed zone and fast field finish. Online registration closes Thursday\, September 7 at 12 pm CST. On-site race registration is available on Saturday from 11:00 am-3:00 pm and on race day beginning at 8:00 am. For more information regarding this event\, click ‘learn more.’
URL:https://visitjacksontn.com/event/tennessee-interscholastic-cycling-league-race/
LOCATION:Pugh Bourne Park\, 343 Oakfield Road\, Oakfield\, TN\, 38362\, United States
CATEGORIES:Sports & Outdoor
ATTACH;FMTTYPE=image/png:https://visitjacksontn.com/wp-content/uploads/327335943_753619102850609_1305995515962552729_n-LFwxOA.tmp_.png
END:VEVENT
END:VCALENDAR