BEGIN:VCALENDAR
VERSION:2.0
PRODID:-//Jackson Tourism - ECPv6.15.18//NONSGML v1.0//EN
CALSCALE:GREGORIAN
METHOD:PUBLISH
X-ORIGINAL-URL:https://visitjacksontn.com
X-WR-CALDESC:Events for Jackson Tourism
REFRESH-INTERVAL;VALUE=DURATION:PT1H
X-Robots-Tag:noindex
X-PUBLISHED-TTL:PT1H
BEGIN:VTIMEZONE
TZID:America/Chicago
BEGIN:DAYLIGHT
TZOFFSETFROM:-0600
TZOFFSETTO:-0500
TZNAME:CDT
DTSTART:20220313T080000
END:DAYLIGHT
BEGIN:STANDARD
TZOFFSETFROM:-0500
TZOFFSETTO:-0600
TZNAME:CST
DTSTART:20221106T070000
END:STANDARD
BEGIN:DAYLIGHT
TZOFFSETFROM:-0600
TZOFFSETTO:-0500
TZNAME:CDT
DTSTART:20230312T080000
END:DAYLIGHT
BEGIN:STANDARD
TZOFFSETFROM:-0500
TZOFFSETTO:-0600
TZNAME:CST
DTSTART:20231105T070000
END:STANDARD
BEGIN:DAYLIGHT
TZOFFSETFROM:-0600
TZOFFSETTO:-0500
TZNAME:CDT
DTSTART:20240310T080000
END:DAYLIGHT
BEGIN:STANDARD
TZOFFSETFROM:-0500
TZOFFSETTO:-0600
TZNAME:CST
DTSTART:20241103T070000
END:STANDARD
BEGIN:DAYLIGHT
TZOFFSETFROM:-0600
TZOFFSETTO:-0500
TZNAME:CDT
DTSTART:20250309T080000
END:DAYLIGHT
BEGIN:STANDARD
TZOFFSETFROM:-0500
TZOFFSETTO:-0600
TZNAME:CST
DTSTART:20251102T070000
END:STANDARD
BEGIN:DAYLIGHT
TZOFFSETFROM:-0600
TZOFFSETTO:-0500
TZNAME:CDT
DTSTART:20260308T080000
END:DAYLIGHT
BEGIN:STANDARD
TZOFFSETFROM:-0500
TZOFFSETTO:-0600
TZNAME:CST
DTSTART:20261101T070000
END:STANDARD
END:VTIMEZONE
BEGIN:VEVENT
DTSTART;TZID=America/Chicago:20250703T180000
DTEND;TZID=America/Chicago:20250703T210000
DTSTAMP:20260422T091655
CREATED:20250609T204556Z
LAST-MODIFIED:20250613T194132Z
UID:10005604-1751565600-1751576400@visitjacksontn.com
SUMMARY:City of Milan Fireworks Show
DESCRIPTION:Don’t miss the 2025 City of Milan Fireworks Show! \nThis year’s celebration features live music from The Kimberlie Helton Band\, kicking off at 6:00 PM at the Amphitheater. Bring your chairs\, blankets\, and friends for an evening of great entertainment. Fireworks will light up the sky just after dark\, around 9:00–9:10 PM.
URL:https://visitjacksontn.com/event/city-of-milan-fireworks-show/
LOCATION:Milan City Park\, 7001 Ellington Drive\, Milan\, TN\, 38358\, United States
CATEGORIES:Events,Sports & Outdoor
ATTACH;FMTTYPE=image/jpeg:https://visitjacksontn.com/wp-content/uploads/505810517_1131474339020309_1894511893486567684_n.jpg
END:VEVENT
BEGIN:VEVENT
DTSTART;TZID=America/Chicago:20250419T110000
DTEND;TZID=America/Chicago:20250419T140000
DTSTAMP:20260422T091655
CREATED:20250306T193837Z
LAST-MODIFIED:20250306T194034Z
UID:10005364-1745060400-1745071200@visitjacksontn.com
SUMMARY:2025 City of Milan Easter Egg Hunt
DESCRIPTION:Hop on over to Milan an unforgettable Easter Egg Hunt! \nWith 14\,000 eggs hidden throughout the park\, there’s plenty of fun for kids of all ages! The egg hunt is specifically for children ages 0-10\, but everyone is welcome to join in the festivities. Enjoy a magic show by Mysterious Mike\, exciting bounce houses\, a petting zoo (weather permitting)\, and delicious food from Big Daddy’s Dogs\, His & Her’s Finest Kitchen\, and Small Town Sno. Plus\, we hear the Easter Bunny might just make an appearance! \nSchedule: \n\n11:15 AM: Ages 0-2 (Parents can help)\n11:40 AM: Ages 3-4 (Parents can help)\n12:00 PM: Magic Show with Mysterious Mike\n1:00 PM: Ages 5-7 (Kids only)\n1:30 PM: Ages 8-10 (Kids only)
URL:https://visitjacksontn.com/event/2025-city-of-milan-easter-egg-hunt/
LOCATION:Milan City Park\, 7001 Ellington Drive\, Milan\, TN\, 38358\, United States
CATEGORIES:Events,Sports & Outdoor
ATTACH;FMTTYPE=image/jpeg:https://visitjacksontn.com/wp-content/uploads/480696323_1051462657021478_9160313010621057855_n.jpg
END:VEVENT
BEGIN:VEVENT
DTSTART;TZID=America/Chicago:20240702T180000
DTEND;TZID=America/Chicago:20240702T213000
DTSTAMP:20260422T091655
CREATED:20240621T161122Z
LAST-MODIFIED:20240621T161122Z
UID:10002337-1719943200-1719955800@visitjacksontn.com
SUMMARY:2024 City of Milan Firework Show
DESCRIPTION:Join us for our 2024 Firework Show! Fireworks are sponsored by Ceco Door! \nFood Vendors on site:\nCoastal Connections\nBabe’s BBQ\nSmall Town Sno & More\nBig Daddy’s Dog’s\nSpudd Maxx & Tasty T’s\nEl Mariachi Loco\nKickin’ it with Keemie\nSpicy Catch Seafood Boils \nClick here for more event information.
URL:https://visitjacksontn.com/event/2024-city-of-milan-firework-show/
LOCATION:Milan City Park\, 7001 Ellington Drive\, Milan\, TN\, 38358\, United States
CATEGORIES:Events,Sports & Outdoor
ATTACH;FMTTYPE=image/jpeg:https://visitjacksontn.com/wp-content/uploads/448792184_871401448360934_3963326539742119292_n.jpg
END:VEVENT
BEGIN:VEVENT
DTSTART;TZID=America/Chicago:20230630T180000
DTEND;TZID=America/Chicago:20230630T210000
DTSTAMP:20260422T091655
CREATED:20240411T192658Z
LAST-MODIFIED:20240411T192658Z
UID:10001814-1688148000-1688158800@visitjacksontn.com
SUMMARY:2023 City of Milan Firework Show with The Todd Hill Orchestra
DESCRIPTION:Join the City of Milan for their 2023 Firework Show with special entertainment from the Todd Hill Orchestra! Fireworks are sponsored by Ceco Door. Friday\, June 30\, 2023 from 6:00-9:00 p.m. at Milan City Park We are still looking for Orchestra sponsors. If your business is interested\, please let us know! Food Vendors on site: Kickin’ It with Keemie TaColima Foggy Hollow BBQ Small Town Sno Hub City Grind Big Daddy’s Dog’s Coastal Connection Babe’s BBQ For more information\, click ‘Learn More’.
URL:https://visitjacksontn.com/event/2023-city-of-milan-firework-show-with-the-todd-hill-orchestra/
LOCATION:Milan City Park\, 7001 Ellington Drive\, Milan\, TN\, 38358\, United States
CATEGORIES:Sports & Outdoor
ATTACH;FMTTYPE=image/jpeg:https://visitjacksontn.com/wp-content/uploads/2ff4e75eaa2752c41b3f47462ea6d55e-blue-fireworks-th-of-july-fireworks-7dtsiw.tmp_.jpg
END:VEVENT
END:VCALENDAR