BEGIN:VCALENDAR
VERSION:2.0
PRODID:-//Jackson Tourism - ECPv6.15.20//NONSGML v1.0//EN
CALSCALE:GREGORIAN
METHOD:PUBLISH
X-ORIGINAL-URL:https://visitjacksontn.com
X-WR-CALDESC:Events for Jackson Tourism
REFRESH-INTERVAL;VALUE=DURATION:PT1H
X-Robots-Tag:noindex
X-PUBLISHED-TTL:PT1H
BEGIN:VTIMEZONE
TZID:America/Chicago
BEGIN:DAYLIGHT
TZOFFSETFROM:-0600
TZOFFSETTO:-0500
TZNAME:CDT
DTSTART:20230312T080000
END:DAYLIGHT
BEGIN:STANDARD
TZOFFSETFROM:-0500
TZOFFSETTO:-0600
TZNAME:CST
DTSTART:20231105T070000
END:STANDARD
BEGIN:DAYLIGHT
TZOFFSETFROM:-0600
TZOFFSETTO:-0500
TZNAME:CDT
DTSTART:20240310T080000
END:DAYLIGHT
BEGIN:STANDARD
TZOFFSETFROM:-0500
TZOFFSETTO:-0600
TZNAME:CST
DTSTART:20241103T070000
END:STANDARD
BEGIN:DAYLIGHT
TZOFFSETFROM:-0600
TZOFFSETTO:-0500
TZNAME:CDT
DTSTART:20250309T080000
END:DAYLIGHT
BEGIN:STANDARD
TZOFFSETFROM:-0500
TZOFFSETTO:-0600
TZNAME:CST
DTSTART:20251102T070000
END:STANDARD
END:VTIMEZONE
BEGIN:VEVENT
DTSTART;TZID=America/Chicago:20241214T173000
DTEND;TZID=America/Chicago:20241214T203000
DTSTAMP:20260422T213403
CREATED:20241211T184341Z
LAST-MODIFIED:20241211T184341Z
UID:10005155-1734197400-1734208200@visitjacksontn.com
SUMMARY:Battle in the Burbs Lighting Contest 2024 - Benefitting The Star Center
DESCRIPTION:Battle in the Burbs is a festive competition celebrating the best holiday lights in the neighborhood. Drive through Wrights Mill and Wyndchase to admire dazzling displays and spot the “10 Category Winner” signs in front yards. Warm up with hot cocoa and visit Santa at Cocoa Cove (87 Pemberton in Wyndchase) while casting your vote for the “Final Fan Fave” winner. \nSupport the event by making a tax-deductible donation via the provided form. Don’t miss your chance to enjoy the magic\, spread holiday cheer\, and pick your favorite display! Voting opens December 14th at The Jackson Juniorettes Website.
URL:https://visitjacksontn.com/event/battle-in-the-burbs-lighting-contest-2024-benefitting-the-star-center/
LOCATION:McClellan Road\, McClellan Road\, Jackson\, TN\, 38305\, United States
CATEGORIES:Events
ATTACH;FMTTYPE=image/jpeg:https://visitjacksontn.com/wp-content/uploads/467591787_552133114373174_7449369379437869123_n.jpg
END:VEVENT
END:VCALENDAR