BEGIN:VCALENDAR
VERSION:2.0
PRODID:-//Jackson Tourism - ECPv6.15.20//NONSGML v1.0//EN
CALSCALE:GREGORIAN
METHOD:PUBLISH
X-ORIGINAL-URL:https://visitjacksontn.com
X-WR-CALDESC:Events for Jackson Tourism
REFRESH-INTERVAL;VALUE=DURATION:PT1H
X-Robots-Tag:noindex
X-PUBLISHED-TTL:PT1H
BEGIN:VTIMEZONE
TZID:America/Chicago
BEGIN:DAYLIGHT
TZOFFSETFROM:-0600
TZOFFSETTO:-0500
TZNAME:CDT
DTSTART:20220313T080000
END:DAYLIGHT
BEGIN:STANDARD
TZOFFSETFROM:-0500
TZOFFSETTO:-0600
TZNAME:CST
DTSTART:20221106T070000
END:STANDARD
BEGIN:DAYLIGHT
TZOFFSETFROM:-0600
TZOFFSETTO:-0500
TZNAME:CDT
DTSTART:20230312T080000
END:DAYLIGHT
BEGIN:STANDARD
TZOFFSETFROM:-0500
TZOFFSETTO:-0600
TZNAME:CST
DTSTART:20231105T070000
END:STANDARD
BEGIN:DAYLIGHT
TZOFFSETFROM:-0600
TZOFFSETTO:-0500
TZNAME:CDT
DTSTART:20240310T080000
END:DAYLIGHT
BEGIN:STANDARD
TZOFFSETFROM:-0500
TZOFFSETTO:-0600
TZNAME:CST
DTSTART:20241103T070000
END:STANDARD
END:VTIMEZONE
BEGIN:VEVENT
DTSTART;TZID=America/Chicago:20230713T183000
DTEND;TZID=America/Chicago:20230713T213000
DTSTAMP:20260425T195255
CREATED:20240411T192454Z
LAST-MODIFIED:20240411T192454Z
UID:10001731-1689273000-1689283800@visitjacksontn.com
SUMMARY:Unplugged Supper Club
DESCRIPTION:Come out to the FIRST of many UNPLUGGED SUPPER CLUB events at the new JACKSON’S KITCHEN & CATERING! Hosted by LoLo featuring Music by Kota! Thursday\, July 13th at 6:30 pm in downtown Jackson This ticket includes dinner and music by KOTA. Only 58 tickets available @ $65 to support their coming record on No Reverse Records. Tickets are sold in tables of 2 and 4 only! For more information\, visit ‘learn more.’
URL:https://visitjacksontn.com/event/unplugged-supper-club/
LOCATION:Jackson's Kitchen &amp; Catering\, 203 E. Lafayette St.\, TN
CATEGORIES:Music,Sports & Outdoor
ATTACH;FMTTYPE=image/jpeg:https://visitjacksontn.com/wp-content/uploads/356424550_1162833477947820_1866503728063005078_n-e1688394588749-uEOwMd.tmp_.jpg
END:VEVENT
END:VCALENDAR