BEGIN:VCALENDAR
VERSION:2.0
PRODID:-//Jackson Tourism - ECPv6.15.18//NONSGML v1.0//EN
CALSCALE:GREGORIAN
METHOD:PUBLISH
X-ORIGINAL-URL:https://visitjacksontn.com
X-WR-CALDESC:Events for Jackson Tourism
REFRESH-INTERVAL;VALUE=DURATION:PT1H
X-Robots-Tag:noindex
X-PUBLISHED-TTL:PT1H
BEGIN:VTIMEZONE
TZID:America/Chicago
BEGIN:DAYLIGHT
TZOFFSETFROM:-0600
TZOFFSETTO:-0500
TZNAME:CDT
DTSTART:20230312T080000
END:DAYLIGHT
BEGIN:STANDARD
TZOFFSETFROM:-0500
TZOFFSETTO:-0600
TZNAME:CST
DTSTART:20231105T070000
END:STANDARD
BEGIN:DAYLIGHT
TZOFFSETFROM:-0600
TZOFFSETTO:-0500
TZNAME:CDT
DTSTART:20240310T080000
END:DAYLIGHT
BEGIN:STANDARD
TZOFFSETFROM:-0500
TZOFFSETTO:-0600
TZNAME:CST
DTSTART:20241103T070000
END:STANDARD
BEGIN:DAYLIGHT
TZOFFSETFROM:-0600
TZOFFSETTO:-0500
TZNAME:CDT
DTSTART:20250309T080000
END:DAYLIGHT
BEGIN:STANDARD
TZOFFSETFROM:-0500
TZOFFSETTO:-0600
TZNAME:CST
DTSTART:20251102T070000
END:STANDARD
END:VTIMEZONE
BEGIN:VEVENT
DTSTART;TZID=America/Chicago:20240727T080000
DTEND;TZID=America/Chicago:20240727T170000
DTSTAMP:20260420T090306
CREATED:20240709T140426Z
LAST-MODIFIED:20240709T141954Z
UID:10002383-1722067200-1722099600@visitjacksontn.com
SUMMARY:7th Annual Community Clean-Up Day
DESCRIPTION:The City of Jackson\, TN’s Health and Sanitation Department will hold its seventh Community Clean-up Day (Mattress\, Tire\, and Furniture Disposal event) on Saturday\, July 27\, 2024\, from 8:00 a.m. – 12:00 p.m. at the Public Works Yard located at 164 Conalco Drive. \nEvent Guidelines: \n\nEvent is free for city of Jackson Residents\nNo Commercial Businesses\n4 Tires per vehicle\nFurniture (including recliners\, couches will be accepted)\nPaper shredding by DirectShred\nNo appliances with Freon or Refrigerant\nNo Hazardous Waste\n\nClick here for more event information.
URL:https://visitjacksontn.com/event/7th-annual-community-clean-up-day/
LOCATION:Jackson Recycling Center\, 74B Conalco Dr.\, Jackson\, TN\, 38301\, United States
CATEGORIES:Events
ATTACH;FMTTYPE=image/png:https://visitjacksontn.com/wp-content/uploads/Community-Clean-up-7.png
END:VEVENT
END:VCALENDAR