BEGIN:VCALENDAR
VERSION:2.0
PRODID:-//Jackson Tourism - ECPv6.15.18//NONSGML v1.0//EN
CALSCALE:GREGORIAN
METHOD:PUBLISH
X-WR-CALNAME:Jackson Tourism
X-ORIGINAL-URL:https://visitjacksontn.com
X-WR-CALDESC:Events for Jackson Tourism
REFRESH-INTERVAL;VALUE=DURATION:PT1H
X-Robots-Tag:noindex
X-PUBLISHED-TTL:PT1H
BEGIN:VTIMEZONE
TZID:America/Chicago
BEGIN:DAYLIGHT
TZOFFSETFROM:-0600
TZOFFSETTO:-0500
TZNAME:CDT
DTSTART:20220313T080000
END:DAYLIGHT
BEGIN:STANDARD
TZOFFSETFROM:-0500
TZOFFSETTO:-0600
TZNAME:CST
DTSTART:20221106T070000
END:STANDARD
BEGIN:DAYLIGHT
TZOFFSETFROM:-0600
TZOFFSETTO:-0500
TZNAME:CDT
DTSTART:20230312T080000
END:DAYLIGHT
BEGIN:STANDARD
TZOFFSETFROM:-0500
TZOFFSETTO:-0600
TZNAME:CST
DTSTART:20231105T070000
END:STANDARD
BEGIN:DAYLIGHT
TZOFFSETFROM:-0600
TZOFFSETTO:-0500
TZNAME:CDT
DTSTART:20240310T080000
END:DAYLIGHT
BEGIN:STANDARD
TZOFFSETFROM:-0500
TZOFFSETTO:-0600
TZNAME:CST
DTSTART:20241103T070000
END:STANDARD
BEGIN:DAYLIGHT
TZOFFSETFROM:-0600
TZOFFSETTO:-0500
TZNAME:CDT
DTSTART:20250309T080000
END:DAYLIGHT
BEGIN:STANDARD
TZOFFSETFROM:-0500
TZOFFSETTO:-0600
TZNAME:CST
DTSTART:20251102T070000
END:STANDARD
BEGIN:DAYLIGHT
TZOFFSETFROM:-0600
TZOFFSETTO:-0500
TZNAME:CDT
DTSTART:20260308T080000
END:DAYLIGHT
BEGIN:STANDARD
TZOFFSETFROM:-0500
TZOFFSETTO:-0600
TZNAME:CST
DTSTART:20261101T070000
END:STANDARD
END:VTIMEZONE
BEGIN:VEVENT
DTSTART;TZID=America/Chicago:20250927T190000
DTEND;TZID=America/Chicago:20250927T190000
DTSTAMP:20260420T072503
CREATED:20250506T201338Z
LAST-MODIFIED:20250506T201344Z
UID:10005552-1758999600-1758999600@visitjacksontn.com
SUMMARY:45th Annual Starlight Symphony
DESCRIPTION:An unforgettable evening under the stars\, this free community concert blends classical favorites\, American anthems\, big band flair\, and Broadway hits into one epic celebration. \nJoin The Jackson Symphony for a star-spangled night of musical magic for the whole family.
URL:https://visitjacksontn.com/event/45th-annual-starlight-symphony/
LOCATION:First Presbyterian Church\, 1573 North Highland Ave.\, Jackson\, TN\, 38301\, United States
CATEGORIES:Events,Music
ATTACH;FMTTYPE=image/avif:https://visitjacksontn.com/wp-content/uploads/Image-empty-state.avif
END:VEVENT
BEGIN:VEVENT
DTSTART;TZID=America/Chicago:20240928T190000
DTEND;TZID=America/Chicago:20240928T210000
DTSTAMP:20260420T072503
CREATED:20240520T174848Z
LAST-MODIFIED:20240814T174435Z
UID:10002229-1727550000-1727557200@visitjacksontn.com
SUMMARY:44th Annual Starlight Symphony
DESCRIPTION:The Jackson Symphony presents its 64th season. \nJoin the Symphony on Saturday\, September 28 at 7 pm at First Presbyterian Church for the 44th Annual Starlight Symphony concert. Celebrate Maestro Peter Shannon’s 10 Years as Conductor of The Jackson Symphony – hear both his and the community’s Pops favorites from the last decade\, as well as a season sneak peek! \nTo purchase season tickets\, click here. \n 
URL:https://visitjacksontn.com/event/44th-annual-starlight-symphony/
LOCATION:First Presbyterian Church\, 1573 North Highland Ave.\, Jackson\, TN\, 38301\, United States
CATEGORIES:Arts & Culture,Events,Music
ATTACH;FMTTYPE=image/jpeg:https://visitjacksontn.com/wp-content/uploads/455313977_1399175394363349_1524832934209780711_n.jpg
END:VEVENT
BEGIN:VEVENT
DTSTART;TZID=America/Chicago:20230930T190000
DTEND;TZID=America/Chicago:20230930T235000
DTSTAMP:20260420T072503
CREATED:20240411T192715Z
LAST-MODIFIED:20240411T192715Z
UID:10001825-1696100400-1696117800@visitjacksontn.com
SUMMARY:The Jackson Symphony - Starlight Symphony
DESCRIPTION:September 30\, 2023 7:00 PM First Presbyterian Church A tradition in Jackson for over 40 years\, the Starlight Symphony has dazzled audiences of all ages with classical\, patriotic\, and pops favorites. Enjoy an unforgettable evening of music under the stars. For more information\, click ‘Learn More’.
URL:https://visitjacksontn.com/event/the-jackson-symphony-starlight-symphony/
LOCATION:First Presbyterian Church\, 1573 North Highland Ave.\, Jackson\, TN\, 38301\, United States
CATEGORIES:Music,Sports & Outdoor
ATTACH;FMTTYPE=image/jpeg:https://visitjacksontn.com/wp-content/uploads/jackson-symphony-N3gA0I.tmp_.jpg
END:VEVENT
BEGIN:VEVENT
DTSTART;TZID=America/Chicago:20230917T093000
DTEND;TZID=America/Chicago:20230917T235000
DTSTAMP:20260420T072503
CREATED:20240411T192836Z
LAST-MODIFIED:20240411T192836Z
UID:10001875-1694943000-1694994600@visitjacksontn.com
SUMMARY:Festival of Hymns
DESCRIPTION:2023 marks the 200th Anniversary of First Presbyterian Church of Jackson\, TN! Join them as they celebrate this milestone. On September 17\, 2023 at 9:30am\, all are invited to join First Presbyterian Church for a special worship service celebrating the traditional hymns of their faith. Join them for the ‘Festival of Hymns’ on Sunday\, September 17th! Click ‘Learn More’ for more information.
URL:https://visitjacksontn.com/event/festival-of-hymns/
LOCATION:First Presbyterian Church\, 1573 North Highland Ave.\, Jackson\, TN\, 38301\, United States
CATEGORIES:Sports & Outdoor
ATTACH;FMTTYPE=image/jpeg:https://visitjacksontn.com/wp-content/uploads/First-Presbyterian-KvyKJG.tmp_.jpg
END:VEVENT
BEGIN:VEVENT
DTSTART;TZID=America/Chicago:20230205T150000
DTEND;TZID=America/Chicago:20230205T235000
DTSTAMP:20260420T072503
CREATED:20240411T193000Z
LAST-MODIFIED:20240411T193000Z
UID:10001960-1675609200-1675641000@visitjacksontn.com
SUMMARY:First Presbyterian Church's 200th Anniversary Concert
DESCRIPTION:Jonathan Dimmock\, a Grammy Award Winning Organist\, will help First Presbyterian Church\, 1573 North Highland Avenue\, celebrate its 200th anniversary\, at 3 p.m.\, Sunday\, February 5. Jonathan Dimmock is a graduate of Oberlin Conservatory and Yale University. He has held musical posts at Westminster Abbey in London and in three American Cathedrals\, including St. John the Divine in New York. Jonathan has also recorded over 30 albums and has toured 5 continents. The event is an open concert with no admission charge. For more information\, click ‘Learn More’.
URL:https://visitjacksontn.com/event/first-presbyterian-churchs-200th-anniversary-concert/
LOCATION:First Presbyterian Church\, 1573 North Highland Ave.\, Jackson\, TN\, 38301\, United States
CATEGORIES:Sports & Outdoor
ATTACH;FMTTYPE=image/jpeg:https://visitjacksontn.com/wp-content/uploads/First-Presbyterian-KvyKJG.tmp_.jpg
END:VEVENT
END:VCALENDAR