BEGIN:VCALENDAR
VERSION:2.0
PRODID:-//Jackson Tourism - ECPv6.15.18//NONSGML v1.0//EN
CALSCALE:GREGORIAN
METHOD:PUBLISH
X-WR-CALNAME:Jackson Tourism
X-ORIGINAL-URL:https://visitjacksontn.com
X-WR-CALDESC:Events for Jackson Tourism
REFRESH-INTERVAL;VALUE=DURATION:PT1H
X-Robots-Tag:noindex
X-PUBLISHED-TTL:PT1H
BEGIN:VTIMEZONE
TZID:America/Chicago
BEGIN:DAYLIGHT
TZOFFSETFROM:-0600
TZOFFSETTO:-0500
TZNAME:CDT
DTSTART:20220313T080000
END:DAYLIGHT
BEGIN:STANDARD
TZOFFSETFROM:-0500
TZOFFSETTO:-0600
TZNAME:CST
DTSTART:20221106T070000
END:STANDARD
BEGIN:DAYLIGHT
TZOFFSETFROM:-0600
TZOFFSETTO:-0500
TZNAME:CDT
DTSTART:20230312T080000
END:DAYLIGHT
BEGIN:STANDARD
TZOFFSETFROM:-0500
TZOFFSETTO:-0600
TZNAME:CST
DTSTART:20231105T070000
END:STANDARD
BEGIN:DAYLIGHT
TZOFFSETFROM:-0600
TZOFFSETTO:-0500
TZNAME:CDT
DTSTART:20240310T080000
END:DAYLIGHT
BEGIN:STANDARD
TZOFFSETFROM:-0500
TZOFFSETTO:-0600
TZNAME:CST
DTSTART:20241103T070000
END:STANDARD
BEGIN:DAYLIGHT
TZOFFSETFROM:-0600
TZOFFSETTO:-0500
TZNAME:CDT
DTSTART:20250309T080000
END:DAYLIGHT
BEGIN:STANDARD
TZOFFSETFROM:-0500
TZOFFSETTO:-0600
TZNAME:CST
DTSTART:20251102T070000
END:STANDARD
BEGIN:DAYLIGHT
TZOFFSETFROM:-0600
TZOFFSETTO:-0500
TZNAME:CDT
DTSTART:20260308T080000
END:DAYLIGHT
BEGIN:STANDARD
TZOFFSETFROM:-0500
TZOFFSETTO:-0600
TZNAME:CST
DTSTART:20261101T070000
END:STANDARD
BEGIN:DAYLIGHT
TZOFFSETFROM:-0600
TZOFFSETTO:-0500
TZNAME:CDT
DTSTART:20270314T080000
END:DAYLIGHT
BEGIN:STANDARD
TZOFFSETFROM:-0500
TZOFFSETTO:-0600
TZNAME:CST
DTSTART:20271107T070000
END:STANDARD
END:VTIMEZONE
BEGIN:VEVENT
DTSTART;TZID=America/Chicago:20260418T150000
DTEND;TZID=America/Chicago:20260418T170000
DTSTAMP:20260421T200806
CREATED:20260326T201926Z
LAST-MODIFIED:20260326T201926Z
UID:10006116-1776524400-1776531600@visitjacksontn.com
SUMMARY:All Nature Sings
DESCRIPTION:Join the Jackson Choral Society for their  spring concert “All Nature Sings” on April 18 at 3pm at FBC of Jackson. Come and enjoy a delightful mix of beautiful and humorous music celebrating the natural world around us. \nTickets will be available from singers and at the door – General Admission: $20; Students: $15.
URL:https://visitjacksontn.com/event/all-nature-sings/
LOCATION:First Baptist Church\, 1627 N Highland Ave.\, Jackson\, TN\, 38301\, United States
ATTACH;FMTTYPE=image/jpeg:https://visitjacksontn.com/wp-content/uploads/656169926_1555842379875953_8496824934246777135_n.jpg
END:VEVENT
BEGIN:VEVENT
DTSTART;TZID=America/Chicago:20250412T160000
DTEND;TZID=America/Chicago:20250412T160000
DTSTAMP:20260421T200806
CREATED:20250228T173513Z
LAST-MODIFIED:20250327T143723Z
UID:10005325-1744473600-1744473600@visitjacksontn.com
SUMMARY:"Hope and Deliverance" Choral Concert
DESCRIPTION:The Jackson Choral Society and the Lane College choir will combine for “Hope and Deliverance”. This dynamic and moving program that includes John Rutter’s “Requiem” and Mark Hayes’ “Spirit Suite”. The concert\, directed by Zach Young and Alexis Rainbow\, will be in the acoustically excellent and handicap accessible sanctuary of the First Baptist Church. Additional information is available on the JCS website\, or on Facebook. \nTickets will be available from choir members\, or at the door. Tickets are $15 for students and $20 for adults. Doors open 30 minutes before the concert.
URL:https://visitjacksontn.com/event/hope-and-deliverance-choral-concert/
LOCATION:First Baptist Church\, 1627 N Highland Ave.\, Jackson\, TN\, 38301\, United States
CATEGORIES:Arts & Culture,Events,Music
ATTACH;FMTTYPE=image/jpeg:https://visitjacksontn.com/wp-content/uploads/Hope-Deliverance-JCS-concert-sheet.jpg
END:VEVENT
BEGIN:VEVENT
DTSTART;TZID=America/Chicago:20241116T160000
DTEND;TZID=America/Chicago:20241116T160000
DTSTAMP:20260421T200806
CREATED:20241008T165548Z
LAST-MODIFIED:20241030T194329Z
UID:10002643-1731772800-1731772800@visitjacksontn.com
SUMMARY:"Seasons" Choral Concert
DESCRIPTION:The Jackson Choral Society’s fall concert will be a musical exploration of the theme “Seasons\,” an aspect of the human experience that all people understand and share\, yet rarely take the time to savor and celebrate. \nEach year has four seasons\, each with its own unique beauty\, traditions\, and moods. The audience will be taken on an imaginative journey through spring\, summer\, fall\, and winter\, featuring a variety of musical styles and poetic imagery. As a special bonus\, the concert will conclude with winter and a few Christmas songs to send the audience off on a cheerful note. \nGeneral admission tickets are $20\, and student tickets are $15. Tickets are available from the singers and at the door. Doors open at 3:30 PM.
URL:https://visitjacksontn.com/event/seasonschoralconcert/
LOCATION:First Baptist Church\, 1627 N Highland Ave.\, Jackson\, TN\, 38301\, United States
CATEGORIES:Arts & Culture,Events,Music
ATTACH;FMTTYPE=image/jpeg:https://visitjacksontn.com/wp-content/uploads/464286498_1099800218813507_2981859632396402642_n.jpg
END:VEVENT
BEGIN:VEVENT
DTSTART;TZID=America/Chicago:20240420T153000
DTEND;TZID=America/Chicago:20240420T170000
DTSTAMP:20260421T200806
CREATED:20240412T154307Z
LAST-MODIFIED:20240412T154307Z
UID:10002072-1713627000-1713632400@visitjacksontn.com
SUMMARY:Jackson Choral Society Spring Concert: "Light!"
DESCRIPTION:The Jackson Choral Society\, under the direction of Zach Young\, will be joined by members of the Jackson State Community College Innovation ensemble\, directed Esther Gray. The 80+ member combined choir will be accompanied by a string orchestra. The program will consist of several shorter pieces around the theme of “Light!\,” followed by the the Mid-South premier of Illuminare\, a recently-composed multi-movement choral work by Elaine Hagenberg. The piece takes us through a season of beauty and goodness that has been disrupted by darkness and confusion. But as Light gradually returns\, hope is restored\, illuminating our future and guiding us in peace. \nThe concert will be held at First Baptist Church on Saturday\, April 20 at 3:00 pm. Tickets are $20 at the door and $15 for students. For more information about Jackson Choral Society or the concert\, visit their Facebook page.
URL:https://visitjacksontn.com/event/jackson-choral-society-spring-concert-light/
LOCATION:First Baptist Church\, 1627 N Highland Ave.\, Jackson\, TN\, 38301\, United States
CATEGORIES:Arts & Culture,Events,Music
ATTACH;FMTTYPE=image/jpeg:https://visitjacksontn.com/wp-content/uploads/jackson-choral-society.jpg
END:VEVENT
BEGIN:VEVENT
DTSTART;TZID=America/Chicago:20231111T143000
DTEND;TZID=America/Chicago:20231111T235000
DTSTAMP:20260421T200806
CREATED:20240411T192110Z
LAST-MODIFIED:20240411T192110Z
UID:10001589-1699713000-1699746600@visitjacksontn.com
SUMMARY:Jackson Choral Society Fall Concert - Home""
DESCRIPTION:The Jackson Choral Society’s 70+ voice choir will be performing songs that explore\, ponder\, and celebrate some of what ‘home’ means to all of us. There will be a special tribute to our military veterans\, as we honor their bravery and sacrifice. Tickets are $20. $15 for military veterans\, active duty & reserve and students. Doors open at 2:30 pm and the concert will begin at 3:00 pm. For more information\, click learn more.
URL:https://visitjacksontn.com/event/jackson-choral-society-fall-concert-home/
LOCATION:First Baptist Church\, 1627 N Highland Ave.\, Jackson\, TN\, 38301\, United States
CATEGORIES:Music,Sports & Outdoor
ATTACH;FMTTYPE=image/jpeg:https://visitjacksontn.com/wp-content/uploads/344751550_1164532370910872_2361027790609057748_n-QfVdYB.tmp_.jpg
END:VEVENT
END:VCALENDAR