BEGIN:VCALENDAR
VERSION:2.0
PRODID:-//Jackson Tourism - ECPv6.15.20//NONSGML v1.0//EN
CALSCALE:GREGORIAN
METHOD:PUBLISH
X-WR-CALNAME:Jackson Tourism
X-ORIGINAL-URL:https://visitjacksontn.com
X-WR-CALDESC:Events for Jackson Tourism
REFRESH-INTERVAL;VALUE=DURATION:PT1H
X-Robots-Tag:noindex
X-PUBLISHED-TTL:PT1H
BEGIN:VTIMEZONE
TZID:America/Chicago
BEGIN:DAYLIGHT
TZOFFSETFROM:-0600
TZOFFSETTO:-0500
TZNAME:CDT
DTSTART:20220313T080000
END:DAYLIGHT
BEGIN:STANDARD
TZOFFSETFROM:-0500
TZOFFSETTO:-0600
TZNAME:CST
DTSTART:20221106T070000
END:STANDARD
BEGIN:DAYLIGHT
TZOFFSETFROM:-0600
TZOFFSETTO:-0500
TZNAME:CDT
DTSTART:20230312T080000
END:DAYLIGHT
BEGIN:STANDARD
TZOFFSETFROM:-0500
TZOFFSETTO:-0600
TZNAME:CST
DTSTART:20231105T070000
END:STANDARD
BEGIN:DAYLIGHT
TZOFFSETFROM:-0600
TZOFFSETTO:-0500
TZNAME:CDT
DTSTART:20240310T080000
END:DAYLIGHT
BEGIN:STANDARD
TZOFFSETFROM:-0500
TZOFFSETTO:-0600
TZNAME:CST
DTSTART:20241103T070000
END:STANDARD
BEGIN:DAYLIGHT
TZOFFSETFROM:-0600
TZOFFSETTO:-0500
TZNAME:CDT
DTSTART:20250309T080000
END:DAYLIGHT
BEGIN:STANDARD
TZOFFSETFROM:-0500
TZOFFSETTO:-0600
TZNAME:CST
DTSTART:20251102T070000
END:STANDARD
END:VTIMEZONE
BEGIN:VEVENT
DTSTART;TZID=America/Chicago:20241202T190000
DTEND;TZID=America/Chicago:20241202T190000
DTSTAMP:20260425T110907
CREATED:20241101T185027Z
LAST-MODIFIED:20241101T185500Z
UID:10002777-1733166000-1733166000@visitjacksontn.com
SUMMARY:Downtown Dyersburg Christmas Parade
DESCRIPTION:Mark your calendars for the Dyersburg Christmas Parade in Downtown Dyersburg! \nFor sponsorship information\, please call the Dyersburg/Dyer County Chamber of Commerce at 731-285-3433. \nTo participate\, click here for a printable entry form.
URL:https://visitjacksontn.com/event/downtown-dyersburg-christmas-parade-2/
LOCATION:Dyersburg\, TN\, Dyersburg\, TN\, Dyersburg\, TN\, 38024\, United States
CATEGORIES:Events
ATTACH;FMTTYPE=image/png:https://visitjacksontn.com/wp-content/uploads/christmas-open-house-post.png
END:VEVENT
BEGIN:VEVENT
DTSTART;TZID=America/Chicago:20231127T190000
DTEND;TZID=America/Chicago:20231127T235000
DTSTAMP:20260425T110907
CREATED:20240411T191936Z
LAST-MODIFIED:20240411T191936Z
UID:10001550-1701111600-1701129000@visitjacksontn.com
SUMMARY:Downtown Dyersburg Christmas Parade
DESCRIPTION:The Dyersburg Christmas Parade is one of everyone’s FAVORITE events in downtown Dyersburg! Mark your calendar now for Monday November 27th at 7pm! Want to be a sponsor? Call Dyersburg/Dyer County Chamber of Commerce at 731-285-3433 Want to participate? Click here for a printable entry form:https://lp.constantcontactpages.com/cu/ZGLpgep. For more information\, click learn more.
URL:https://visitjacksontn.com/event/downtown-dyersburg-christmas-parade/
LOCATION:Dyersburg\, TN\, Dyersburg\, TN\, Dyersburg\, TN\, 38024\, United States
CATEGORIES:Sports & Outdoor
ATTACH;FMTTYPE=image/jpeg:https://visitjacksontn.com/wp-content/uploads/393723271_373389388353044_7024260377831630909_n-jMUe4z.tmp_.jpg
END:VEVENT
BEGIN:VEVENT
DTSTART;VALUE=DATE:20231013
DTEND;VALUE=DATE:20231017
DTSTAMP:20260425T110907
CREATED:20240411T192142Z
LAST-MODIFIED:20240411T192142Z
UID:10001613-1697155200-1697500799@visitjacksontn.com
SUMMARY:Dyer County Bicentennial Celebration
DESCRIPTION:Celebrating the Past\, Present and Future of Historic Dyersburg! There will be live music\, food and family fun. Events will be happening across town all weekend! Saturday\, October 14 5K by Life Choices/Paws to Care Car & Truck Show by Dyersburg Street Rod Association Live Music & Events at the Farmers Market Live Music at the Pocket Park Sunday\, October 15 Local Churches Homecoming & Sing at Dyersburg Community College Monday\, October 16 Birthday Party at Pocket Park Downtown For more details\, click ‘learn more.’
URL:https://visitjacksontn.com/event/dyer-county-bicentennial-celebration/
LOCATION:Dyersburg\, TN\, Dyersburg\, TN\, Dyersburg\, TN\, 38024\, United States
CATEGORIES:Sports & Outdoor
ATTACH;FMTTYPE=image/jpeg:https://visitjacksontn.com/wp-content/uploads/335831879_2159610537580460_1507140892837732004_n-lE6Luc.tmp_.jpg
END:VEVENT
END:VCALENDAR