BEGIN:VCALENDAR
VERSION:2.0
PRODID:-//Jackson Tourism - ECPv6.15.18//NONSGML v1.0//EN
CALSCALE:GREGORIAN
METHOD:PUBLISH
X-ORIGINAL-URL:https://visitjacksontn.com
X-WR-CALDESC:Events for Jackson Tourism
REFRESH-INTERVAL;VALUE=DURATION:PT1H
X-Robots-Tag:noindex
X-PUBLISHED-TTL:PT1H
BEGIN:VTIMEZONE
TZID:America/Chicago
BEGIN:DAYLIGHT
TZOFFSETFROM:-0600
TZOFFSETTO:-0500
TZNAME:CDT
DTSTART:20220313T080000
END:DAYLIGHT
BEGIN:STANDARD
TZOFFSETFROM:-0500
TZOFFSETTO:-0600
TZNAME:CST
DTSTART:20221106T070000
END:STANDARD
BEGIN:DAYLIGHT
TZOFFSETFROM:-0600
TZOFFSETTO:-0500
TZNAME:CDT
DTSTART:20230312T080000
END:DAYLIGHT
BEGIN:STANDARD
TZOFFSETFROM:-0500
TZOFFSETTO:-0600
TZNAME:CST
DTSTART:20231105T070000
END:STANDARD
BEGIN:DAYLIGHT
TZOFFSETFROM:-0600
TZOFFSETTO:-0500
TZNAME:CDT
DTSTART:20240310T080000
END:DAYLIGHT
BEGIN:STANDARD
TZOFFSETFROM:-0500
TZOFFSETTO:-0600
TZNAME:CST
DTSTART:20241103T070000
END:STANDARD
BEGIN:DAYLIGHT
TZOFFSETFROM:-0600
TZOFFSETTO:-0500
TZNAME:CDT
DTSTART:20250309T080000
END:DAYLIGHT
BEGIN:STANDARD
TZOFFSETFROM:-0500
TZOFFSETTO:-0600
TZNAME:CST
DTSTART:20251102T070000
END:STANDARD
BEGIN:DAYLIGHT
TZOFFSETFROM:-0600
TZOFFSETTO:-0500
TZNAME:CDT
DTSTART:20260308T080000
END:DAYLIGHT
BEGIN:STANDARD
TZOFFSETFROM:-0500
TZOFFSETTO:-0600
TZNAME:CST
DTSTART:20261101T070000
END:STANDARD
END:VTIMEZONE
BEGIN:VEVENT
DTSTART;VALUE=DATE:20250627
DTEND;VALUE=DATE:20250705
DTSTAMP:20260420T073743
CREATED:20250609T210919Z
LAST-MODIFIED:20250609T210919Z
UID:10005607-1750982400-1751673599@visitjacksontn.com
SUMMARY:Dyer Station Celebration
DESCRIPTION:Celebrate this 4th of July at the Dyer Station Celebration! \nThis week-long celebration is filled with family-friendly activities\, music\, games\, and more
URL:https://visitjacksontn.com/event/dyer-station-celebration-2/
LOCATION:Dyer City Park\, David Robinson Park\, 296 Freemont St\, Dyer\, TN\, 38330\, United States
CATEGORIES:Arts & Culture,Events,Sports & Outdoor
ATTACH;FMTTYPE=image/png:https://visitjacksontn.com/wp-content/uploads/Independence-Day-1-1.png
END:VEVENT
BEGIN:VEVENT
DTSTART;TZID=America/Chicago:20240704T090000
DTEND;TZID=America/Chicago:20240704T220000
DTSTAMP:20260420T073743
CREATED:20240612T174135Z
LAST-MODIFIED:20240612T174135Z
UID:10002303-1720083600-1720130400@visitjacksontn.com
SUMMARY:Dyer Station Celebration
DESCRIPTION:9:00 am\nParade\nEast College Street \nArts & Crafts\, Food Trucks\, Contests & More\nDyer Park \n9:00 pm\nFireworks\nDyer Park \nClick here for more information on the 40th Anniversary Dyer Station Celebration!
URL:https://visitjacksontn.com/event/dyer-station-celebration/
LOCATION:Dyer City Park\, David Robinson Park\, 296 Freemont St\, Dyer\, TN\, 38330\, United States
CATEGORIES:Events
ATTACH;FMTTYPE=image/jpeg:https://visitjacksontn.com/wp-content/uploads/blue-digital-art-fireworks-display-imi48vr5zd404rkh.jpg
END:VEVENT
BEGIN:VEVENT
DTSTART;TZID=America/Chicago:20230704T210000
DTEND;TZID=America/Chicago:20230704T235000
DTSTAMP:20260420T073743
CREATED:20240411T192625Z
LAST-MODIFIED:20240411T192625Z
UID:10001797-1688504400-1688514600@visitjacksontn.com
SUMMARY:39th Annual Dyer Station Celebration - 4th of July
DESCRIPTION:Tuesday\, July 4th: Parade – 9:00 am\, East College St. Arts & Crafts at the Park – following parade Pet Show – 1:00 pm\, Dyer Park Fireworks Show – 9:00 pm\, Dyer Park For more information on the Dyer Station Celebration schedule of events\, click ‘Learn More’.
URL:https://visitjacksontn.com/event/39th-annual-dyer-station-celebration-4th-of-july/
LOCATION:Dyer City Park\, David Robinson Park\, 296 Freemont St\, Dyer\, TN\, 38330\, United States
CATEGORIES:Sports & Outdoor
ATTACH;FMTTYPE=image/jpeg:https://visitjacksontn.com/wp-content/uploads/2ff4e75eaa2752c41b3f47462ea6d55e-blue-fireworks-th-of-july-fireworks-7dtsiw.tmp_.jpg
END:VEVENT
END:VCALENDAR