BEGIN:VCALENDAR
VERSION:2.0
PRODID:-//Jackson Tourism - ECPv6.15.18//NONSGML v1.0//EN
CALSCALE:GREGORIAN
METHOD:PUBLISH
X-ORIGINAL-URL:https://visitjacksontn.com
X-WR-CALDESC:Events for Jackson Tourism
REFRESH-INTERVAL;VALUE=DURATION:PT1H
X-Robots-Tag:noindex
X-PUBLISHED-TTL:PT1H
BEGIN:VTIMEZONE
TZID:America/Chicago
BEGIN:DAYLIGHT
TZOFFSETFROM:-0600
TZOFFSETTO:-0500
TZNAME:CDT
DTSTART:20240310T080000
END:DAYLIGHT
BEGIN:STANDARD
TZOFFSETFROM:-0500
TZOFFSETTO:-0600
TZNAME:CST
DTSTART:20241103T070000
END:STANDARD
BEGIN:DAYLIGHT
TZOFFSETFROM:-0600
TZOFFSETTO:-0500
TZNAME:CDT
DTSTART:20250309T080000
END:DAYLIGHT
BEGIN:STANDARD
TZOFFSETFROM:-0500
TZOFFSETTO:-0600
TZNAME:CST
DTSTART:20251102T070000
END:STANDARD
BEGIN:DAYLIGHT
TZOFFSETFROM:-0600
TZOFFSETTO:-0500
TZNAME:CDT
DTSTART:20260308T080000
END:DAYLIGHT
BEGIN:STANDARD
TZOFFSETFROM:-0500
TZOFFSETTO:-0600
TZNAME:CST
DTSTART:20261101T070000
END:STANDARD
END:VTIMEZONE
BEGIN:VEVENT
DTSTART;TZID=America/Chicago:20250215T100000
DTEND;TZID=America/Chicago:20250215T180000
DTSTAMP:20260420T010256
CREATED:20250207T152404Z
LAST-MODIFIED:20250207T161538Z
UID:10005268-1739613600-1739642400@visitjacksontn.com
SUMMARY:Galentine's Pop-Up
DESCRIPTION:Celebrate women in business with a day of shopping\, beauty\, and fun at this Galentine’s Pop-Up! \nHosted by Dressed & Fitting Lingerie\, indulge in mini makeovers by Tiffany Vollmer\, design custom permanent jewelry with Janet Sweeney\, and savor handcrafted treats by Chef Kristin Kluck. Plus\, enjoy giveaways\, a photo booth\, and amazing local vendors—just in time for Valentine’s Day!
URL:https://visitjacksontn.com/event/galentines-pop-up/
LOCATION:Dressed\, by The Mother Thrifter\, 107 East Lafayette Street\, Jackson\, TN\, 38301\, United States
CATEGORIES:Events
ATTACH;FMTTYPE=image/jpeg:https://visitjacksontn.com/wp-content/uploads/476508505_1189723433158300_217272476514150520_n.jpg
END:VEVENT
END:VCALENDAR