BEGIN:VCALENDAR
VERSION:2.0
PRODID:-//Jackson Tourism - ECPv6.15.18//NONSGML v1.0//EN
CALSCALE:GREGORIAN
METHOD:PUBLISH
X-ORIGINAL-URL:https://visitjacksontn.com
X-WR-CALDESC:Events for Jackson Tourism
REFRESH-INTERVAL;VALUE=DURATION:PT1H
X-Robots-Tag:noindex
X-PUBLISHED-TTL:PT1H
BEGIN:VTIMEZONE
TZID:America/Chicago
BEGIN:DAYLIGHT
TZOFFSETFROM:-0600
TZOFFSETTO:-0500
TZNAME:CDT
DTSTART:20220313T080000
END:DAYLIGHT
BEGIN:STANDARD
TZOFFSETFROM:-0500
TZOFFSETTO:-0600
TZNAME:CST
DTSTART:20221106T070000
END:STANDARD
BEGIN:DAYLIGHT
TZOFFSETFROM:-0600
TZOFFSETTO:-0500
TZNAME:CDT
DTSTART:20230312T080000
END:DAYLIGHT
BEGIN:STANDARD
TZOFFSETFROM:-0500
TZOFFSETTO:-0600
TZNAME:CST
DTSTART:20231105T070000
END:STANDARD
BEGIN:DAYLIGHT
TZOFFSETFROM:-0600
TZOFFSETTO:-0500
TZNAME:CDT
DTSTART:20240310T080000
END:DAYLIGHT
BEGIN:STANDARD
TZOFFSETFROM:-0500
TZOFFSETTO:-0600
TZNAME:CST
DTSTART:20241103T070000
END:STANDARD
BEGIN:DAYLIGHT
TZOFFSETFROM:-0600
TZOFFSETTO:-0500
TZNAME:CDT
DTSTART:20250309T080000
END:DAYLIGHT
BEGIN:STANDARD
TZOFFSETFROM:-0500
TZOFFSETTO:-0600
TZNAME:CST
DTSTART:20251102T070000
END:STANDARD
BEGIN:DAYLIGHT
TZOFFSETFROM:-0600
TZOFFSETTO:-0500
TZNAME:CDT
DTSTART:20260308T080000
END:DAYLIGHT
BEGIN:STANDARD
TZOFFSETFROM:-0500
TZOFFSETTO:-0600
TZNAME:CST
DTSTART:20261101T070000
END:STANDARD
END:VTIMEZONE
BEGIN:VEVENT
DTSTART;TZID=America/Chicago:20251018T100000
DTEND;TZID=America/Chicago:20251018T140000
DTSTAMP:20260421T062830
CREATED:20251001T181042Z
LAST-MODIFIED:20251001T181042Z
UID:10005724-1760781600-1760796000@visitjacksontn.com
SUMMARY:4th Annual Casey Jones Village Festival
DESCRIPTION:Join us on Saturday\, October 18th\, 2025\, at The Farm for the 4th Annual Casey Jones Village Festival with arts and crafts\, food\, mini golf\, petting zoo\, and much more! Festivities will take place on The Farm at the Old Country Store and the Casey Jones Village where guests can enjoy the work of local small businesses and vendors.
URL:https://visitjacksontn.com/event/4th-annual-casey-jones-village-festival/
LOCATION:Casey Jones Village\, 56 Casey Jones Lane\, Jackson\, TN\, 38305\, United States
CATEGORIES:Arts & Culture,Events
ATTACH;FMTTYPE=image/png:https://visitjacksontn.com/wp-content/uploads/Casey-Jones-Village-4-x-5-in-1.png-1.png
END:VEVENT
BEGIN:VEVENT
DTSTART;TZID=America/Chicago:20241019T100000
DTEND;TZID=America/Chicago:20241019T160000
DTSTAMP:20260421T062830
CREATED:20240916T155929Z
LAST-MODIFIED:20240916T160255Z
UID:10002563-1729332000-1729353600@visitjacksontn.com
SUMMARY:Casey Jones Village Festival 2024
DESCRIPTION:Join us for the 3rd annual festival on Saturday\, October 19th\, from 10AM to 4PM! Enjoy a petting zoo\, mini golf\, kid’s activities\, arts and craft\, live music\, and more. Explore the Casey Jones Museum and the Art in The Village gallery while browsing local vendors!
URL:https://visitjacksontn.com/event/casey-jones-village-festival-2024/
LOCATION:Casey Jones Village\, 56 Casey Jones Lane\, Jackson\, TN\, 38305\, United States
CATEGORIES:Arts & Culture,Events,History & Civil War,Music,Sports & Outdoor
ATTACH;FMTTYPE=image/jpeg:https://visitjacksontn.com/wp-content/uploads/Casey-Jones-Village-Festival.jpg
END:VEVENT
BEGIN:VEVENT
DTSTART;TZID=America/Chicago:20241019T100000
DTEND;TZID=America/Chicago:20241019T140000
DTSTAMP:20260421T062830
CREATED:20240724T153110Z
LAST-MODIFIED:20240724T153110Z
UID:10002423-1729332000-1729346400@visitjacksontn.com
SUMMARY:Children's Entrepreneur Market
DESCRIPTION:A farmer’s market run entirely by kids! ChildrensEntrepreneurMarket.com \nRegistration is open now.We will be joining the Casey Jones Fall Festival! \nOur website is the ONLY place to register. \nClick here for more event information.
URL:https://visitjacksontn.com/event/childrens-entrepreneur-market/
LOCATION:Casey Jones Village\, 56 Casey Jones Lane\, Jackson\, TN\, 38305\, United States
CATEGORIES:Events
ATTACH;FMTTYPE=image/jpeg:https://visitjacksontn.com/wp-content/uploads/444935313_429598876609427_6074048960256152013_n-e1721835044746.jpg
END:VEVENT
BEGIN:VEVENT
DTSTART;TZID=America/Chicago:20231014T100000
DTEND;TZID=America/Chicago:20231014T160000
DTSTAMP:20260421T062830
CREATED:20240411T192925Z
LAST-MODIFIED:20240411T192925Z
UID:10001924-1697277600-1697299200@visitjacksontn.com
SUMMARY:Casey Jones Village Festival
DESCRIPTION:The 2nd annual festival will be Saturday\, October 21st from 10am to 4pm. Guests can enjoy Children’s games\, arts and crafts\, and live music as the highlights of the festival. Food vendors and local businesses will be in attendance\, providing a one-stop shopping experience of West TN businesses. Guest will be able to utilize the Festival Passport\, where they will receive a special treat upon completing visits to locations throughout the village\, including the Casey Jones\, Train Museum and the Art In The Village art gallery. The event is free to attend\, however certain vendors may charge.
URL:https://visitjacksontn.com/event/casey-jones-village-festival/
LOCATION:Casey Jones Village\, 56 Casey Jones Lane\, Jackson\, TN\, 38305\, United States
CATEGORIES:Sports & Outdoor
ATTACH;FMTTYPE=image/jpeg:https://visitjacksontn.com/wp-content/uploads/CaseyJonesHomeAndRRMuseumTrain-2-1-a58iUc.tmp_.jpg
END:VEVENT
BEGIN:VEVENT
DTSTART;TZID=America/Chicago:20230605T103000
DTEND;TZID=America/Chicago:20230605T235000
DTSTAMP:20260421T062830
CREATED:20240411T192710Z
LAST-MODIFIED:20240411T192710Z
UID:10001819-1685961000-1686009000@visitjacksontn.com
SUMMARY:Craft Camp at the Museum
DESCRIPTION:Every Monday in June the Casey Jones Museum is hosting Craft Camp at the Museum at 10:30 am. For more information\, click ‘Learn More’.
URL:https://visitjacksontn.com/event/craft-camp-at-the-museum/
LOCATION:Casey Jones Village\, 56 Casey Jones Lane\, Jackson\, TN\, 38305\, United States
CATEGORIES:Sports & Outdoor
ATTACH;FMTTYPE=image/jpeg:https://visitjacksontn.com/wp-content/uploads/art-supplies-g7c6e2200d_1280-p3F3mq.tmp_.jpg
END:VEVENT
BEGIN:VEVENT
DTSTART;TZID=America/Chicago:20230415T100000
DTEND;TZID=America/Chicago:20230415T140000
DTSTAMP:20260421T062830
CREATED:20240411T192852Z
LAST-MODIFIED:20240411T192852Z
UID:10001893-1681552800-1681567200@visitjacksontn.com
SUMMARY:Petting Zoo at Casey Jones Village
DESCRIPTION:The Old Country Store will be hosting a FREE Petting Zoo on The Farm at Casey Jones Village this Saturday\, April 15th\, from 10am to 2pm! There will be baby farm animals and exotic animals\, such as a lemur\, baby kangaroo\, and tortoise. Bring your whole family out to enjoy this weekend!
URL:https://visitjacksontn.com/event/petting-zoo-at-casey-jones-village/
LOCATION:Casey Jones Village\, 56 Casey Jones Lane\, Jackson\, TN\, 38305\, United States
CATEGORIES:Sports & Outdoor
ATTACH;FMTTYPE=image/jpeg:https://visitjacksontn.com/wp-content/uploads/petting-zoo-old-country-store-6I6w85.tmp_.jpg
END:VEVENT
BEGIN:VEVENT
DTSTART;VALUE=DATE:20230213
DTEND;VALUE=DATE:20230216
DTSTAMP:20260421T062830
CREATED:20240411T193109Z
LAST-MODIFIED:20240411T193109Z
UID:10002024-1676246400-1676505599@visitjacksontn.com
SUMMARY:Brooks Shaw's Old Country Store - A Valentine's Celebration 2023
DESCRIPTION:It’s that time of year again to start planning your Valentine’s Date! The Old Country Store would love for you to join them for a unique night of dining in their antebellum home The Providence House in Casey Jones Village! They will be taking reservations for three nights with two seating choices each night. They can accommodate couples and limited space for paired couples each seating (up to 4 Guests). More information on the delicious menu items and link to reserve soon! What: Elegant 3 Course Dining Experience Where: The 1837 Providence House Dates: Monday 2/13\, Tuesday 2/14\, Wednesday 2/15 Times: 5:30pm seating\, 7:30pm seating Price: $140/couple\, plus tax. Price includes gratuity for the servers\, but additional tipping is welcome. *Reservations must be made by 12:00pm on February 8th. Tickets are available on a first come\, first served basis on their website. Payment is due in full at the time of your reservation. Link coming soon\, check the Brooks Shaw’s Old Country Store Facebook page for updates!*
URL:https://visitjacksontn.com/event/brooks-shaws-old-country-store-a-valentines-celebration-2023/
LOCATION:Casey Jones Village\, 56 Casey Jones Lane\, Jackson\, TN\, 38305\, United States
CATEGORIES:Sports & Outdoor
ATTACH;FMTTYPE=image/png:https://visitjacksontn.com/wp-content/uploads/old-country-store-valentines-dinner-pic-UIfTPB.tmp_.png
END:VEVENT
END:VCALENDAR