BEGIN:VCALENDAR
VERSION:2.0
PRODID:-//Jackson Tourism - ECPv6.15.18//NONSGML v1.0//EN
CALSCALE:GREGORIAN
METHOD:PUBLISH
X-ORIGINAL-URL:https://visitjacksontn.com
X-WR-CALDESC:Events for Jackson Tourism
REFRESH-INTERVAL;VALUE=DURATION:PT1H
X-Robots-Tag:noindex
X-PUBLISHED-TTL:PT1H
BEGIN:VTIMEZONE
TZID:America/Chicago
BEGIN:DAYLIGHT
TZOFFSETFROM:-0600
TZOFFSETTO:-0500
TZNAME:CDT
DTSTART:20240310T080000
END:DAYLIGHT
BEGIN:STANDARD
TZOFFSETFROM:-0500
TZOFFSETTO:-0600
TZNAME:CST
DTSTART:20241103T070000
END:STANDARD
BEGIN:DAYLIGHT
TZOFFSETFROM:-0600
TZOFFSETTO:-0500
TZNAME:CDT
DTSTART:20250309T080000
END:DAYLIGHT
BEGIN:STANDARD
TZOFFSETFROM:-0500
TZOFFSETTO:-0600
TZNAME:CST
DTSTART:20251102T070000
END:STANDARD
BEGIN:DAYLIGHT
TZOFFSETFROM:-0600
TZOFFSETTO:-0500
TZNAME:CDT
DTSTART:20260308T080000
END:DAYLIGHT
BEGIN:STANDARD
TZOFFSETFROM:-0500
TZOFFSETTO:-0600
TZNAME:CST
DTSTART:20261101T070000
END:STANDARD
BEGIN:DAYLIGHT
TZOFFSETFROM:-0600
TZOFFSETTO:-0500
TZNAME:CDT
DTSTART:20270314T080000
END:DAYLIGHT
BEGIN:STANDARD
TZOFFSETFROM:-0500
TZOFFSETTO:-0600
TZNAME:CST
DTSTART:20271107T070000
END:STANDARD
END:VTIMEZONE
BEGIN:VEVENT
DTSTART;TZID=America/Chicago:20260302T190000
DTEND;TZID=America/Chicago:20260302T190000
DTSTAMP:20260420T203531
CREATED:20260217T173537Z
LAST-MODIFIED:20260217T173537Z
UID:10006003-1772478000-1772478000@visitjacksontn.com
SUMMARY:Disney’s Descendants: The Musical
DESCRIPTION:Based on the popular Disney Channel Original Movies\, Disney’s Descendants: The Musical is a brand-new musical jam-packed with comedy\, adventure\, Disney characters\, and hit songs from the films!Imprisoned on the Isle of the Lost – home of the most infamous villains who ever lived – the teenage children of Maleficent\, the Evil Queen\, Jafar\, and Cruella De Vil have never ventured off the island… until now. When the four troublemakers are sent to attend prep school alongside the children of beloved Disney heroes\, they have a difficult choice to make: should they follow in their parents’ wicked footsteps or learn to be good?
URL:https://visitjacksontn.com/event/disneys-descendants-the-musical/2026-03-02/
LOCATION:Blankenship Theater\, 232 McCellan Rd\, Jackson\, 38305\, United States
CATEGORIES:Events,Music
ATTACH;FMTTYPE=image/jpeg:https://visitjacksontn.com/wp-content/uploads/629844045_1497288465736000_3153236222039875075_n.jpg
END:VEVENT
BEGIN:VEVENT
DTSTART;TZID=America/Chicago:20260301T140000
DTEND;TZID=America/Chicago:20260301T140000
DTSTAMP:20260420T203531
CREATED:20260217T173537Z
LAST-MODIFIED:20260217T173537Z
UID:10006002-1772373600-1772373600@visitjacksontn.com
SUMMARY:Disney’s Descendants: The Musical
DESCRIPTION:Based on the popular Disney Channel Original Movies\, Disney’s Descendants: The Musical is a brand-new musical jam-packed with comedy\, adventure\, Disney characters\, and hit songs from the films!Imprisoned on the Isle of the Lost – home of the most infamous villains who ever lived – the teenage children of Maleficent\, the Evil Queen\, Jafar\, and Cruella De Vil have never ventured off the island… until now. When the four troublemakers are sent to attend prep school alongside the children of beloved Disney heroes\, they have a difficult choice to make: should they follow in their parents’ wicked footsteps or learn to be good?
URL:https://visitjacksontn.com/event/disneys-descendants-the-musical/2026-03-01/
LOCATION:Blankenship Theater\, 232 McCellan Rd\, Jackson\, 38305\, United States
CATEGORIES:Events,Music
ATTACH;FMTTYPE=image/jpeg:https://visitjacksontn.com/wp-content/uploads/629844045_1497288465736000_3153236222039875075_n.jpg
END:VEVENT
BEGIN:VEVENT
DTSTART;TZID=America/Chicago:20260228T190000
DTEND;TZID=America/Chicago:20260228T190000
DTSTAMP:20260420T203531
CREATED:20260217T173537Z
LAST-MODIFIED:20260217T173537Z
UID:10006001-1772305200-1772305200@visitjacksontn.com
SUMMARY:Disney’s Descendants: The Musical
DESCRIPTION:Based on the popular Disney Channel Original Movies\, Disney’s Descendants: The Musical is a brand-new musical jam-packed with comedy\, adventure\, Disney characters\, and hit songs from the films!Imprisoned on the Isle of the Lost – home of the most infamous villains who ever lived – the teenage children of Maleficent\, the Evil Queen\, Jafar\, and Cruella De Vil have never ventured off the island… until now. When the four troublemakers are sent to attend prep school alongside the children of beloved Disney heroes\, they have a difficult choice to make: should they follow in their parents’ wicked footsteps or learn to be good?
URL:https://visitjacksontn.com/event/disneys-descendants-the-musical/2026-02-28/
LOCATION:Blankenship Theater\, 232 McCellan Rd\, Jackson\, 38305\, United States
CATEGORIES:Events,Music
ATTACH;FMTTYPE=image/jpeg:https://visitjacksontn.com/wp-content/uploads/629844045_1497288465736000_3153236222039875075_n.jpg
END:VEVENT
BEGIN:VEVENT
DTSTART;TZID=America/Chicago:20251212T190000
DTEND;TZID=America/Chicago:20251214T140000
DTSTAMP:20260420T203531
CREATED:20251201T202457Z
LAST-MODIFIED:20251201T202457Z
UID:10005787-1765566000-1765720800@visitjacksontn.com
SUMMARY:A Christmas Story
DESCRIPTION:Humorist Jean Shepherd’s memoir of growing up in the Midwest in the 1940s follows 9-year-old Ralphie Parker in his quest to get a genuine Red Ryder BB gun under the tree for Christmas. Ralphie pleads his case before his mother\, his teacher\, and even Santa Claus himself at Higbee’s Department Store. The consistent response: “You’ll shoot your eye out!” All the elements from the beloved motion picture are here\, including the family’s temperamental exploding furnace; Scut Farkas\, the school bully; the boys’ experiment with a wet tongue on a cold lamppost; the Little Orphan Annie decoder pin; Ralphie’s father winning a lamp shaped like a woman’s leg in a net stocking; Ralphie’s fantasy scenarios and more. A Christmas Story is destined to become a theatrical holiday perennial.
URL:https://visitjacksontn.com/event/a-christmas-story-2/
LOCATION:Blankenship Theater\, 232 McCellan Rd\, Jackson\, 38305\, United States
CATEGORIES:Events
ATTACH;FMTTYPE=image/jpeg:https://visitjacksontn.com/wp-content/uploads/584714069_1428962749235239_7648981902928726235_n.jpg
END:VEVENT
END:VCALENDAR