BEGIN:VCALENDAR
VERSION:2.0
PRODID:-//Jackson Tourism - ECPv6.15.20//NONSGML v1.0//EN
CALSCALE:GREGORIAN
METHOD:PUBLISH
X-WR-CALNAME:Jackson Tourism
X-ORIGINAL-URL:https://visitjacksontn.com
X-WR-CALDESC:Events for Jackson Tourism
REFRESH-INTERVAL;VALUE=DURATION:PT1H
X-Robots-Tag:noindex
X-PUBLISHED-TTL:PT1H
BEGIN:VTIMEZONE
TZID:America/Chicago
BEGIN:DAYLIGHT
TZOFFSETFROM:-0600
TZOFFSETTO:-0500
TZNAME:CDT
DTSTART:20220313T080000
END:DAYLIGHT
BEGIN:STANDARD
TZOFFSETFROM:-0500
TZOFFSETTO:-0600
TZNAME:CST
DTSTART:20221106T070000
END:STANDARD
BEGIN:DAYLIGHT
TZOFFSETFROM:-0600
TZOFFSETTO:-0500
TZNAME:CDT
DTSTART:20230312T080000
END:DAYLIGHT
BEGIN:STANDARD
TZOFFSETFROM:-0500
TZOFFSETTO:-0600
TZNAME:CST
DTSTART:20231105T070000
END:STANDARD
BEGIN:DAYLIGHT
TZOFFSETFROM:-0600
TZOFFSETTO:-0500
TZNAME:CDT
DTSTART:20240310T080000
END:DAYLIGHT
BEGIN:STANDARD
TZOFFSETFROM:-0500
TZOFFSETTO:-0600
TZNAME:CST
DTSTART:20241103T070000
END:STANDARD
BEGIN:DAYLIGHT
TZOFFSETFROM:-0600
TZOFFSETTO:-0500
TZNAME:CDT
DTSTART:20250309T080000
END:DAYLIGHT
BEGIN:STANDARD
TZOFFSETFROM:-0500
TZOFFSETTO:-0600
TZNAME:CST
DTSTART:20251102T070000
END:STANDARD
BEGIN:DAYLIGHT
TZOFFSETFROM:-0600
TZOFFSETTO:-0500
TZNAME:CDT
DTSTART:20260308T080000
END:DAYLIGHT
BEGIN:STANDARD
TZOFFSETFROM:-0500
TZOFFSETTO:-0600
TZNAME:CST
DTSTART:20261101T070000
END:STANDARD
END:VTIMEZONE
BEGIN:VEVENT
DTSTART;VALUE=DATE:20250303
DTEND;VALUE=DATE:20250304
DTSTAMP:20260424T225235
CREATED:20241106T163441Z
LAST-MODIFIED:20250303T162133Z
UID:10002832-1740960000-1741046399@visitjacksontn.com
SUMMARY:Ames Plantation Field Trials
DESCRIPTION:Get ready for some fun in the fields! \n\nMarch 3rd: The National Amateur Shooting Dog & Derby Championship
URL:https://visitjacksontn.com/event/ames-plantation-field-trails-6/
LOCATION:Ames Plantation\, 4275 Buford Ellington Rd\, Grand Junction\, TN\, 38039\, United States
CATEGORIES:Events,Sports & Outdoor
ATTACH;FMTTYPE=image/jpeg:https://visitjacksontn.com/wp-content/uploads/ames-scaled.jpg
END:VEVENT
BEGIN:VEVENT
DTSTART;VALUE=DATE:20250210
DTEND;VALUE=DATE:20250211
DTSTAMP:20260424T225235
CREATED:20241106T163252Z
LAST-MODIFIED:20241211T154155Z
UID:10002831-1739145600-1739231999@visitjacksontn.com
SUMMARY:Ames Plantation Field Trials
DESCRIPTION:Get ready for some fun in the fields! \n\nFebruary 10th: The Running of the 2025 National Championship\n\n  \n\nMarch 3rd: The National Amateur Shooting Dog & Derby Championship
URL:https://visitjacksontn.com/event/ames-plantation-field-trails-5/
LOCATION:Ames Plantation\, 4275 Buford Ellington Rd\, Grand Junction\, TN\, 38039\, United States
CATEGORIES:Events,Sports & Outdoor
ATTACH;FMTTYPE=image/jpeg:https://visitjacksontn.com/wp-content/uploads/ames-scaled.jpg
END:VEVENT
BEGIN:VEVENT
DTSTART;VALUE=DATE:20250208
DTEND;VALUE=DATE:20250209
DTSTAMP:20260424T225235
CREATED:20241106T162833Z
LAST-MODIFIED:20241219T152757Z
UID:10002830-1738972800-1739059199@visitjacksontn.com
SUMMARY:Ames Plantation Field Trials
DESCRIPTION:Get ready for some fun in the fields! \n\nFebruary 8th: Drawing for the Order of Running for the 2025 National Championship\n\n  \n\nFebruary 10th: The Running of the 2025 National Championship\n\n  \n\nMarch 3rd: The National Amateur Shooting Dog & Derby Championship\n\n 
URL:https://visitjacksontn.com/event/ames-plantation-field-trails-4/
LOCATION:Ames Plantation\, 4275 Buford Ellington Rd\, Grand Junction\, TN\, 38039\, United States
CATEGORIES:Events,Sports & Outdoor
ATTACH;FMTTYPE=image/jpeg:https://visitjacksontn.com/wp-content/uploads/ames-scaled.jpg
END:VEVENT
BEGIN:VEVENT
DTSTART;VALUE=DATE:20250113
DTEND;VALUE=DATE:20250117
DTSTAMP:20260424T225235
CREATED:20241106T162720Z
LAST-MODIFIED:20241206T211510Z
UID:10002829-1736726400-1737071999@visitjacksontn.com
SUMMARY:Ames Plantation Field Trials
DESCRIPTION:Get ready for some fun in the fields! \n\n*Dates are subject to change* January 13th-16th: The Hobart Ames Open All Age\n\n  \n\nFebruary 8th: Drawing for the Order of Running for the 2025 National Championship\n\n  \n\nFebruary 10th: The Running of the 2025 National Championship\n\n  \n\nMarch 3rd: The National Amateur Shooting Dog & Derby Championship\n\n 
URL:https://visitjacksontn.com/event/ames-plantation-field-trails-3/
LOCATION:Ames Plantation\, 4275 Buford Ellington Rd\, Grand Junction\, TN\, 38039\, United States
CATEGORIES:Events,Sports & Outdoor
ATTACH;FMTTYPE=image/jpeg:https://visitjacksontn.com/wp-content/uploads/ames-scaled.jpg
END:VEVENT
BEGIN:VEVENT
DTSTART;VALUE=DATE:20241230
DTEND;VALUE=DATE:20250105
DTSTAMP:20260424T225235
CREATED:20241106T162551Z
LAST-MODIFIED:20241206T211532Z
UID:10002827-1735516800-1736035199@visitjacksontn.com
SUMMARY:Ames Plantation Field Trials
DESCRIPTION:Get ready for some fun in the fields! \n\n*Dates are subject to change* December 30th-January 4th\, 2025: The Ames Amateur\n\n  \n\n*Dates are subject to change* January 13th-16th: The Hobart Ames Open All Age\n\n  \n\nFebruary 8th: Drawing for the Order of Running for the 2025 National Championship\n\n  \n\nFebruary 10th: The Running of the 2025 National Championship\n\n  \n\nMarch 3rd: The National Amateur Shooting Dog & Derby Championship\n\n 
URL:https://visitjacksontn.com/event/ames-plantation-field-trails-2/
LOCATION:Ames Plantation\, 4275 Buford Ellington Rd\, Grand Junction\, TN\, 38039\, United States
CATEGORIES:Events,Sports & Outdoor
ATTACH;FMTTYPE=image/jpeg:https://visitjacksontn.com/wp-content/uploads/ames-scaled.jpg
END:VEVENT
BEGIN:VEVENT
DTSTART;VALUE=DATE:20241209
DTEND;VALUE=DATE:20241212
DTSTAMP:20260424T225235
CREATED:20241105T181048Z
LAST-MODIFIED:20241206T212802Z
UID:10002812-1733702400-1733961599@visitjacksontn.com
SUMMARY:Ames Plantation Field Trials
DESCRIPTION:Get ready for some fun in the fields! \n  \n\nDecember 9th – December 11th: The National Amateur All Age Invitational\n\n  \n\n*Dates are subject to change* December 30th-January 4th\, 2025: The Ames Amateur\n\n  \n\n*Dates are subject to change* January 13th-16th: The Hobart Ames Open All Age\n\n  \n\nFebruary 8th: Drawing for the Order of Running for the 2025 National Championship\n\n  \n\nFebruary 10th: The Running of the 2025 National Championship\n\n  \n\nMarch 3rd: The National Amateur Shooting Dog & Derby Championship\n\n  \n 
URL:https://visitjacksontn.com/event/ames-plantation-field-trails/
LOCATION:Ames Plantation\, 4275 Buford Ellington Rd\, Grand Junction\, TN\, 38039\, United States
CATEGORIES:Events,Sports & Outdoor
ATTACH;FMTTYPE=image/jpeg:https://visitjacksontn.com/wp-content/uploads/ames-scaled.jpg
END:VEVENT
BEGIN:VEVENT
DTSTART;VALUE=DATE:20230213
DTEND;VALUE=DATE:20230214
DTSTAMP:20260424T225235
CREATED:20240411T193108Z
LAST-MODIFIED:20240411T193108Z
UID:10002023-1676246400-1676332799@visitjacksontn.com
SUMMARY:2023 National Championship at Ames Plantation
DESCRIPTION:The 124th running of the National Championship will begin on Monday\, February 13th\, 2023. The Drawing will be held on the Ames Plantation in Bryan Hall on Saturday February 11\, 2023 at 7:00 p.m. You can visit their website at www.amesplantation.org for nominations\, the order of running and twice daily updates throughout the competition. Click Learn More for more information.
URL:https://visitjacksontn.com/event/2023-national-championship-at-ames-plantation/
LOCATION:Ames Plantation\, 4275 Buford Ellington Rd\, Grand Junction\, TN\, 38039\, United States
CATEGORIES:Sports & Outdoor
ATTACH;FMTTYPE=image/jpeg:https://visitjacksontn.com/wp-content/uploads/ames-plantation-2023-national-championship-HZKWH3.tmp_.jpg
END:VEVENT
END:VCALENDAR