BEGIN:VCALENDAR
VERSION:2.0
PRODID:-//Jackson Tourism - ECPv6.15.18//NONSGML v1.0//EN
CALSCALE:GREGORIAN
METHOD:PUBLISH
X-ORIGINAL-URL:https://visitjacksontn.com
X-WR-CALDESC:Events for Jackson Tourism
REFRESH-INTERVAL;VALUE=DURATION:PT1H
X-Robots-Tag:noindex
X-PUBLISHED-TTL:PT1H
BEGIN:VTIMEZONE
TZID:America/Chicago
BEGIN:DAYLIGHT
TZOFFSETFROM:-0600
TZOFFSETTO:-0500
TZNAME:CDT
DTSTART:20240310T080000
END:DAYLIGHT
BEGIN:STANDARD
TZOFFSETFROM:-0500
TZOFFSETTO:-0600
TZNAME:CST
DTSTART:20241103T070000
END:STANDARD
BEGIN:DAYLIGHT
TZOFFSETFROM:-0600
TZOFFSETTO:-0500
TZNAME:CDT
DTSTART:20250309T080000
END:DAYLIGHT
BEGIN:STANDARD
TZOFFSETFROM:-0500
TZOFFSETTO:-0600
TZNAME:CST
DTSTART:20251102T070000
END:STANDARD
BEGIN:DAYLIGHT
TZOFFSETFROM:-0600
TZOFFSETTO:-0500
TZNAME:CDT
DTSTART:20260308T080000
END:DAYLIGHT
BEGIN:STANDARD
TZOFFSETFROM:-0500
TZOFFSETTO:-0600
TZNAME:CST
DTSTART:20261101T070000
END:STANDARD
END:VTIMEZONE
BEGIN:VEVENT
DTSTART;TZID=America/Chicago:20250419T100000
DTEND;TZID=America/Chicago:20250419T110000
DTSTAMP:20260421T195327
CREATED:20250417T150637Z
LAST-MODIFIED:20250417T150637Z
UID:10005519-1745056800-1745060400@visitjacksontn.com
SUMMARY:Yoga in the Park
DESCRIPTION:Don’t miss Yoga in the Park! Led by Erin Nerren\, this inclusive event is free and open to all levels of experience.
URL:https://visitjacksontn.com/event/yoga-in-the-park-17/
LOCATION:Jaxon Station\, 580 S Royal St\, Jackson\, TN\, 38301\, United States
CATEGORIES:Events,Sports & Outdoor
ATTACH;FMTTYPE=image/avif:https://visitjacksontn.com/wp-content/uploads/655e575a-2e26-41eb-9161-cb1999d9fe9e.avif
END:VEVENT
BEGIN:VEVENT
DTSTART;TZID=America/Chicago:20250425T120000
DTEND;TZID=America/Chicago:20250425T130000
DTSTAMP:20260421T195327
CREATED:20250417T145815Z
LAST-MODIFIED:20250417T145815Z
UID:10005518-1745582400-1745586000@visitjacksontn.com
SUMMARY:Yoga in the Park
DESCRIPTION:Don’t miss Yoga in the Park! This inclusive event is free and open to all levels of experience\, led by Stacy Marshall from Yoga Center.​​ \n​For a full list of yoga events\, visit downtownjacksontn.com/yoga.
URL:https://visitjacksontn.com/event/yoga-in-the-park-16/
LOCATION:The LOCAL\, 202 West Lafayette Street\, Jackson\, TN\, 38301\, United States
CATEGORIES:Events,Sports & Outdoor
ATTACH;FMTTYPE=image/avif:https://visitjacksontn.com/wp-content/uploads/5414f910-d5ae-4390-87f9-b94926b35f3f.avif
END:VEVENT
END:VCALENDAR