BEGIN:VCALENDAR
VERSION:2.0
PRODID:-//Jackson Tourism - ECPv6.15.20//NONSGML v1.0//EN
CALSCALE:GREGORIAN
METHOD:PUBLISH
X-ORIGINAL-URL:https://visitjacksontn.com
X-WR-CALDESC:Events for Jackson Tourism
REFRESH-INTERVAL;VALUE=DURATION:PT1H
X-Robots-Tag:noindex
X-PUBLISHED-TTL:PT1H
BEGIN:VTIMEZONE
TZID:America/Chicago
BEGIN:DAYLIGHT
TZOFFSETFROM:-0600
TZOFFSETTO:-0500
TZNAME:CDT
DTSTART:20230312T080000
END:DAYLIGHT
BEGIN:STANDARD
TZOFFSETFROM:-0500
TZOFFSETTO:-0600
TZNAME:CST
DTSTART:20231105T070000
END:STANDARD
BEGIN:DAYLIGHT
TZOFFSETFROM:-0600
TZOFFSETTO:-0500
TZNAME:CDT
DTSTART:20240310T080000
END:DAYLIGHT
BEGIN:STANDARD
TZOFFSETFROM:-0500
TZOFFSETTO:-0600
TZNAME:CST
DTSTART:20241103T070000
END:STANDARD
BEGIN:DAYLIGHT
TZOFFSETFROM:-0600
TZOFFSETTO:-0500
TZNAME:CDT
DTSTART:20250309T080000
END:DAYLIGHT
BEGIN:STANDARD
TZOFFSETFROM:-0500
TZOFFSETTO:-0600
TZNAME:CST
DTSTART:20251102T070000
END:STANDARD
END:VTIMEZONE
BEGIN:VEVENT
DTSTART;TZID=America/Chicago:20240608T100000
DTEND;TZID=America/Chicago:20240608T110000
DTSTAMP:20260424T090745
CREATED:20240530T173135Z
LAST-MODIFIED:20240530T173221Z
UID:10002275-1717840800-1717844400@visitjacksontn.com
SUMMARY:Yoga in the Park
DESCRIPTION:Join us for Yoga at theAMP on Saturday\, June 8th at 10AM. Led by instructors Keith Davis and Crystal Brown\, this inclusive event is free and open to all levels of experience. RSVP at lu.ma/e6nfcxku. \n​​​​For a full schedule of yoga events visit downtownjacksontn.com/yoga. \nClick here for more information.
URL:https://visitjacksontn.com/event/yoga-in-the-park-9/
LOCATION:Jackson’s Amp at The Market\, 91 New Market Street\, Jackson\, TN\, 38301\, United States
CATEGORIES:Events,Sports & Outdoor
ATTACH;FMTTYPE=image/jpeg:https://visitjacksontn.com/wp-content/uploads/447020931_943821861086993_4685920810930156077_n.jpg
END:VEVENT
BEGIN:VEVENT
DTSTART;TZID=America/Chicago:20240614T120000
DTEND;TZID=America/Chicago:20240614T130000
DTSTAMP:20260424T090745
CREATED:20240530T172627Z
LAST-MODIFIED:20240530T173000Z
UID:10002274-1718366400-1718370000@visitjacksontn.com
SUMMARY:Yoga in the Park
DESCRIPTION:Join us for Yoga at theLOCAL on Friday\, June 14th at noon. Led by instructor Stacy Marshall from Yoga Center. This inclusive event is free and open to all levels of experience. RSVP at lu.ma/0pzdsmxl. \n​​​​For a full schedule of yoga events visit downtownjacksontn.com/yoga. \nClick here for more information.
URL:https://visitjacksontn.com/event/yoga-in-the-park-8/
LOCATION:The LOCAL\, 202 West Lafayette Street\, Jackson\, TN\, 38301\, United States
CATEGORIES:Events,Sports & Outdoor
ATTACH;FMTTYPE=image/jpeg:https://visitjacksontn.com/wp-content/uploads/447021297_943820977753748_1249401033138673475_n.jpg
END:VEVENT
BEGIN:VEVENT
DTSTART;TZID=America/Chicago:20240622T100000
DTEND;TZID=America/Chicago:20240622T110000
DTSTAMP:20260424T090745
CREATED:20240530T172311Z
LAST-MODIFIED:20240530T172311Z
UID:10002273-1719050400-1719054000@visitjacksontn.com
SUMMARY:Yoga in the Park
DESCRIPTION:Join us for Yoga at Jaxon Station on Saturday\, June 22nd at 10AM. Led by instructors Keith Davis and Crystal Brown\, this inclusive event is free and open to all levels of experience. RSVP at lu.ma/7ju8wgqm. \n​​​​For a full schedule of yoga events visit downtownjacksontn.com/yoga. \nClick here for more information.
URL:https://visitjacksontn.com/event/yoga-in-the-park-7/
LOCATION:Soul Collective\, 580 S. Royal St.\, Jackson\, TN\, 38301\, United States
CATEGORIES:Events,Sports & Outdoor
ATTACH;FMTTYPE=image/jpeg:https://visitjacksontn.com/wp-content/uploads/446804426_943820167753829_2840526578653025959_n.jpg
END:VEVENT
BEGIN:VEVENT
DTSTART;TZID=America/Chicago:20240627T170000
DTEND;TZID=America/Chicago:20240627T180000
DTSTAMP:20260424T090745
CREATED:20240530T170714Z
LAST-MODIFIED:20240530T172405Z
UID:10002272-1719507600-1719511200@visitjacksontn.com
SUMMARY:Yoga in the Park
DESCRIPTION:​​​Join us for Yoga at Fox Park on Thursday\, June 27th at 5 PM. Led by instructor Jennifer Emerson from Yoga Center. This inclusive event is free and open to all levels of experience. RSVP at lu.ma/032qic7u. \n​​​​For a full schedule of yoga events visit downtownjacksontn.com/yoga. \nClick here for more information.
URL:https://visitjacksontn.com/event/yoga-in-the-park-6/
LOCATION:Fox Park\, 201 E Main St\, Jackson\, TN\, 38301\, United States
CATEGORIES:Events,Sports & Outdoor
ATTACH;FMTTYPE=image/jpeg:https://visitjacksontn.com/wp-content/uploads/446951395_943819531087226_3441447572863389452_n.jpg
END:VEVENT
END:VCALENDAR