BEGIN:VCALENDAR
VERSION:2.0
PRODID:-//Jackson Tourism - ECPv6.15.20//NONSGML v1.0//EN
CALSCALE:GREGORIAN
METHOD:PUBLISH
X-ORIGINAL-URL:https://visitjacksontn.com
X-WR-CALDESC:Events for Jackson Tourism
REFRESH-INTERVAL;VALUE=DURATION:PT1H
X-Robots-Tag:noindex
X-PUBLISHED-TTL:PT1H
BEGIN:VTIMEZONE
TZID:America/Chicago
BEGIN:DAYLIGHT
TZOFFSETFROM:-0600
TZOFFSETTO:-0500
TZNAME:CDT
DTSTART:20230312T080000
END:DAYLIGHT
BEGIN:STANDARD
TZOFFSETFROM:-0500
TZOFFSETTO:-0600
TZNAME:CST
DTSTART:20231105T070000
END:STANDARD
BEGIN:DAYLIGHT
TZOFFSETFROM:-0600
TZOFFSETTO:-0500
TZNAME:CDT
DTSTART:20240310T080000
END:DAYLIGHT
BEGIN:STANDARD
TZOFFSETFROM:-0500
TZOFFSETTO:-0600
TZNAME:CST
DTSTART:20241103T070000
END:STANDARD
BEGIN:DAYLIGHT
TZOFFSETFROM:-0600
TZOFFSETTO:-0500
TZNAME:CDT
DTSTART:20250309T080000
END:DAYLIGHT
BEGIN:STANDARD
TZOFFSETFROM:-0500
TZOFFSETTO:-0600
TZNAME:CST
DTSTART:20251102T070000
END:STANDARD
END:VTIMEZONE
BEGIN:VEVENT
DTSTART;TZID=America/Chicago:20240605T173000
DTEND;TZID=America/Chicago:20240605T173000
DTSTAMP:20260423T135754
CREATED:20240523T182419Z
LAST-MODIFIED:20240523T182419Z
UID:10002243-1717608600-1717608600@visitjacksontn.com
SUMMARY:Wine-O Night
DESCRIPTION:Get ready for a night to remember at Century Farm Winery’s “Wine-O Night” on June 5th at 5:30 PM \nJoin us for an evening of fun\, laughter\, and a unique twist on everyone’s favorite game. Bring your friends and family for an unforgettable time filled with great wine and awesome memories. Don’t miss out on this epic experience! \nGuests will purchase their drinks upon arrival. \nClick here to reserve your spot!
URL:https://visitjacksontn.com/event/wine-o-night-2/
LOCATION:Century Farm Winery\, 1548 Lower Brownsville Rd.\, Jackson\, TN\, 38301\, United States
CATEGORIES:Events
ATTACH;FMTTYPE=image/jpeg:https://visitjacksontn.com/wp-content/uploads/435929328_959178959546079_3549294428227413921_n-1.jpg
END:VEVENT
END:VCALENDAR