BEGIN:VCALENDAR
VERSION:2.0
PRODID:-//Jackson Tourism - ECPv6.15.20//NONSGML v1.0//EN
CALSCALE:GREGORIAN
METHOD:PUBLISH
X-ORIGINAL-URL:https://visitjacksontn.com
X-WR-CALDESC:Events for Jackson Tourism
REFRESH-INTERVAL;VALUE=DURATION:PT1H
X-Robots-Tag:noindex
X-PUBLISHED-TTL:PT1H
BEGIN:VTIMEZONE
TZID:America/Chicago
BEGIN:DAYLIGHT
TZOFFSETFROM:-0600
TZOFFSETTO:-0500
TZNAME:CDT
DTSTART:20230312T080000
END:DAYLIGHT
BEGIN:STANDARD
TZOFFSETFROM:-0500
TZOFFSETTO:-0600
TZNAME:CST
DTSTART:20231105T070000
END:STANDARD
BEGIN:DAYLIGHT
TZOFFSETFROM:-0600
TZOFFSETTO:-0500
TZNAME:CDT
DTSTART:20240310T080000
END:DAYLIGHT
BEGIN:STANDARD
TZOFFSETFROM:-0500
TZOFFSETTO:-0600
TZNAME:CST
DTSTART:20241103T070000
END:STANDARD
BEGIN:DAYLIGHT
TZOFFSETFROM:-0600
TZOFFSETTO:-0500
TZNAME:CDT
DTSTART:20250309T080000
END:DAYLIGHT
BEGIN:STANDARD
TZOFFSETFROM:-0500
TZOFFSETTO:-0600
TZNAME:CST
DTSTART:20251102T070000
END:STANDARD
END:VTIMEZONE
BEGIN:VEVENT
DTSTART;TZID=America/Chicago:20240518T190000
DTEND;TZID=America/Chicago:20240518T220000
DTSTAMP:20260425T080305
CREATED:20240416T180706Z
LAST-MODIFIED:20240416T180706Z
UID:10002116-1716058800-1716069600@visitjacksontn.com
SUMMARY:Voices in the Vineyard - Kelso Mojo
DESCRIPTION:Mark your calendars for an unforgettable evening of soulful melodies and exceptional wines at Century Farm Winery’s Voices in the Vineyard free concert on May 18th!  We’re excited to announce that Kelso Mojo will be gracing the stage\, filling the air with their mesmerizing tunes. \nCome join us for an enchanting night beneath the twinkling stars\, surrounded by the picturesque charm of our vineyard. Bring along your loved ones\, relax with a glass of our finest wines\, and let the music transport you to another realm. \nDon’t miss out on this magical experience! Admission is free\, but the memories you’ll make will be absolutely priceless. \nClick here for more event information.
URL:https://visitjacksontn.com/event/voices-in-the-vineyard-kelso-mojo/
LOCATION:Century Farm Winery\, 1548 Lower Brownsville Rd.\, Jackson\, TN\, 38301\, United States
CATEGORIES:Events,Music
ATTACH;FMTTYPE=image/jpeg:https://visitjacksontn.com/wp-content/uploads/430680843_920255643438411_6515735531092612861_n-1.jpg
END:VEVENT
END:VCALENDAR