BEGIN:VCALENDAR
VERSION:2.0
PRODID:-//Jackson Tourism - ECPv6.15.18//NONSGML v1.0//EN
CALSCALE:GREGORIAN
METHOD:PUBLISH
X-WR-CALNAME:Jackson Tourism
X-ORIGINAL-URL:https://visitjacksontn.com
X-WR-CALDESC:Events for Jackson Tourism
REFRESH-INTERVAL;VALUE=DURATION:PT1H
X-Robots-Tag:noindex
X-PUBLISHED-TTL:PT1H
BEGIN:VTIMEZONE
TZID:America/Chicago
BEGIN:DAYLIGHT
TZOFFSETFROM:-0600
TZOFFSETTO:-0500
TZNAME:CDT
DTSTART:20230312T080000
END:DAYLIGHT
BEGIN:STANDARD
TZOFFSETFROM:-0500
TZOFFSETTO:-0600
TZNAME:CST
DTSTART:20231105T070000
END:STANDARD
BEGIN:DAYLIGHT
TZOFFSETFROM:-0600
TZOFFSETTO:-0500
TZNAME:CDT
DTSTART:20240310T080000
END:DAYLIGHT
BEGIN:STANDARD
TZOFFSETFROM:-0500
TZOFFSETTO:-0600
TZNAME:CST
DTSTART:20241103T070000
END:STANDARD
BEGIN:DAYLIGHT
TZOFFSETFROM:-0600
TZOFFSETTO:-0500
TZNAME:CDT
DTSTART:20250309T080000
END:DAYLIGHT
BEGIN:STANDARD
TZOFFSETFROM:-0500
TZOFFSETTO:-0600
TZNAME:CST
DTSTART:20251102T070000
END:STANDARD
END:VTIMEZONE
BEGIN:VEVENT
DTSTART;TZID=America/Chicago:20240511T180000
DTEND;TZID=America/Chicago:20240511T180000
DTSTAMP:20260419T200630
CREATED:20240417T173424Z
LAST-MODIFIED:20240417T173424Z
UID:10002132-1715450400-1715450400@visitjacksontn.com
SUMMARY:Mark Lowry & Friends
DESCRIPTION:Mark Lowry is coming to Henderson\, TN! Singer\, songwriter\, author\, and humorist Mark Lowry is best known for penning the lyric to the Christmas classic “Mary Did You Know?” and singing baritone for the GRAMMY© Award-winning Gaither Vocal Band for many years. Lowry\, who’s entertained audiences since he was 11 years old\, has a unique gift of communicating profound Biblical truths through music and storytelling. His life’s work features a large catalog of diverse projects including many videos\, books\, and CDs. \nSpecial Guests: Endless Highway & The Vaughn Family \nSaturday\, May 11\, 2024 @ 6:00 pm\nWilliams Auditorium | Henderson\, TN \nClick here for tickets and more event information.
URL:https://visitjacksontn.com/event/mark-lowry-friends/
LOCATION:Williams Auditorium\, 634 E. Main St.\, Henderson\, TN\, 38340\, United States
CATEGORIES:Events
ATTACH;FMTTYPE=image/jpeg:https://visitjacksontn.com/wp-content/uploads/430675332_948238430515540_1805817244350092413_n.jpg
END:VEVENT
END:VCALENDAR