BEGIN:VCALENDAR
VERSION:2.0
PRODID:-//Jackson Tourism - ECPv6.15.20//NONSGML v1.0//EN
CALSCALE:GREGORIAN
METHOD:PUBLISH
X-WR-CALNAME:Jackson Tourism
X-ORIGINAL-URL:https://visitjacksontn.com
X-WR-CALDESC:Events for Jackson Tourism
REFRESH-INTERVAL;VALUE=DURATION:PT1H
X-Robots-Tag:noindex
X-PUBLISHED-TTL:PT1H
BEGIN:VTIMEZONE
TZID:America/Chicago
BEGIN:DAYLIGHT
TZOFFSETFROM:-0600
TZOFFSETTO:-0500
TZNAME:CDT
DTSTART:20230312T080000
END:DAYLIGHT
BEGIN:STANDARD
TZOFFSETFROM:-0500
TZOFFSETTO:-0600
TZNAME:CST
DTSTART:20231105T070000
END:STANDARD
BEGIN:DAYLIGHT
TZOFFSETFROM:-0600
TZOFFSETTO:-0500
TZNAME:CDT
DTSTART:20240310T080000
END:DAYLIGHT
BEGIN:STANDARD
TZOFFSETFROM:-0500
TZOFFSETTO:-0600
TZNAME:CST
DTSTART:20241103T070000
END:STANDARD
BEGIN:DAYLIGHT
TZOFFSETFROM:-0600
TZOFFSETTO:-0500
TZNAME:CDT
DTSTART:20250309T080000
END:DAYLIGHT
BEGIN:STANDARD
TZOFFSETFROM:-0500
TZOFFSETTO:-0600
TZNAME:CST
DTSTART:20251102T070000
END:STANDARD
END:VTIMEZONE
BEGIN:VEVENT
DTSTART;TZID=America/Chicago:20240607T110000
DTEND;TZID=America/Chicago:20240607T160000
DTSTAMP:20260423T004023
CREATED:20240501T190406Z
LAST-MODIFIED:20240501T190406Z
UID:10002193-1717758000-1717776000@visitjacksontn.com
SUMMARY:Project Playhouse
DESCRIPTION:Habitat for Humanity Jackson\, TN Area invites teams to come together for a day of fun\, creativity\, and philanthropy as we build playhouses to benefit our community. This is an incredible opportunity to showcase your team spirit\, creativity\, and compassion while supporting a worthy cause. Whether you’re a group of coworkers\, friends\, or family members\, come together and make a difference in the lives of those around us. Let’s build not just houses\, but hope and brighter futures. Sign up your team today and let’s create lasting memories while building a stronger community together! \nClick here for more event information.
URL:https://visitjacksontn.com/event/project-playhouse/
LOCATION:West Tennessee Farmers Market\, 91 New Market St.\, Jackson\, TN\, 38301\, United States
CATEGORIES:Events
ATTACH;FMTTYPE=image/jpeg:https://visitjacksontn.com/wp-content/uploads/440979357_765209112483340_4554579082640303789_n.jpg
END:VEVENT
END:VCALENDAR