BEGIN:VCALENDAR
VERSION:2.0
PRODID:-//Jackson Tourism - ECPv6.15.20//NONSGML v1.0//EN
CALSCALE:GREGORIAN
METHOD:PUBLISH
X-ORIGINAL-URL:https://visitjacksontn.com
X-WR-CALDESC:Events for Jackson Tourism
REFRESH-INTERVAL;VALUE=DURATION:PT1H
X-Robots-Tag:noindex
X-PUBLISHED-TTL:PT1H
BEGIN:VTIMEZONE
TZID:America/Chicago
BEGIN:DAYLIGHT
TZOFFSETFROM:-0600
TZOFFSETTO:-0500
TZNAME:CDT
DTSTART:20250309T080000
END:DAYLIGHT
BEGIN:STANDARD
TZOFFSETFROM:-0500
TZOFFSETTO:-0600
TZNAME:CST
DTSTART:20251102T070000
END:STANDARD
BEGIN:DAYLIGHT
TZOFFSETFROM:-0600
TZOFFSETTO:-0500
TZNAME:CDT
DTSTART:20260308T080000
END:DAYLIGHT
BEGIN:STANDARD
TZOFFSETFROM:-0500
TZOFFSETTO:-0600
TZNAME:CST
DTSTART:20261101T070000
END:STANDARD
BEGIN:DAYLIGHT
TZOFFSETFROM:-0600
TZOFFSETTO:-0500
TZNAME:CDT
DTSTART:20270314T080000
END:DAYLIGHT
BEGIN:STANDARD
TZOFFSETFROM:-0500
TZOFFSETTO:-0600
TZNAME:CST
DTSTART:20271107T070000
END:STANDARD
END:VTIMEZONE
BEGIN:VEVENT
DTSTART;TZID=America/Chicago:20260327T133000
DTEND;TZID=America/Chicago:20260327T133000
DTSTAMP:20260422T172627
CREATED:20260212T192038Z
LAST-MODIFIED:20260212T192038Z
UID:10005993-1774618200-1774618200@visitjacksontn.com
SUMMARY:Rising Star
DESCRIPTION:Take an astronomical journey through South African astronomy\, yesterday\, today\, and for the future! \nNo entrance fee\, free parking in Hyde lot (across from Planetarium on Maple Street). Doors open 15 minutes before showtime. For safety reasons\, no seating once IN USE lights are on\, and no food or drink in the auditorium.
URL:https://visitjacksontn.com/event/rising-star/2026-03-27/
LOCATION:University of Memphis\, Lambuth\, 299 Maple St.\, Jackson\, TN\, 38301\, United States
CATEGORIES:Events
ATTACH;FMTTYPE=image/jpeg:https://visitjacksontn.com/wp-content/uploads/30721952320fb152e3911dc48b3cdf425cad30db87130b5811247ab22c87e06b-rimg-w778-h489-dc090909-gmir.jpg
END:VEVENT
END:VCALENDAR