BEGIN:VCALENDAR
VERSION:2.0
PRODID:-//Jackson Tourism - ECPv6.15.18//NONSGML v1.0//EN
CALSCALE:GREGORIAN
METHOD:PUBLISH
X-WR-CALNAME:Jackson Tourism
X-ORIGINAL-URL:https://visitjacksontn.com
X-WR-CALDESC:Events for Jackson Tourism
REFRESH-INTERVAL;VALUE=DURATION:PT1H
X-Robots-Tag:noindex
X-PUBLISHED-TTL:PT1H
BEGIN:VTIMEZONE
TZID:America/Chicago
BEGIN:DAYLIGHT
TZOFFSETFROM:-0600
TZOFFSETTO:-0500
TZNAME:CDT
DTSTART:20250309T080000
END:DAYLIGHT
BEGIN:STANDARD
TZOFFSETFROM:-0500
TZOFFSETTO:-0600
TZNAME:CST
DTSTART:20251102T070000
END:STANDARD
BEGIN:DAYLIGHT
TZOFFSETFROM:-0600
TZOFFSETTO:-0500
TZNAME:CDT
DTSTART:20260308T080000
END:DAYLIGHT
BEGIN:STANDARD
TZOFFSETFROM:-0500
TZOFFSETTO:-0600
TZNAME:CST
DTSTART:20261101T070000
END:STANDARD
BEGIN:DAYLIGHT
TZOFFSETFROM:-0600
TZOFFSETTO:-0500
TZNAME:CDT
DTSTART:20270314T080000
END:DAYLIGHT
BEGIN:STANDARD
TZOFFSETFROM:-0500
TZOFFSETTO:-0600
TZNAME:CST
DTSTART:20271107T070000
END:STANDARD
END:VTIMEZONE
BEGIN:VEVENT
DTSTART;TZID=America/Chicago:20260316T083000
DTEND;TZID=America/Chicago:20260320T163000
DTSTAMP:20260422T092440
CREATED:20260204T222931Z
LAST-MODIFIED:20260204T222931Z
UID:10005959-1773649800-1774024200@visitjacksontn.com
SUMMARY:The NED Spring Break Camp!
DESCRIPTION:Welcome to the sign-ups for the Ned’s Spring Break Performing Arts Camp for ages 6-12! Camp will take place March 16 – 20\, Monday through Friday\, from 9 AM to 4:30 PM. \nDrop off starts at 8:30 am and pick up starts at 4:15 pm. \nCampers will spend the week learning about theatre with the Ned Staff. With games\, scenes\, and songs\, campers will practice performance skills in voice\, diction\, movement\, and teamwork – all culminating in a performance on Friday\, March 20\, at 6 PM of Disney’s Finding Nemo KIDS! \nUse the ticket link to sign up or copy and paste this link to your browser: https://forms.gle/Lw41wCq3bscrsWB98 \nIf you are interested in a Scholarship to the camp or have multiple campers in your family\, please call us at (731) 425-8397. \nSee you at Camp!
URL:https://visitjacksontn.com/event/the-ned-spring-break-camp/
LOCATION:The NED\, 314 East Main Street\, Jackson\, TN\, 38301\, United States
CATEGORIES:Arts & Culture,Events,Music
ATTACH;FMTTYPE=image/png:https://visitjacksontn.com/wp-content/uploads/Screenshot-2026-02-04-162421.png
END:VEVENT
BEGIN:VEVENT
DTSTART;TZID=America/Chicago:20260319T190000
DTEND;TZID=America/Chicago:20260322T140000
DTSTAMP:20260422T092440
CREATED:20260120T195410Z
LAST-MODIFIED:20260120T195410Z
UID:10005936-1773946800-1774188000@visitjacksontn.com
SUMMARY:You're A Good Man Charlie Brown
DESCRIPTION:Experience the heartwarming story of ‘You’re A Good Man\, Charlie Brown\,’ featuring beloved characters from the Peanuts universe. This timeless production delivers an uplifting message that resonates with audiences of all ages. \n  \nLucy & Linus played by: Maddie Goss and Camille Young \nThursday March 19th-7:00pm \nFriday March 20th-7:00pm \nSaturday March 21st-2:00pm and 7:00pm \nSunday March 22nd-2:00pm \nMonday March 23rd- SCHOOL SHOW
URL:https://visitjacksontn.com/event/youre-a-good-man-charlie-brown/
LOCATION:Catbird Studio\, 2100 Pleasant Plains Ext\, Jackson\, TN\, 38305\, United States
CATEGORIES:Events
ATTACH;FMTTYPE=image/png:https://visitjacksontn.com/wp-content/uploads/Screenshot-2026-01-20-134224.png
END:VEVENT
BEGIN:VEVENT
DTSTART;VALUE=DATE:20260320
DTEND;VALUE=DATE:20260323
DTSTAMP:20260422T092440
CREATED:20251205T170222Z
LAST-MODIFIED:20260109T145947Z
UID:10005794-1773964800-1774223999@visitjacksontn.com
SUMMARY:Jackson TN Dog Fanciers Association AKC All-Breed Dog Show
DESCRIPTION:Join us in March 2026 at the Jackson Fairgrounds for one of the region’s premier canine events! Presented by the Jackson Tennessee Dog Fanciers Association in partnership with the Tupelo Kennel Club\, this multi-day AKC-sanctioned show will feature hundreds of purebred dogs competing in conformation\, obedience\, and rally. Spectators can enjoy breed judging\, Junior Showmanship\, and special competitions like the National Owner-Handled Series and the AKC 4–6 Month Puppy Class. Admission is free\, and it’s a great opportunity to meet breeders\, learn about responsible dog ownership\, and cheer for your favorite dogs. \n📍 Location: Jackson Fairgrounds Park\, 800 S. Highland Ave\, Jackson\, TN 📅 \nDates: Mid-March 2026 (Exact schedule coming soon) \n✅ Family-friendly | Free Admission |
URL:https://visitjacksontn.com/event/jackson-tn-dog-fanciers-association-akc-all-breed-dog-show/
LOCATION:Jackson Fairgrounds\, 800 S. Highland Ave\, Jackson\, TN\, 38301\, United States
CATEGORIES:Events
ATTACH;FMTTYPE=image/gif:https://visitjacksontn.com/wp-content/uploads/heading.gif
END:VEVENT
BEGIN:VEVENT
DTSTART;TZID=America/Chicago:20260320T133000
DTEND;TZID=America/Chicago:20260320T133000
DTSTAMP:20260422T092440
CREATED:20260212T191733Z
LAST-MODIFIED:20260212T191733Z
UID:10005991-1774013400-1774013400@visitjacksontn.com
SUMMARY:Seasonal Stargazing
DESCRIPTION:Join us for a celebration of the season as we present Season of Light! \nNo entrance fee\, free parking in Hyde lot (across from Planetarium on Maple Street). Doors open 15 minutes before showtime.
URL:https://visitjacksontn.com/event/seasonal-stargazing/2026-03-20/
LOCATION:University of Memphis\, Lambuth\, 299 Maple St.\, Jackson\, TN\, 38301\, United States
CATEGORIES:Events
ATTACH;FMTTYPE=image/jpeg:https://visitjacksontn.com/wp-content/uploads/bd0170dde49bc2d86421926d00c8ebeed44013f30f6d4c6adb76bd4b5712e05b-rimg-w400-h155-dc030303-gmir.jpg
END:VEVENT
BEGIN:VEVENT
DTSTART;TZID=America/Chicago:20260320T203000
DTEND;TZID=America/Chicago:20260320T203000
DTSTAMP:20260422T092440
CREATED:20260224T201949Z
LAST-MODIFIED:20260224T201949Z
UID:10006022-1774038600-1774038600@visitjacksontn.com
SUMMARY:Karaoke on Tap!
DESCRIPTION:Grab your friends and come have a fun night singing karaoke! \n  \n18+
URL:https://visitjacksontn.com/event/karaoke-on-tap-5/
LOCATION:Hub City Brewing\, 250 West Main Street\, Jackson\, TN\, 38301\, United States
CATEGORIES:Events,Music
ATTACH;FMTTYPE=image/jpeg:https://visitjacksontn.com/wp-content/uploads/638138778_1556490563149620_984837238671777090_n.jpg
END:VEVENT
END:VCALENDAR