BEGIN:VCALENDAR
VERSION:2.0
PRODID:-//Jackson Tourism - ECPv6.15.20//NONSGML v1.0//EN
CALSCALE:GREGORIAN
METHOD:PUBLISH
X-ORIGINAL-URL:https://visitjacksontn.com
X-WR-CALDESC:Events for Jackson Tourism
REFRESH-INTERVAL;VALUE=DURATION:PT1H
X-Robots-Tag:noindex
X-PUBLISHED-TTL:PT1H
BEGIN:VTIMEZONE
TZID:America/Chicago
BEGIN:DAYLIGHT
TZOFFSETFROM:-0600
TZOFFSETTO:-0500
TZNAME:CDT
DTSTART:20250309T080000
END:DAYLIGHT
BEGIN:STANDARD
TZOFFSETFROM:-0500
TZOFFSETTO:-0600
TZNAME:CST
DTSTART:20251102T070000
END:STANDARD
BEGIN:DAYLIGHT
TZOFFSETFROM:-0600
TZOFFSETTO:-0500
TZNAME:CDT
DTSTART:20260308T080000
END:DAYLIGHT
BEGIN:STANDARD
TZOFFSETFROM:-0500
TZOFFSETTO:-0600
TZNAME:CST
DTSTART:20261101T070000
END:STANDARD
BEGIN:DAYLIGHT
TZOFFSETFROM:-0600
TZOFFSETTO:-0500
TZNAME:CDT
DTSTART:20270314T080000
END:DAYLIGHT
BEGIN:STANDARD
TZOFFSETFROM:-0500
TZOFFSETTO:-0600
TZNAME:CST
DTSTART:20271107T070000
END:STANDARD
END:VTIMEZONE
BEGIN:VEVENT
DTSTART;TZID=America/Chicago:20260314T130000
DTEND;TZID=America/Chicago:20260314T160000
DTSTAMP:20260422T191231
CREATED:20260217T184218Z
LAST-MODIFIED:20260217T223122Z
UID:10006004-1773493200-1773504000@visitjacksontn.com
SUMMARY:St. Patrick's Day-Wine & Food Pairing Event
DESCRIPTION:St. Patrick’s Day: Wine & Food Pairing Event\nSaturday\, March 14th\nCentury Farm Winery | Jackson\, Tennessee \nAre you feeling lucky?\nJoin us on our Tennessee Century Farm for a festive afternoon of wine\, food\, and Irish-inspired fun at our St. Patty’s Wine & Food Pairing event. \nEach guest will enjoy:\n• Four different Century Farm wines \n• Four St. Patrick’s themed hors d’oeuvres\, thoughtfully paired with each pour \n• A relaxed\, guided tasting experience inside our rustic winery setting \n• Fun photo opportunities and giveaways \nSeating Times\n• 1st Seating: 1:00 PM – 2:00 PM \n• 2nd Seating: 3:00 PM – 4:00 PM \nVERY LIMITED SEATING is available to keep this experience intimate and enjoyable. Advance purchase is strongly recommended. \nTicket Information$40 per guest\nPlus\, tax and service fee\nThis is the perfect outing for couples\, friends\, and anyone who enjoys celebrating the season with great wine and good company.\nCome sip\, relax\, and celebrate St. Patrick’s season with us at Century Farm Winery. \nWe look forward to welcoming you to the farm.
URL:https://visitjacksontn.com/event/st-patricks-day-wine-food-pairing-event/
LOCATION:Century Farm Winery\, 1548 Lower Brownsville Rd.\, Jackson\, TN\, 38301\, United States
CATEGORIES:Events
ATTACH;FMTTYPE=image/jpeg:https://visitjacksontn.com/wp-content/uploads/632827767_1487016106762359_4119032719613144760_n.jpg
END:VEVENT
BEGIN:VEVENT
DTSTART;TZID=America/Chicago:20260314T193000
DTEND;TZID=America/Chicago:20260314T193000
DTSTAMP:20260422T191231
CREATED:20250506T213935Z
LAST-MODIFIED:20260220T171127Z
UID:10005563-1773516600-1773516600@visitjacksontn.com
SUMMARY:The Romantic
DESCRIPTION:Heart on your sleeve\, passion in the air—this is romantic music turned all the way up. \nFrom Rachmaninov’s soul-stirring Piano Concerto No. 2 to Tchaikovsky’s sweeping Fifth Symphony\, this will be an evening rich with drama\, longing\, and emotional fire. \n  \nInternationally acclaimed pianist George Li will bring Rachmaninov’s towering concerto to life with the “staggering technical prowess” and “depth of expression” praised by The Washington Post. A Silver Medalist at the 2015 International Tchaikovsky Competition and an Avery Fisher Career Grant recipient\, Li has performed with many of the world’s leading orchestras and conductors and appears regularly on the great stages of Europe\, Asia\, and North America.
URL:https://visitjacksontn.com/event/the-romantic/
LOCATION:Carl Perkins Civic Center\, 400 South Highland Avenue\, Jackson\, TN\, 38301\, United States
CATEGORIES:Arts & Culture,Events
ATTACH;FMTTYPE=image/avif:https://visitjacksontn.com/wp-content/uploads/3f13fd_75acf896cdee4a98a31a4768283d60e1mv2.avif
END:VEVENT
END:VCALENDAR