BEGIN:VCALENDAR
VERSION:2.0
PRODID:-//Jackson Tourism - ECPv6.15.20//NONSGML v1.0//EN
CALSCALE:GREGORIAN
METHOD:PUBLISH
X-ORIGINAL-URL:https://visitjacksontn.com
X-WR-CALDESC:Events for Jackson Tourism
REFRESH-INTERVAL;VALUE=DURATION:PT1H
X-Robots-Tag:noindex
X-PUBLISHED-TTL:PT1H
BEGIN:VTIMEZONE
TZID:America/Chicago
BEGIN:DAYLIGHT
TZOFFSETFROM:-0600
TZOFFSETTO:-0500
TZNAME:CDT
DTSTART:20250309T080000
END:DAYLIGHT
BEGIN:STANDARD
TZOFFSETFROM:-0500
TZOFFSETTO:-0600
TZNAME:CST
DTSTART:20251102T070000
END:STANDARD
BEGIN:DAYLIGHT
TZOFFSETFROM:-0600
TZOFFSETTO:-0500
TZNAME:CDT
DTSTART:20260308T080000
END:DAYLIGHT
BEGIN:STANDARD
TZOFFSETFROM:-0500
TZOFFSETTO:-0600
TZNAME:CST
DTSTART:20261101T070000
END:STANDARD
BEGIN:DAYLIGHT
TZOFFSETFROM:-0600
TZOFFSETTO:-0500
TZNAME:CDT
DTSTART:20270314T080000
END:DAYLIGHT
BEGIN:STANDARD
TZOFFSETFROM:-0500
TZOFFSETTO:-0600
TZNAME:CST
DTSTART:20271107T070000
END:STANDARD
END:VTIMEZONE
BEGIN:VEVENT
DTSTART;TZID=America/Chicago:20260228T093000
DTEND;TZID=America/Chicago:20260228T093000
DTSTAMP:20260423T004129
CREATED:20260209T184321Z
LAST-MODIFIED:20260209T184321Z
UID:10005973-1772271000-1772271000@visitjacksontn.com
SUMMARY:Max Goes to the Moon
DESCRIPTION:Join wonderdog Max\, and Tori\, his human companion\, as they take an out-of-this-world trip to the Moon! \nNo entrance fee\, free parking in Hyde lot (across from Planetarium on Maple Street). Doors open 15 minutes before showtime. For safety reasons\, no seating once IN USE lights are on\, and no food or drink in the auditorium. For more information\, call 731.425.7368.
URL:https://visitjacksontn.com/event/max-goes-to-the-moon/
LOCATION:University of Memphis\, Lambuth\, 299 Maple St.\, Jackson\, TN\, 38301\, United States
CATEGORIES:Events
ATTACH;FMTTYPE=image/webp:https://visitjacksontn.com/wp-content/uploads/image-1.webp
END:VEVENT
BEGIN:VEVENT
DTSTART;TZID=America/Chicago:20260228T190000
DTEND;TZID=America/Chicago:20260228T190000
DTSTAMP:20260423T004129
CREATED:20260217T173537Z
LAST-MODIFIED:20260217T173537Z
UID:10006001-1772305200-1772305200@visitjacksontn.com
SUMMARY:Disney’s Descendants: The Musical
DESCRIPTION:Based on the popular Disney Channel Original Movies\, Disney’s Descendants: The Musical is a brand-new musical jam-packed with comedy\, adventure\, Disney characters\, and hit songs from the films!Imprisoned on the Isle of the Lost – home of the most infamous villains who ever lived – the teenage children of Maleficent\, the Evil Queen\, Jafar\, and Cruella De Vil have never ventured off the island… until now. When the four troublemakers are sent to attend prep school alongside the children of beloved Disney heroes\, they have a difficult choice to make: should they follow in their parents’ wicked footsteps or learn to be good?
URL:https://visitjacksontn.com/event/disneys-descendants-the-musical/2026-02-28/
LOCATION:Blankenship Theater\, 232 McCellan Rd\, Jackson\, 38305\, United States
CATEGORIES:Events,Music
ATTACH;FMTTYPE=image/jpeg:https://visitjacksontn.com/wp-content/uploads/629844045_1497288465736000_3153236222039875075_n.jpg
END:VEVENT
BEGIN:VEVENT
DTSTART;TZID=America/Chicago:20260228T190000
DTEND;TZID=America/Chicago:20260228T210000
DTSTAMP:20260423T004129
CREATED:20260212T151207Z
LAST-MODIFIED:20260212T151207Z
UID:10005982-1772305200-1772312400@visitjacksontn.com
SUMMARY:A Thing of Beauty
DESCRIPTION:“A Thing of Beauty” is a powerful drama inspired by a few pivotal days in the life of Edith Stein\, told through the character of Sarah Weiss\, also known as Sister Fransisca. Set within the receiving room of a convent\, the play explores faith\, identity\, and moral courage in the face of Nazi persecution. \n  \nThis production is staged inside a church chapel\, allowing the space itself to become the world of the play. The performance embraces simplicity and reverence\, drawing focus to the actors\, the text\, and the spiritual tension at the heart of the story. Original music and restrained visual design underscore the interior lives of these women as they wrestle with truth in a time of unspeakable danger. At its core\, “A Thing of Beauty” is about faith hard-won and fiercely-held\, the cost of conviction\, and the quiet courage required to remain faithful when the world demands silence. \n  \nContent Advisory: This production includes references to antisemitism\, anti-Jewish rhetoric\, and the realities of Nazi persecution\, which may be distressing for some audience members. \n  \nDoors open half an hour prior to the performance.
URL:https://visitjacksontn.com/event/a-thing-of-beauty/2026-02-28/
LOCATION:First Methodist – Downtown Jackson\, TN\, 200 S. Church St\, Jackson\, TN\, 38301\, United States
CATEGORIES:Events,History
ATTACH;FMTTYPE=image/png:https://visitjacksontn.com/wp-content/uploads/Screenshot-2026-02-12-090435.png
END:VEVENT
BEGIN:VEVENT
DTSTART;TZID=America/Chicago:20260228T203000
DTEND;TZID=America/Chicago:20260228T203000
DTSTAMP:20260423T004129
CREATED:20260203T213826Z
LAST-MODIFIED:20260203T214559Z
UID:10005949-1772310600-1772310600@visitjacksontn.com
SUMMARY:Blue Suede Concert ft. SIXWIRE
DESCRIPTION:Balcony views + live music = the perfect night out Blue Suede Concert Tickets are available now on the website! Don’t miss your chance to enjoy the show from the best seats in the house while supporting a great cause.
URL:https://visitjacksontn.com/event/blue-suede-concert/
LOCATION:Carl Perkins Civic Center\, 400 South Highland Avenue\, Jackson\, TN\, 38301\, United States
CATEGORIES:Events,Music
ATTACH;FMTTYPE=image/jpeg:https://visitjacksontn.com/wp-content/uploads/626618710_1503167578358766_8725380881229077004_n.jpg
END:VEVENT
END:VCALENDAR