BEGIN:VCALENDAR
VERSION:2.0
PRODID:-//Jackson Tourism - ECPv6.15.20//NONSGML v1.0//EN
CALSCALE:GREGORIAN
METHOD:PUBLISH
X-WR-CALNAME:Jackson Tourism
X-ORIGINAL-URL:https://visitjacksontn.com
X-WR-CALDESC:Events for Jackson Tourism
REFRESH-INTERVAL;VALUE=DURATION:PT1H
X-Robots-Tag:noindex
X-PUBLISHED-TTL:PT1H
BEGIN:VTIMEZONE
TZID:America/Chicago
BEGIN:DAYLIGHT
TZOFFSETFROM:-0600
TZOFFSETTO:-0500
TZNAME:CDT
DTSTART:20250309T080000
END:DAYLIGHT
BEGIN:STANDARD
TZOFFSETFROM:-0500
TZOFFSETTO:-0600
TZNAME:CST
DTSTART:20251102T070000
END:STANDARD
BEGIN:DAYLIGHT
TZOFFSETFROM:-0600
TZOFFSETTO:-0500
TZNAME:CDT
DTSTART:20260308T080000
END:DAYLIGHT
BEGIN:STANDARD
TZOFFSETFROM:-0500
TZOFFSETTO:-0600
TZNAME:CST
DTSTART:20261101T070000
END:STANDARD
BEGIN:DAYLIGHT
TZOFFSETFROM:-0600
TZOFFSETTO:-0500
TZNAME:CDT
DTSTART:20270314T080000
END:DAYLIGHT
BEGIN:STANDARD
TZOFFSETFROM:-0500
TZOFFSETTO:-0600
TZNAME:CST
DTSTART:20271107T070000
END:STANDARD
END:VTIMEZONE
BEGIN:VEVENT
DTSTART;TZID=America/Chicago:20260227T133000
DTEND;TZID=America/Chicago:20260227T133000
DTSTAMP:20260423T052509
CREATED:20260209T183422Z
LAST-MODIFIED:20260209T183422Z
UID:10005972-1772199000-1772199000@visitjacksontn.com
SUMMARY:Dark: Understanding Dark Matter
DESCRIPTION:Meet the new Australian Square Kilometer Array Pathfinder (ASKAP) telescope – TWO SHOWS\, AT 5:30 AND AGAIN AT 6:30! \nNo entrance fee\, free parking in Hyde lot (across from Planetarium on Maple Street). Doors open 15 minutes before showtime. For safety reasons\, no seating once IN USE lights are on\, and no food or drink in the auditorium. For more information\, call 731.425.7368.
URL:https://visitjacksontn.com/event/dark-understanding-dark-matter/2026-02-27/
CATEGORIES:Events
ATTACH;FMTTYPE=image/png:https://visitjacksontn.com/wp-content/uploads/Screenshot-2026-02-09-121054.png
END:VEVENT
BEGIN:VEVENT
DTSTART;TZID=America/Chicago:20260227T160000
DTEND;TZID=America/Chicago:20260227T160000
DTSTAMP:20260423T052509
CREATED:20260204T165347Z
LAST-MODIFIED:20260204T165347Z
UID:10005957-1772208000-1772208000@visitjacksontn.com
SUMMARY:Black History Month
DESCRIPTION:The City of Jackson will celebrate Black History Month during the month of February for the fourth year at city hall by showcasing performing arts from members of the city’s Black community. \nThis year we celebrate the 100th Anniversary of Black History Month. “Negro History Week\,” launched in 1926 by Dr. Carter G. Woodson (later recognized as Black History Month by President Gerald R. Ford in 1976)\, was created to celebrate Black American achievements. \nOur 2026 celebration will open on Friday\, Feb. 6\, with a proclamation by Mayor Scott Conger \, speaker Don McCorry\, presentations by Kenzie Littrell\, Theta Iota Graduate Chapter of Omega Psi Phi Fraternity\, Incorporated\, and a performance by Joston Cooper. \nThe closing ceremony will be held on Friday\, Feb. 27 with a poetry reading from Ian Tamayo and performances by West Bemis Chorus & Howard Ramsby\, and the Kappa Sigma Chapter of Omega Psi Phi Fraternity\, Inc. (Lane College) \nCity Hall will be lit with red\, yellow\, and green lights for the month of February in celebration of the month. \nBlack History Month Live Performance Schedule (all performances will begin at 4:00 p.m.)
URL:https://visitjacksontn.com/event/black-history-month/2026-02-27/
LOCATION:Jackson City Hall\, 101 E. Main St.\, Jackson\, TN\, 38301\, United States
CATEGORIES:Events,History
ATTACH;FMTTYPE=image/jpeg:https://visitjacksontn.com/wp-content/uploads/627333783_1227096046277802_9151518792159168420_n.jpg
END:VEVENT
BEGIN:VEVENT
DTSTART;TZID=America/Chicago:20260227T173000
DTEND;TZID=America/Chicago:20260227T193000
DTSTAMP:20260423T052509
CREATED:20260114T165709Z
LAST-MODIFIED:20260114T165709Z
UID:10005857-1772213400-1772220600@visitjacksontn.com
SUMMARY:Union University Women’s Basketball vs. Lee University | 5:30PM
DESCRIPTION:Union University Women’s Basketball takes on Lee University at 5:30PM at Fred DeLay Gymnasium. \nIt’s a great opportunity to experience the excitement of collegiate sports in our community! \nFREE ADMISSION courtesy of FirstBank
URL:https://visitjacksontn.com/event/union-university-womens-basketball-vs-lee-university-530pm-2/
LOCATION:Fred DeLay Gymnasium.\, 1050 University Drive\, Jackson\, TN\, 38305\, United States
CATEGORIES:Events,Sports & Outdoor
ATTACH;FMTTYPE=image/png:https://visitjacksontn.com/wp-content/uploads/union-bball-logo.png
END:VEVENT
BEGIN:VEVENT
DTSTART;TZID=America/Chicago:20260227T190000
DTEND;TZID=America/Chicago:20260227T210000
DTSTAMP:20260423T052509
CREATED:20260212T151207Z
LAST-MODIFIED:20260212T151207Z
UID:10005981-1772218800-1772226000@visitjacksontn.com
SUMMARY:A Thing of Beauty
DESCRIPTION:“A Thing of Beauty” is a powerful drama inspired by a few pivotal days in the life of Edith Stein\, told through the character of Sarah Weiss\, also known as Sister Fransisca. Set within the receiving room of a convent\, the play explores faith\, identity\, and moral courage in the face of Nazi persecution. \n  \nThis production is staged inside a church chapel\, allowing the space itself to become the world of the play. The performance embraces simplicity and reverence\, drawing focus to the actors\, the text\, and the spiritual tension at the heart of the story. Original music and restrained visual design underscore the interior lives of these women as they wrestle with truth in a time of unspeakable danger. At its core\, “A Thing of Beauty” is about faith hard-won and fiercely-held\, the cost of conviction\, and the quiet courage required to remain faithful when the world demands silence. \n  \nContent Advisory: This production includes references to antisemitism\, anti-Jewish rhetoric\, and the realities of Nazi persecution\, which may be distressing for some audience members. \n  \nDoors open half an hour prior to the performance.
URL:https://visitjacksontn.com/event/a-thing-of-beauty/2026-02-27/
LOCATION:First Methodist – Downtown Jackson\, TN\, 200 S. Church St\, Jackson\, TN\, 38301\, United States
CATEGORIES:Events,History
ATTACH;FMTTYPE=image/png:https://visitjacksontn.com/wp-content/uploads/Screenshot-2026-02-12-090435.png
END:VEVENT
BEGIN:VEVENT
DTSTART;TZID=America/Chicago:20260227T193000
DTEND;TZID=America/Chicago:20260227T213000
DTSTAMP:20260423T052509
CREATED:20260114T171450Z
LAST-MODIFIED:20260114T171450Z
UID:10005864-1772220600-1772227800@visitjacksontn.com
SUMMARY:Union University Men’s Basketball vs. Lee University | 7:30PM
DESCRIPTION:Union University Men’s Basketball takes on Lee University at 7:30PM at Fred DeLay Gymnasium. \nIt’s a great opportunity to experience the excitement of collegiate sports in our community! \nFREE ADMISSION courtesy of FirstBank
URL:https://visitjacksontn.com/event/union-university-mens-basketball-vs-lee-university-730pm-2/
LOCATION:Fred DeLay Gymnasium.\, 1050 University Drive\, Jackson\, TN\, 38305\, United States
CATEGORIES:Events,Sports & Outdoor
ATTACH;FMTTYPE=image/png:https://visitjacksontn.com/wp-content/uploads/union-bball-logo.png
END:VEVENT
BEGIN:VEVENT
DTSTART;TZID=America/Chicago:20260227T203000
DTEND;TZID=America/Chicago:20260227T203000
DTSTAMP:20260423T052509
CREATED:20260224T201024Z
LAST-MODIFIED:20260224T201024Z
UID:10006019-1772224200-1772224200@visitjacksontn.com
SUMMARY:Karaoke on Tap!
DESCRIPTION:Grab your friends and come have a fun night singing karaoke! \n  \n18+
URL:https://visitjacksontn.com/event/karaoke-on-tap-2/
LOCATION:Hub City Brewing\, 250 West Main Street\, Jackson\, TN\, 38301\, United States
CATEGORIES:Events,Music
ATTACH;FMTTYPE=image/jpeg:https://visitjacksontn.com/wp-content/uploads/638138778_1556490563149620_984837238671777090_n.jpg
END:VEVENT
END:VCALENDAR