BEGIN:VCALENDAR
VERSION:2.0
PRODID:-//Jackson Tourism - ECPv6.15.20//NONSGML v1.0//EN
CALSCALE:GREGORIAN
METHOD:PUBLISH
X-ORIGINAL-URL:https://visitjacksontn.com
X-WR-CALDESC:Events for Jackson Tourism
REFRESH-INTERVAL;VALUE=DURATION:PT1H
X-Robots-Tag:noindex
X-PUBLISHED-TTL:PT1H
BEGIN:VTIMEZONE
TZID:America/Chicago
BEGIN:DAYLIGHT
TZOFFSETFROM:-0600
TZOFFSETTO:-0500
TZNAME:CDT
DTSTART:20250309T080000
END:DAYLIGHT
BEGIN:STANDARD
TZOFFSETFROM:-0500
TZOFFSETTO:-0600
TZNAME:CST
DTSTART:20251102T070000
END:STANDARD
BEGIN:DAYLIGHT
TZOFFSETFROM:-0600
TZOFFSETTO:-0500
TZNAME:CDT
DTSTART:20260308T080000
END:DAYLIGHT
BEGIN:STANDARD
TZOFFSETFROM:-0500
TZOFFSETTO:-0600
TZNAME:CST
DTSTART:20261101T070000
END:STANDARD
BEGIN:DAYLIGHT
TZOFFSETFROM:-0600
TZOFFSETTO:-0500
TZNAME:CDT
DTSTART:20270314T080000
END:DAYLIGHT
BEGIN:STANDARD
TZOFFSETFROM:-0500
TZOFFSETTO:-0600
TZNAME:CST
DTSTART:20271107T070000
END:STANDARD
END:VTIMEZONE
BEGIN:VEVENT
DTSTART;VALUE=DATE:20260218
DTEND;VALUE=DATE:20260225
DTSTAMP:20260422T220600
CREATED:20260218T211503Z
LAST-MODIFIED:20260218T223243Z
UID:10006007-1771372800-1771977599@visitjacksontn.com
SUMMARY:Weekly Music Events
DESCRIPTION:WEDNESDAY – FEBRUARY 18th\nPiano After Work\, The Blacksmith\, 4:00\, Jackson \nRev. Jessie and the Holy Smokes\, Mulligans\, 6:30\, Jackson \nKickin’ It w/ Karleigh\, The Tap\, 8:30\, Jackson\n\n\n\n\n\n\n\n\n\n\n\n\n\n\n\n\n\n\n\nTHURSDAY – FEBRUARY 19th\n  \nPiano After Work\, The Blacksmith\, 4:00\, Jackson \nIzzy Arthurs & Mason Henson\, Room 208\, 6:00\, Jackson \nSingo Bingo\, The Bar\, 6:00\, Humboldt \nLindsey Russell & Bobby Stokely\, Twin Oaks Sports Bar\, 6:30\, Brownsville \nSingo (w/ Barry Summer)\, Hub City Brewing\, 7:00\, Jackson \nJohnny Mac\, Blues Landing\, 7:00\, Buchanan \nClassic Ride\, ALA Dance at the Carroll County Civic Center\, 7:00\, Huntingdon \nKaraoke (w/ DJ Chuck Gee)\, Cadillac’s\, 7:00\, Martin \nOpen Jam (w/ Adam Johnson)\, The Downtown Tavern\, 8:30\, Jackson \nKaraoke (w/ ATL Karaoke)\, The Tap\, 9:30\, Jackson\n\n\n\n\n\n\n\n\n\n\n\n\n\n\n\n\n\n\n\nFRIDAY – FEBRUARY 20th\nPiano After Work\, The Blacksmith\, 4:00\, Jackson \nHarpDawg Bluesman (acoustic)\, Passantino’s\, 5:00\, Medina \nKelso Mojo (acoustic)\, Main & Monroe\, 5:30\, Lexington \nLive Music\, The Blacksmith\, 6:00\, Jackson \nJ-Wes Walker\, The Blacksmith\, 6:00\, Dyersburg \nLive Music (acoustic)\, Tekila\, 6:00\, Jackson \nLive Music\, Baker Bros. BBQ\, 6:30\, Jackson \nBeast & Beauty\, Mulligan’s\, 7:00\, Jackson \nLindsey Russell\, 731 Clubhouse\, 7:00\, Dyersburg \nGarren Robertson\, Blues Landing\, 7:00\, Buchanan \nKaraoke (w/ Musical Mayhem)\, The SPOT Eatery\, 7:00\, Bells \nKaraoke\, Southern State\, 7:00\, South Fulton \nRev. Jessie and the Holy Smokes Trio\, Elks Lodge #192\, 7:30\, Jackson \nBobby Stokely and the Bandits\, Redbone’s\, 8:00\, Jackson \nJustin Hinson\, Mojo’s\, 8:00\, Dyersburg \nKaraoke\, Darlin’s\, 8:00\, Sharon \nKaraoke\, Busby’s Bar & Grill\, 8:00\, Jackson \nKaraoke (w/ DJ Chuck Gee)\, Rotten’s Bar & Grill\, 8:00\, Dresden \nKaraoke\, The Bar\, 8:00\, Humboldt \nKaraoke (w/ Barry Summer)\, Hub City Brewing\, 8:30\, Jackson \nKaraoke (w/ Debbie Honey)\, Ricochet Bar\, 9:00\, Jackson \nKaraoke (w/ Kobra Karaoke)\, The Ponds\, 9:00\, Jackson \nCole Moore Band\, The City Limits\, 9:00\, Trenton \nJ Mays and Z Bro\, The Downtown Tavern\, 9:00\, Jackson \nMakenzie Phipps\, The Tap\, 9:00\, Jackson \nKaraoke\, Midway Bar\, 10:00\, Dyersburg\n\n\n\n\n\n\n\n\n\n\n\n\n\n\n\n\n\n\n\nSATURDAY – FEBRUARY 21st\nDavid Thomas & Bobby Stokely\, Livingston’s Soda Fountain and Grill\, 11:00\, Brownsville \nJustUs\, The Crown Winery\, 1:00\, Humboldt \nLive Music\, The Blacksmith\, 6:00\, Jackson \nKimberlie Helton (acoustic)\, Simon’s\, 6:00\, Bolivar \nThe Bullet Town Trio\, Main & Monroe\, 6:00\, Lexington \nKickNPony\, KickNPony Dance\, 6:30\, Millington \nUnplugged Underground (Trevor Wilson\, Madi Bell\, Aaron Pulvermacher\, & Victoria Dowdy)\, Underground Collective\, 7:00\, Jackson \nLindsey Russell\, Square Tavern\, 7:00\, Trenton \nTim Lynch Band\, Blues Landing\, 7:00\, Buchanan \nDouble Edge\, Community Center\, 7:00\, Reagan \nThe Country Connections Band\, Bootsie’s Barn Dance\, 7:00\, Gadsden \nKaraoke (w/ ATL Karaoke)\, Art’s Lounge\, 7:00\, Jackson \nDerrick Brantley\, Meo Mios\, 7:45\, Bath Springs \nKelso Mojo\, T-Bone’s Tavern\, 8:00\, Paris \nRev. Jessie and the Holy Smokes\, VFW Post 4881\, 8:00\, Ripley \nTyler Coker & The Night Shift\, The Rusty Nail\, 8:00\, Guys \nFate Mcaffee\, Mojo’s\, 8:00\, Dyersburg \nKaraoke (w/ Debbie Honey)\, The City Limits Bar\, 8:00\, Trenton \nKaraoke (w/ Bobby & Laurie)\, Twin Oaks Sports Bar\, 8:00\, Brownsville \nTyler Farr\, Hub City Brewing\, 8:00\, Jackson \nSingo\, Redbone’s\, 8:30\, Jackson \nKaraoke Contest (w/ Kobra Karaoke)\, The Ponds\, 9:00\, Medon \nKaraoke (w/ Kev)\, Ricochet Bar\, 9:00\, Jackson \n45 South Band\, The Pine Ridge Club\, 9:00\, Medon \nLive Music\, Slide and Ride Rodeo\, 9:00\, Jackson \nDAEPAE\, The Tap\, 9:00\, Jackson \nLakewood Drive\, The Downtown Tavern\, 9:00\, Jackson \nKaraoke\, Midway Bar\, 10:00\, Dyersburg\n\n\n\n\n\n\n\n\n\n\n\n\n\n\n\n\n\n\n\nSUNDAY – FEBRUARY 22nd\n  \nScott Myatt\, Crown Winery\, 1:00\, Humboldt \nDJ Leslie\, The Tap\, 9:30\, Jackson\n\n\n\n\n\n\n\n\n\n\n\n\n\n\n\n\n\n\n\nMONDAY – FEBRUARY 23rd\nLive Music\, VFW on Airways\, 7:00\, Jackson\n\n\n\n\n\n\n\n\n\n\n\n\n\n\n\n\n\n\n\nTUESDAY – FEBRUARY 24th\nKaraoke (w/ ATL Karaoke)\, JT’s Sports Bar & Patio\, 7:00\, Jackson \nThe Country Connection Band\, Bootsie’s Barn Dance\, 7:00\, Gadsden
URL:https://visitjacksontn.com/event/weekly-music-events-37/
CATEGORIES:Events,Music
ATTACH;FMTTYPE=image/jpeg:https://visitjacksontn.com/wp-content/uploads/637795064_1383463910460803_5015315724785319226_n.jpg
END:VEVENT
BEGIN:VEVENT
DTSTART;TZID=America/Chicago:20260221T110000
DTEND;TZID=America/Chicago:20260221T110000
DTSTAMP:20260422T220600
CREATED:20260202T165451Z
LAST-MODIFIED:20260202T165451Z
UID:10005940-1771671600-1771671600@visitjacksontn.com
SUMMARY:Meet & Greet w/Nick Darnell and Open Auditions for the Model & Talent Expo
DESCRIPTION:Nick Darnell\, nationally recognized actor\, (the Grinch) and industry professional\, is returning to where it all began. Model & Talent Expo alongside the City of Jackson and The Ned McWherter West Tennessee Cultural Arts Center will host a Meet & Greet and Open Auditions for the Model & Talent Expo — the very same place Darnell got his start in the modeling and entertainment industry. \nThe event offers aspiring models\, actors\, and performers of all ages the opportunity to meet Darnell in person\, learn about the entertainment industry\, and audition for the Model & Talent Expo\, a premier showcase that connects new talent with top agents\, scouts\, and industry decision-makers from across the country. \n“Coming back to Jackson means everything to me\,” said Darnell. “This community helped shape who I am\, and I want to give others the same opportunity I was given. Dana McKellar held an open audition & saw something in me & pushed me to the next level at the Expo\, where I found my agents and moved to LA. She gave me the opportunity to be seen\, encouraged\, and guided me in the right direction.” \nDuring the event\, attendees will have the chance to: \n\nMeet Nick Darnell\nLearn what agents and scouts are really looking for\nParticipate in open auditions for the Model & Talent Expo\n\nAdmission is open to the public\, and no prior experience is required. Those selected at the audition may be invited to attend the upcoming Model & Talent Expo\, where they will perform and interview in front of top industry professionals. \n  \nAbout Model & Talent Expo Powered by Nouvelle Productions \nThe Model and Talent Expo is dedicated to discovering and developing the next generation of performers. Under the leadership of Dana McKellar\, the Expo combines mentorship\, education\, and industry exposure to transform raw potential into sustainable careers. Rooted in integrity and excellence\, we provide aspiring models and actors with the professional tools and confidence needed to thrive in a changing industry. Our mission is clear: to ignite potential and create meaningful pathways for talent to be seen and launched.
URL:https://visitjacksontn.com/event/meet-greet-w-nick-darnell-and-open-auditions-for-the-model-talent-expo/
LOCATION:The NED\, 314 East Main Street\, Jackson\, TN\, 38301\, United States
CATEGORIES:Events
ATTACH;FMTTYPE=image/jpeg:https://visitjacksontn.com/wp-content/uploads/627197302_1226077466379660_5364256402588550273_n.jpg
END:VEVENT
BEGIN:VEVENT
DTSTART;TZID=America/Chicago:20260221T180000
DTEND;TZID=America/Chicago:20260221T220000
DTSTAMP:20260422T220601
CREATED:20260116T171629Z
LAST-MODIFIED:20260205T154142Z
UID:10005931-1771696800-1771711200@visitjacksontn.com
SUMMARY:Studio 615 Comedy Show
DESCRIPTION:Grab your girls\, bring the good vibes\, and get ready for a night full of unforgettable comedy. We’re talking belly laughs\, real talk\, and pure fun! 💥 \n3 HOT Comedians from Memphis\, TN: \n\nWild Beale\nTra Wilder\nBigg Mickey\nRyan Bush\n\n🎟️ Get your tickets NOW at: LMAO731.eventbrite.com \nYou don’t want to miss this—this is gonna be the comedy event everyone’s talking about for weeks!
URL:https://visitjacksontn.com/event/studio-615-comedy-show/
LOCATION:Studio 615\, 615 S Royal St\, Jackson\, TN\, 38301\, United States
CATEGORIES:Events
ATTACH;FMTTYPE=image/jpeg:https://visitjacksontn.com/wp-content/uploads/626117648_1888223122053924_7940685875386952294_n.jpg
END:VEVENT
BEGIN:VEVENT
DTSTART;TZID=America/Chicago:20260221T190000
DTEND;TZID=America/Chicago:20260221T210000
DTSTAMP:20260422T220601
CREATED:20260212T151207Z
LAST-MODIFIED:20260212T151207Z
UID:10005979-1771700400-1771707600@visitjacksontn.com
SUMMARY:A Thing of Beauty
DESCRIPTION:“A Thing of Beauty” is a powerful drama inspired by a few pivotal days in the life of Edith Stein\, told through the character of Sarah Weiss\, also known as Sister Fransisca. Set within the receiving room of a convent\, the play explores faith\, identity\, and moral courage in the face of Nazi persecution. \n  \nThis production is staged inside a church chapel\, allowing the space itself to become the world of the play. The performance embraces simplicity and reverence\, drawing focus to the actors\, the text\, and the spiritual tension at the heart of the story. Original music and restrained visual design underscore the interior lives of these women as they wrestle with truth in a time of unspeakable danger. At its core\, “A Thing of Beauty” is about faith hard-won and fiercely-held\, the cost of conviction\, and the quiet courage required to remain faithful when the world demands silence. \n  \nContent Advisory: This production includes references to antisemitism\, anti-Jewish rhetoric\, and the realities of Nazi persecution\, which may be distressing for some audience members. \n  \nDoors open half an hour prior to the performance.
URL:https://visitjacksontn.com/event/a-thing-of-beauty/2026-02-21/
LOCATION:First Methodist – Downtown Jackson\, TN\, 200 S. Church St\, Jackson\, TN\, 38301\, United States
CATEGORIES:Events,History
ATTACH;FMTTYPE=image/png:https://visitjacksontn.com/wp-content/uploads/Screenshot-2026-02-12-090435.png
END:VEVENT
BEGIN:VEVENT
DTSTART;TZID=America/Chicago:20260221T200000
DTEND;TZID=America/Chicago:20260221T220000
DTSTAMP:20260422T220601
CREATED:20260105T222225Z
LAST-MODIFIED:20260121T152005Z
UID:10005804-1771704000-1771711200@visitjacksontn.com
SUMMARY:Pressed & Poetic
DESCRIPTION:A night for the culture Free live music + spoken word from local artists. Complimentary mocktails while they last\, and BYOB if you’d like something stronger. Pull up\, pour up\, and feel the art. \n  \nSponsored by City of Jackson and Neighborhood Improvement Project Grant / Love My Block
URL:https://visitjacksontn.com/event/pressed-poetic/
LOCATION:Crystal’s Zen and Juice\, 580 S. Royal St.\, Jackson\, TN\, 38301\, United States
CATEGORIES:Arts & Culture,Events
ATTACH;FMTTYPE=image/png:https://visitjacksontn.com/wp-content/uploads/Screenshot-2026-01-21-091925.png
END:VEVENT
END:VCALENDAR