BEGIN:VCALENDAR
VERSION:2.0
PRODID:-//Jackson Tourism - ECPv6.15.20//NONSGML v1.0//EN
CALSCALE:GREGORIAN
METHOD:PUBLISH
X-WR-CALNAME:Jackson Tourism
X-ORIGINAL-URL:https://visitjacksontn.com
X-WR-CALDESC:Events for Jackson Tourism
REFRESH-INTERVAL;VALUE=DURATION:PT1H
X-Robots-Tag:noindex
X-PUBLISHED-TTL:PT1H
BEGIN:VTIMEZONE
TZID:America/Chicago
BEGIN:DAYLIGHT
TZOFFSETFROM:-0600
TZOFFSETTO:-0500
TZNAME:CDT
DTSTART:20250309T080000
END:DAYLIGHT
BEGIN:STANDARD
TZOFFSETFROM:-0500
TZOFFSETTO:-0600
TZNAME:CST
DTSTART:20251102T070000
END:STANDARD
BEGIN:DAYLIGHT
TZOFFSETFROM:-0600
TZOFFSETTO:-0500
TZNAME:CDT
DTSTART:20260308T080000
END:DAYLIGHT
BEGIN:STANDARD
TZOFFSETFROM:-0500
TZOFFSETTO:-0600
TZNAME:CST
DTSTART:20261101T070000
END:STANDARD
BEGIN:DAYLIGHT
TZOFFSETFROM:-0600
TZOFFSETTO:-0500
TZNAME:CDT
DTSTART:20270314T080000
END:DAYLIGHT
BEGIN:STANDARD
TZOFFSETFROM:-0500
TZOFFSETTO:-0600
TZNAME:CST
DTSTART:20271107T070000
END:STANDARD
END:VTIMEZONE
BEGIN:VEVENT
DTSTART;VALUE=DATE:20260211
DTEND;VALUE=DATE:20260218
DTSTAMP:20260423T115147
CREATED:20260213T190803Z
LAST-MODIFIED:20260213T190803Z
UID:10005999-1770768000-1771372799@visitjacksontn.com
SUMMARY:Weekly Music Events
DESCRIPTION:WEDNESDAY – FEBRUARY 11th\nPiano After Work\, The Blacksmith\, 4:00\, Jackson \nJosh Smith & Bill Cross\, Mulligan’s\, 6:30\, Jackson \nKickin’ It w/ Karleigh\, The Tap\, 8:30\, Jackson\n\n\n\n\n\n\n\n\n\n\n\n\n\n\n\n\n\n\n\nTHURSDAY – FEBRUARY 12th\n  \nPiano After Work\, The Blacksmith\, 4:00\, Jackson \nIzzy Arthurs & Mason Henson\, Room 208\, 6:00\, Jackson \nOpen Jam (w/ Adam Johnson)\, Baker Bros BBQ\, 6:30\, Jackson \nSingo (w/ Barry Summer)\, Hub City Brewing\, 7:00\, Jackson \nJohnny Mac\, Blues Landing\, 7:00\, Buchanan \nWallace & Company\, ALA Dance at the Carroll County Civic Center\, 7:00\, Huntingdon \nKaraoke (w/ DJ Chuck Gee)\, Cadillac’s\, 7:00\, Martin \nOpen Jam (w/ Adam Johnson)\, The Downtown Tavern\, 8:30\, Jackson \nKaraoke (w/ ATL Karaoke)\, The Tap\, 9:30\, Jackson\n\n\n\n\n\n\n\n\n\n\n\n\n\n\n\n\n\n\n\nFRIDAY – FEBRUARY 13th\nPiano After Work\, The Blacksmith\, 4:00\, Jackson \nMatt Boone (acoustic)\, Passantino’s\, 5:00\, Medina \nBrook Cagle\, Main & Monroe\, 5:30\, Lexington \nJackson’s Hubtet\, The Blacksmith\, 6:00\, Jackson \nKelso Mojo (acoustic)\, Tekila\, 6:00\, Jackson \nGoat City\, Baker Bros. BBQ\, 6:30\, Jackson \nBeast & Beauty\, El Potrillo\, 6:30\, Lexington \nRev. Jessie and the Holy Smokes\, Mulligan’s\, 7:00\, Jackson \nHope MacGregor\, Icehouse of Jackson\, 7:00\, Jackson \nChelsea Rhodes\, Rage n Axe\, 7:00\, Clarksville \nTommy Akers\, Blues Landing\, 7:00\, Buchanan \nThe Willie and George Show\, Elk’s Lodge\, 7:00\, Henderson \nKaraoke\, Southern State\, 7:00\, South Fulton \nKaraoke (w/ Musical Mayhem)\, The SPOT Eatery\, 7:00\, Bells \nCool Daddy Trio\, Elks Lodge #192\, 7:30\, Jackson \nLindsey Russell\, Elks Lodge\, 7:30\, Trenton \nKimberlie Helton Band\, Redbone’s\, 8:00\, Jackson \nKaraoke (w/ Ray & The Party Nation)\, Mojo’s\, 8:00\, Dyersburg \nKaraoke (w/ DJ Chuck Gee)\, Rotten’s Bar & Grill\, 8:00\, Dresden \nCole Moore (acoustic)\, The Bar\, 8:00\, Humboldt \nKaraoke\, Darlin’s\, 8:00\, Sharon \nKaraoke\, Busby’s Bar & Grill\, 8:00\, Jackson \nKaraoke (w/ Barry Summer)\, Hub City Brewing\, 8:30\, Jackson \nKaraoke (w/ Debbie Honey)\, Ricochet Bar\, 9:00\, Jackson \nKaraoke (w/ Kobra Karaoke)\, The Ponds\, 9:00\, Jackson \nLive Music\, The Downtown Tavern\, 9:00\, Jackson \nLive Music\, The Tap\, 9:00\, Jackson \nKaraoke\, Midway Bar\, 10:00\, Dyersburg\n\n\n\n\n\n\n\n\n\n\n\n\n\n\n\n\n\n\n\nSATURDAY – FEBRUARY 14th\nHarrison Wilson\, Crafted Coffee\, 10:00\, Covington \nLive Music\, Crown Winery\, 1:00\, Humboldt \nLindsey Russell & Bobby Stokely\, Livingston’s Soda Fountain and Grill\, 5:00\, Brownsville \nTim Moore & Alex Hodge\, Main & Monroe\,  5:30\, Lexington \nBen T. Colling\, The Blacksmith\, 6:00\, Jackson \nJason Vales (acoustic)\, Simon’s\, 6:00\, Bolivar \nChelsea Rhodes\, McKenzie Taproom & Restaurant\, 6:00\, McKenzie \nMacy Mitchell & Dawson Steagall\, The Mic Stand\, 7:00\, Huntingdon \nThe Allen Warren Band\, Blues Landing\, 7:00\, Buchanan \nFour Wheel Drive\, Community Center\, 7:00\, Reagan \nThe Will Beyer Band\, Bootsie’s Barn Dance\, 7:00\, Gadsden \nCool Daddy Trio\, McKenzie Senior Citizens Center\, 7:00\, McKenzie \nKaraoke (w/ ATL Karaoke)\, Art’s Lounge\, 7:00\, Jackson \n The Doo Wop Project\, Dixie PAC\, 7:30\, Huntingdon  \n The Jackson Symphony: Symphony Soiree\, Carl Perkins Civic Center\, 7:30\, Jackson  \n 80’s Prom Night\, Elks Lodge #192\, 8:00\, Jackson  \nMoxy Drive\, Square Tavern\, 8:00\, Trenton \nSouthern Rose\, Mojo’s\, 8:00\, Dyersburg \nKaraoke (w/ Debbie Honey)\, The City Limits Bar\, 8:00\, Trenton \nKaraoke (w/ DJ Chuck Gee)\, MT Bottles\, 8:00\, Trezevant \nSingo\, Redbone’s\, 8:30\, Jackson \nKaraoke Contest (w/ Kobra Karaoke)\, The Ponds\, 9:00\, Medon \nKaraoke (w/ Kev)\, Ricochet Bar\, 9:00\, Jackson \nRedneck Country\, The Pine Ridge Club\, 9:00\, Medon \nMatt Boone Band\, Slide and Ride Rodeo\, 9:00\, Jackson \nBen & the Boys\, The Tap\, 9:00\, Jackson \nAdam Johnson\, The Downtown Tavern\, 9:00\, Jackson \nKaraoke\, Midway Bar\, 10:00\, Dyersburg\n\n\n\n\n\n\n\n\n\n\n\n\n\n\n\n\n\n\n\nSUNDAY – FEBRUARY 15th\n  \nScott Myatt\, Crown Winery\, 1:00\, Humboldt \nDJ Leslie\, The Tap\, 9:30\, Jackson\n\n\n\n\n\n\n\n\n\n\n\n\n\n\n\n\n\n\n\nMONDAY – FEBRUARY 16th\nLive Music\, VFW on Airways\, 7:00\, Jackson\n\n\n\n\n\n\n\n\n\n\n\n\n\n\n\n\n\n\n\nTUESDAY – FEBRUARY 17th\nKaraoke (w/ ATL Karaoke)\, JT’s Sports Bar & Patio\, 7:00\, Jackson \nThe Country Connection Band\, Bootsie’s Barn Dance\, 7:00\, Gadsden
URL:https://visitjacksontn.com/event/weekly-music-events-36/
CATEGORIES:Events,Music
ATTACH;FMTTYPE=image/jpeg:https://visitjacksontn.com/wp-content/uploads/633892482_1377303537743507_8126917493856618795_n.jpg
END:VEVENT
BEGIN:VEVENT
DTSTART;VALUE=DATE:20260214
DTEND;VALUE=DATE:20260215
DTSTAMP:20260423T115147
CREATED:20260202T181831Z
LAST-MODIFIED:20260202T181831Z
UID:10005941-1771027200-1771113599@visitjacksontn.com
SUMMARY:Valentines Day Extravaganza
DESCRIPTION:Love is in the air at Carriage House Café \nValentine’s Day Extravaganza\, an unforgettable evening of fine dining\, romance\, and indulgence. \n5 exquisite courses elegant presentation \nA truly special Valentine’s experience Valentine’s Day $125 per person Reservations required \nSave the date!!! \nmore details coming soon on Facebook page! \n#CarriageHouseCafe #ValentinesAtCarriageHouse #JacksonTNDining #FineDiningExperience
URL:https://visitjacksontn.com/event/valentines-day-extravaganza/
LOCATION:Carriage House Antique Market and Cafe\, 195 Carriage House Dr\, Jackson\, TN\, 38305\, United States
CATEGORIES:Events
ATTACH;FMTTYPE=image/jpeg:https://visitjacksontn.com/wp-content/uploads/617618582_1473951924740598_7067310003814691299_n.jpg
END:VEVENT
BEGIN:VEVENT
DTSTART;TZID=America/Chicago:20260214T080000
DTEND;TZID=America/Chicago:20260214T080000
DTSTAMP:20260423T115147
CREATED:20260212T155352Z
LAST-MODIFIED:20260212T155352Z
UID:10005984-1771056000-1771056000@visitjacksontn.com
SUMMARY:Valentine's Day 5k
DESCRIPTION:Valentine’s Day 5k At Fleet Feet Jackson\, TN \nOn Saturday February 14th at 8am \nCome run/walk a Valentine’s themed 5k & demo the brand new Altra Experience Flow 3!!!
URL:https://visitjacksontn.com/event/valentines-day-5k/
LOCATION:Fleet Feet\, Jackson\, TN\, 398 Oil Well Rd\, Jackson\, TN\, 38305\, United States
CATEGORIES:Events
ATTACH;FMTTYPE=image/jpeg:https://visitjacksontn.com/wp-content/uploads/623427371_1497154569078988_3710851361190082399_n.jpg
END:VEVENT
BEGIN:VEVENT
DTSTART;TZID=America/Chicago:20260214T083000
DTEND;TZID=America/Chicago:20260214T083000
DTSTAMP:20260423T115148
CREATED:20260204T160811Z
LAST-MODIFIED:20260204T160811Z
UID:10005952-1771057800-1771057800@visitjacksontn.com
SUMMARY:Great Backyard Birdcount
DESCRIPTION:Mother nature has been stirring things up in our town. Join us in discovering what new birds have come in or what species hung around for the “Great Backyard Bird Count” Saturday February 14th and Monday February 16th!!All birding experience levels are welcome.
URL:https://visitjacksontn.com/event/great-backyard-birdcount/2026-02-14/
LOCATION:Cypress Grove Nature Park\, 866 Airways Blvd\, Jackson\, T\, 38301\, United States
CATEGORIES:Events,Outdoor
ATTACH;FMTTYPE=image/png:https://visitjacksontn.com/wp-content/uploads/Screenshot-2026-02-04-100331.png
END:VEVENT
BEGIN:VEVENT
DTSTART;TZID=America/Chicago:20260214T140000
DTEND;TZID=America/Chicago:20260214T163000
DTSTAMP:20260423T115148
CREATED:20260114T165227Z
LAST-MODIFIED:20260114T165923Z
UID:10005856-1771077600-1771086600@visitjacksontn.com
SUMMARY:Union University Women’s Basketball vs. University of Alabama in Huntsville | 2:00PM
DESCRIPTION:Union University Women’s Basketball takes on University of Alabama in Huntsville at 2:00PM at Fred DeLay Gymnasium. \nIt’s a great opportunity to experience the excitement of collegiate sports in our community! \nFREE ADMISSION courtesy of FirstBank
URL:https://visitjacksontn.com/event/union-university-womens-basketball-vs-university-of-alabama-in-huntsville-200pm/
LOCATION:Fred DeLay Gymnasium.\, 1050 University Drive\, Jackson\, TN\, 38305\, United States
CATEGORIES:Events,Sports & Outdoor
ATTACH;FMTTYPE=image/png:https://visitjacksontn.com/wp-content/uploads/union-bball-logo.png
END:VEVENT
BEGIN:VEVENT
DTSTART;TZID=America/Chicago:20260214T160000
DTEND;TZID=America/Chicago:20260214T180000
DTSTAMP:20260423T115148
CREATED:20260114T171227Z
LAST-MODIFIED:20260114T171227Z
UID:10005862-1771084800-1771092000@visitjacksontn.com
SUMMARY:Union University Men’s Basketball vs. University of Alabama in Huntsville | 4:00PM
DESCRIPTION:Union University Men’s Basketball takes on University of Alabama in Huntsville at 4:00PM at Fred DeLay Gymnasium. \nIt’s a great opportunity to experience the excitement of collegiate sports in our community! \nFREE ADMISSION courtesy of FirstBank
URL:https://visitjacksontn.com/event/union-university-mens-basketball-vs-university-of-alabama-in-huntsville-400pm/
LOCATION:Fred DeLay Gymnasium.\, 1050 University Drive\, Jackson\, TN\, 38305\, United States
CATEGORIES:Events,Sports & Outdoor
ATTACH;FMTTYPE=image/png:https://visitjacksontn.com/wp-content/uploads/union-bball-logo.png
END:VEVENT
BEGIN:VEVENT
DTSTART;TZID=America/Chicago:20260214T190000
DTEND;TZID=America/Chicago:20260214T190000
DTSTAMP:20260423T115148
CREATED:20260202T183424Z
LAST-MODIFIED:20260202T183424Z
UID:10005942-1771095600-1771095600@visitjacksontn.com
SUMMARY:Valentines Dinner @ Doubletree by Hilton
DESCRIPTION:For Reservations call 731-410-2036
URL:https://visitjacksontn.com/event/valentines-dinner-doubletree-by-hilton/
LOCATION:DoubleTree by Hilton\, 1770 US-45 BYP\, Jackson\, TN\, 38305\, United States
CATEGORIES:Events
ATTACH;FMTTYPE=image/jpeg:https://visitjacksontn.com/wp-content/uploads/624163175_10225598266583595_3262909981424534632_n-1.jpg
END:VEVENT
BEGIN:VEVENT
DTSTART;TZID=America/Chicago:20260214T190000
DTEND;TZID=America/Chicago:20260214T220000
DTSTAMP:20260423T115148
CREATED:20260210T191431Z
LAST-MODIFIED:20260210T191431Z
UID:10005976-1771095600-1771106400@visitjacksontn.com
SUMMARY: LOVE BITES & SOUR FLIGHTS 
DESCRIPTION:LOVE BITES & SOUR FLIGHTS  \nA Valentine’s Sour Beer & Charcuterie Experience \nWhere Tart Meets Heart. \nThis Valentine’s Day\, we’re skipping the candlelight clichés and turning up the flavor. \nJoin us at Hub City Brewing for a night of bold\, fruit-forward sour flights perfectly paired with a curated charcuterie spread. Think vibrant tropical\, orchard-fresh\, citrus-kissed\, and blush-worthy sours — each one crafted to make your taste buds fall in love. 9 unlimited sour offerings! Artisan meats & cheeses Big flavor. Zero stuffiness. Brewery energy all night long. \nSaturday\, February 14th 7:00 PM – 10:00 PM \n$30 Individual | $50 Per Couple \nhttps://www.hubcityevents.com/…/love-bites-sour-flights… \nWhether you’re bringing a date\, your crew\, or just your love for sour beer — this is your Valentine’s plan. \nSeats are limited. Don’t get left heartbroken.
URL:https://visitjacksontn.com/event/love-bites-sour-flights/
LOCATION:Hub City Brewing\, 250 West Main Street\, Jackson\, TN\, 38301\, United States
CATEGORIES:Events
ATTACH;FMTTYPE=image/jpeg:https://visitjacksontn.com/wp-content/uploads/633390987_1549671557164854_462793521434547198_n.jpg
END:VEVENT
BEGIN:VEVENT
DTSTART;TZID=America/Chicago:20260214T193000
DTEND;TZID=America/Chicago:20260214T193000
DTSTAMP:20260423T115148
CREATED:20250506T213734Z
LAST-MODIFIED:20250506T214025Z
UID:10005553-1771097400-1771097400@visitjacksontn.com
SUMMARY:A Symphony Soiree - Valentine Pops
DESCRIPTION:You’re cordially invited to an enchanting evening of romance and glamour with The Jackson Symphony. \nInspired by the music of Bridgerton\, this Valentine’s concert blends swoon-worthy classical works with modern pop hits—performed by two stunning vocalists and full orchestra—for a symphony ball filled with elegance\, charm\, and just a hint of mischief.
URL:https://visitjacksontn.com/event/a-symphony-soiree-valentine-pops/
LOCATION:Carl Perkins Civic Center\, 400 South Highland Avenue\, Jackson\, TN\, 38301\, United States
CATEGORIES:Events,Music
ATTACH;FMTTYPE=image/avif:https://visitjacksontn.com/wp-content/uploads/3f13fd_b3e8dde8f07b4e819b8131aa7b0dd71bmv2.avif
END:VEVENT
END:VCALENDAR