BEGIN:VCALENDAR
VERSION:2.0
PRODID:-//Jackson Tourism - ECPv6.15.20//NONSGML v1.0//EN
CALSCALE:GREGORIAN
METHOD:PUBLISH
X-ORIGINAL-URL:https://visitjacksontn.com
X-WR-CALDESC:Events for Jackson Tourism
REFRESH-INTERVAL;VALUE=DURATION:PT1H
X-Robots-Tag:noindex
X-PUBLISHED-TTL:PT1H
BEGIN:VTIMEZONE
TZID:America/Chicago
BEGIN:DAYLIGHT
TZOFFSETFROM:-0600
TZOFFSETTO:-0500
TZNAME:CDT
DTSTART:20240310T080000
END:DAYLIGHT
BEGIN:STANDARD
TZOFFSETFROM:-0500
TZOFFSETTO:-0600
TZNAME:CST
DTSTART:20241103T070000
END:STANDARD
BEGIN:DAYLIGHT
TZOFFSETFROM:-0600
TZOFFSETTO:-0500
TZNAME:CDT
DTSTART:20250309T080000
END:DAYLIGHT
BEGIN:STANDARD
TZOFFSETFROM:-0500
TZOFFSETTO:-0600
TZNAME:CST
DTSTART:20251102T070000
END:STANDARD
BEGIN:DAYLIGHT
TZOFFSETFROM:-0600
TZOFFSETTO:-0500
TZNAME:CDT
DTSTART:20260308T080000
END:DAYLIGHT
BEGIN:STANDARD
TZOFFSETFROM:-0500
TZOFFSETTO:-0600
TZNAME:CST
DTSTART:20261101T070000
END:STANDARD
END:VTIMEZONE
BEGIN:VEVENT
DTSTART;TZID=America/Chicago:20251213T110000
DTEND;TZID=America/Chicago:20251214T110000
DTSTAMP:20260423T174935
CREATED:20251028T214440Z
LAST-MODIFIED:20251028T214440Z
UID:10005737-1765623600-1765710000@visitjacksontn.com
SUMMARY:The 10th Annual LOLO Christmas Show
DESCRIPTION:The LOLO Christmas Show and Gospel Brunch is an annual event\, held at Hub City Brewing in Historic Downtown Jackson\, TN\, to benefit RIFA’s Snack Backpack ministry. LOLO is a Grammy-nominated recording artist and Broadway veteran who was born and raised in Jackson. The event originated because of LOLO’s heart for her hometown and its children in need.  \nThis year’s 10th annual LOLO Christmas Show and Gospel Brunch will be three shows in one weekend. Saturday morning\, December 13th and Sunday morning\, December 14th\, the Gospel Brunch performances will begin serving food at 11AM and the live show will begin at 12:00PM. The Gospel Brunch performance is full of holiday spirit\, praise and worship! The Brunch events also feature a raffle\, silent auction\, and a live auction. In addition to performances by LOLO\, many other artists make guest appearances. \nSaturday night\, December 13th\, the ‘Not So Silent Night’ evening performance will be a general admission ticket with limited seating and rock n’ roll Christmas songs that will make you wanna deck the halls and dance the night away! \nThe LOLO Christmas Show events are open to people of all ages.  \nThe Snack Backpack ministry fights childhood food insecurity by providing consistent access to food on the weekends to Jackson-Madison County’s elementary school students. Through the ministry\, children who depend on free school breakfasts and lunches receive a Snack Backpack to take home each Friday. Each week\, 1\,000 students throughout the county receive a Snack Backpack from RIFA.
URL:https://visitjacksontn.com/event/the-10th-annual-lolo-christmas-show/
LOCATION:Hub City Brewing\, 250 West Main Street\, Jackson\, TN\, 38301\, United States
CATEGORIES:Events,Music
ATTACH;FMTTYPE=image/png:https://visitjacksontn.com/wp-content/uploads/lolo-.png
END:VEVENT
BEGIN:VEVENT
DTSTART;TZID=America/Chicago:20251214T150000
DTEND;TZID=America/Chicago:20251214T150000
DTSTAMP:20260423T174935
CREATED:20251104T170526Z
LAST-MODIFIED:20251104T170526Z
UID:10005753-1765724400-1765724400@visitjacksontn.com
SUMMARY:2nd Annual Ugly Sweater Run
DESCRIPTION:Hooray! We are doing it again this year! Join us for our annual Ugly Sweater 5K and 1 Miler\, all to benefit the Jackson Animal Care Center. The run will be free\, but we’ll be taking donations for JACC. Wear your ugliest sweater to win a free pair of tennis shoes\, get your picture taken with Santa and Mrs. Claus\, try out a pair of demo Hoka\, the activities are endless! Mark your calendar and plan to join us. We’re excited to have you there!
URL:https://visitjacksontn.com/event/2nd-annual-ugly-sweater-run/
LOCATION:Fleet Feet\, Jackson\, TN\, 398 Oil Well Rd\, Jackson\, TN\, 38305\, United States
CATEGORIES:Events
ATTACH;FMTTYPE=image/jpeg:https://visitjacksontn.com/wp-content/uploads/561631055_1402623038532142_1972138439997356037_n.jpg
END:VEVENT
END:VCALENDAR