BEGIN:VCALENDAR
VERSION:2.0
PRODID:-//Jackson Tourism - ECPv6.15.20//NONSGML v1.0//EN
CALSCALE:GREGORIAN
METHOD:PUBLISH
X-WR-CALNAME:Jackson Tourism
X-ORIGINAL-URL:https://visitjacksontn.com
X-WR-CALDESC:Events for Jackson Tourism
REFRESH-INTERVAL;VALUE=DURATION:PT1H
X-Robots-Tag:noindex
X-PUBLISHED-TTL:PT1H
BEGIN:VTIMEZONE
TZID:America/Chicago
BEGIN:DAYLIGHT
TZOFFSETFROM:-0600
TZOFFSETTO:-0500
TZNAME:CDT
DTSTART:20240310T080000
END:DAYLIGHT
BEGIN:STANDARD
TZOFFSETFROM:-0500
TZOFFSETTO:-0600
TZNAME:CST
DTSTART:20241103T070000
END:STANDARD
BEGIN:DAYLIGHT
TZOFFSETFROM:-0600
TZOFFSETTO:-0500
TZNAME:CDT
DTSTART:20250309T080000
END:DAYLIGHT
BEGIN:STANDARD
TZOFFSETFROM:-0500
TZOFFSETTO:-0600
TZNAME:CST
DTSTART:20251102T070000
END:STANDARD
BEGIN:DAYLIGHT
TZOFFSETFROM:-0600
TZOFFSETTO:-0500
TZNAME:CDT
DTSTART:20260308T080000
END:DAYLIGHT
BEGIN:STANDARD
TZOFFSETFROM:-0500
TZOFFSETTO:-0600
TZNAME:CST
DTSTART:20261101T070000
END:STANDARD
END:VTIMEZONE
BEGIN:VEVENT
DTSTART;TZID=America/Chicago:20251213T083000
DTEND;TZID=America/Chicago:20251213T083000
DTSTAMP:20260424T193849
CREATED:20250107T183552Z
LAST-MODIFIED:20250416T142324Z
UID:10005178-1765614600-1765614600@visitjacksontn.com
SUMMARY:Medal Madness 1M\, 5K\, 10K\, 15K\, & Half Marathon
DESCRIPTION:Don’t miss the Medal Madness 1M\, 5K\, 10K\, 15K\, & Half Marathon! \nThis scenic\, paved out-and-back race offers distances ranging from 1M to a Half Marathon. Packet pickup begins 30 minutes before the race (no on-site registration). All finishers will receive a themed medal\, and costumes are encouraged\, with a best costume award given at the start. The course has a time limit of 3 hours and 30 minutes. \nParking is available near the tennis courts\, and the starting line is next to the playground. Register now on RunSignup! For more details\, visit usroadrunning.com.
URL:https://visitjacksontn.com/event/medal-madness-1m-5k-10k-15k-half-marathon/
LOCATION:North Park\, 689 Cooper Anderson Rd #551\, Jackson\, TN\, 38305\, United States
CATEGORIES:Events,Sports & Outdoor
ATTACH;FMTTYPE=image/png:https://visitjacksontn.com/wp-content/uploads/genericImage-websiteLogo-227189-1736032191.7861-0.bNEB-_.png
END:VEVENT
BEGIN:VEVENT
DTSTART;TZID=America/Chicago:20251213T110000
DTEND;TZID=America/Chicago:20251214T110000
DTSTAMP:20260424T193849
CREATED:20251028T214440Z
LAST-MODIFIED:20251028T214440Z
UID:10005737-1765623600-1765710000@visitjacksontn.com
SUMMARY:The 10th Annual LOLO Christmas Show
DESCRIPTION:The LOLO Christmas Show and Gospel Brunch is an annual event\, held at Hub City Brewing in Historic Downtown Jackson\, TN\, to benefit RIFA’s Snack Backpack ministry. LOLO is a Grammy-nominated recording artist and Broadway veteran who was born and raised in Jackson. The event originated because of LOLO’s heart for her hometown and its children in need.  \nThis year’s 10th annual LOLO Christmas Show and Gospel Brunch will be three shows in one weekend. Saturday morning\, December 13th and Sunday morning\, December 14th\, the Gospel Brunch performances will begin serving food at 11AM and the live show will begin at 12:00PM. The Gospel Brunch performance is full of holiday spirit\, praise and worship! The Brunch events also feature a raffle\, silent auction\, and a live auction. In addition to performances by LOLO\, many other artists make guest appearances. \nSaturday night\, December 13th\, the ‘Not So Silent Night’ evening performance will be a general admission ticket with limited seating and rock n’ roll Christmas songs that will make you wanna deck the halls and dance the night away! \nThe LOLO Christmas Show events are open to people of all ages.  \nThe Snack Backpack ministry fights childhood food insecurity by providing consistent access to food on the weekends to Jackson-Madison County’s elementary school students. Through the ministry\, children who depend on free school breakfasts and lunches receive a Snack Backpack to take home each Friday. Each week\, 1\,000 students throughout the county receive a Snack Backpack from RIFA.
URL:https://visitjacksontn.com/event/the-10th-annual-lolo-christmas-show/
LOCATION:Hub City Brewing\, 250 West Main Street\, Jackson\, TN\, 38301\, United States
CATEGORIES:Events,Music
ATTACH;FMTTYPE=image/png:https://visitjacksontn.com/wp-content/uploads/lolo-.png
END:VEVENT
BEGIN:VEVENT
DTSTART;TZID=America/Chicago:20251213T210000
DTEND;TZID=America/Chicago:20251213T223000
DTSTAMP:20260424T193849
CREATED:20251103T160622Z
LAST-MODIFIED:20251103T160622Z
UID:10005751-1765659600-1765665000@visitjacksontn.com
SUMMARY:Stargazing at Pinson Mounds
DESCRIPTION:Come on out to experience the night sky in the same manner the Indigenous people of Pinson would have. Join the Rangers of Pinson Mounds to learn about stargazing practices during the Woodland period and how it helped to shape the construction of the Pinson Mound Complex. \nAfter a brief presentation by the Rangers\, we will take time to relax under the stars! \nThis program is fee based. The cost is $5 per participants. \nYou will need to bring: A picnic blanket or lawn chair\, Weather appropriate clothing (It may be cold!) A bottle of water or warm drink. A positive attitude! \nParticipation in this program comes with some perks! Hot chocolate will be available during the program! We will be offering a 15% off on select items from the Gift shop that relate to the theme of the program!
URL:https://visitjacksontn.com/event/stargazing-at-pinson-mounds-3/
LOCATION:Pinson Mounds\, 460 Ozier Rd\, Pinson\, TN\, 38366\, United States
CATEGORIES:Events
ATTACH;FMTTYPE=image/jpeg:https://visitjacksontn.com/wp-content/uploads/570308747_1238380635000410_7771459468436919033_n.jpg
END:VEVENT
END:VCALENDAR