BEGIN:VCALENDAR
VERSION:2.0
PRODID:-//Jackson Tourism - ECPv6.15.20//NONSGML v1.0//EN
CALSCALE:GREGORIAN
METHOD:PUBLISH
X-ORIGINAL-URL:https://visitjacksontn.com
X-WR-CALDESC:Events for Jackson Tourism
REFRESH-INTERVAL;VALUE=DURATION:PT1H
X-Robots-Tag:noindex
X-PUBLISHED-TTL:PT1H
BEGIN:VTIMEZONE
TZID:America/Chicago
BEGIN:DAYLIGHT
TZOFFSETFROM:-0600
TZOFFSETTO:-0500
TZNAME:CDT
DTSTART:20240310T080000
END:DAYLIGHT
BEGIN:STANDARD
TZOFFSETFROM:-0500
TZOFFSETTO:-0600
TZNAME:CST
DTSTART:20241103T070000
END:STANDARD
BEGIN:DAYLIGHT
TZOFFSETFROM:-0600
TZOFFSETTO:-0500
TZNAME:CDT
DTSTART:20250309T080000
END:DAYLIGHT
BEGIN:STANDARD
TZOFFSETFROM:-0500
TZOFFSETTO:-0600
TZNAME:CST
DTSTART:20251102T070000
END:STANDARD
BEGIN:DAYLIGHT
TZOFFSETFROM:-0600
TZOFFSETTO:-0500
TZNAME:CDT
DTSTART:20260308T080000
END:DAYLIGHT
BEGIN:STANDARD
TZOFFSETFROM:-0500
TZOFFSETTO:-0600
TZNAME:CST
DTSTART:20261101T070000
END:STANDARD
END:VTIMEZONE
BEGIN:VEVENT
DTSTART;VALUE=DATE:20251205
DTEND;VALUE=DATE:20251207
DTSTAMP:20260424T060614
CREATED:20250224T184528Z
LAST-MODIFIED:20250224T184528Z
UID:10005288-1764892800-1765065599@visitjacksontn.com
SUMMARY:Dynamix Hoopfest
DESCRIPTION:Get ready for Dynamix Hoopfest\, a premier basketball showcase bringing together top high school and middle school teams from across Tennessee! \nThis event offers top-tier competition\, player exposure\, and an unforgettable experience. Best of all\, participation is free for teams!
URL:https://visitjacksontn.com/event/dynamix-hoopfest/
CATEGORIES:Events,Sports & Outdoor
ATTACH;FMTTYPE=image/jpeg:https://visitjacksontn.com/wp-content/uploads/480807839_29473311698926316_5493257308593008602_n.jpg
END:VEVENT
BEGIN:VEVENT
DTSTART;VALUE=DATE:20251205
DTEND;VALUE=DATE:20251208
DTSTAMP:20260424T060614
CREATED:20250204T155037Z
LAST-MODIFIED:20250204T155605Z
UID:10005256-1764892800-1765151999@visitjacksontn.com
SUMMARY:Jackson's Hub City Flea Market
DESCRIPTION:Discover an incredible variety of vendors at Jackson’s Hub City Flea Market\, held every first Friday to Sunday of the month! \nBrowse collectibles\, antiques\, trendy finds\, and hidden treasures while enjoying live music and delicious offerings from food trucks. Whether you’re searching for unique gifts or just looking for a fun day out\, this event has something for everyone. \nDates and Times: \nDecember 5 – 5:00 PM – 8:00 PM \nDecember 6 – 9:00 AM – 6:00 PM \nDecember 7 – 9:00 AM – 5:00 PM
URL:https://visitjacksontn.com/event/jacksons-hub-city-flea-market-21/
LOCATION:Jackson Fairgrounds\, 800 S. Highland Ave\, Jackson\, TN\, 38301\, United States
CATEGORIES:Events
ATTACH;FMTTYPE=image/jpeg:https://visitjacksontn.com/wp-content/uploads/295852656_154348647185154_6885629444478173904_n-1.jpg
END:VEVENT
BEGIN:VEVENT
DTSTART;TZID=America/Chicago:20251206T100000
DTEND;TZID=America/Chicago:20251206T160000
DTSTAMP:20260424T060614
CREATED:20251030T135131Z
LAST-MODIFIED:20251030T135131Z
UID:10005746-1765015200-1765036800@visitjacksontn.com
SUMMARY:Christmas at the Walk
DESCRIPTION:Join us for a Christmas shopping extravaganza hosted by all of us located at the Jackson Walk and featuring artisan vendors. Find the perfect gifts for everyone on your list while supporting some of your favorite local brands.
URL:https://visitjacksontn.com/event/christmas-at-the-walk-2/
LOCATION:Jackson Walk\, 102 Jackson Walk Plaza\, Jackson\, TN\, 38301\, United States
CATEGORIES:Events
ATTACH;FMTTYPE=image/png:https://visitjacksontn.com/wp-content/uploads/Christmas-SQUARE-2025.png
ORGANIZER;CN="Garner Blue Shop":MAILTO:garnerblueshop@gmail.com
END:VEVENT
BEGIN:VEVENT
DTSTART;TZID=America/Chicago:20251206T120000
DTEND;TZID=America/Chicago:20251206T120000
DTSTAMP:20260424T060614
CREATED:20251112T145445Z
LAST-MODIFIED:20251112T145445Z
UID:10005759-1765022400-1765022400@visitjacksontn.com
SUMMARY:Good Tidings Market
DESCRIPTION:This event is an opportunity for local non-profit organizations to raise money to help support their respective efforts by selling or offering items in exchange for suggested donations. It is also a wonderful chance for members of the community to find unique gifts\, decorations\, keepsakes\, and/or artwork for the holiday season while giving to worthwhile causes! \nRegistration is open to non-profit organizations and community groups free of charge and with no vendor fees. Non-profit organizations can visit our Communications and Engagement website under the Government tab at https://jacksontn.gov and select the “Good Tidings Market Registration” button to register. \nStall and setup for participating organizations will begin at 11:00 AM. \nFor more information\, contact City of Jackson\, TN Community Relations Director Christiana Gallagher at CGallagher@JacksonTN.gov.
URL:https://visitjacksontn.com/event/good-tidings-market/
LOCATION:West TN Farmers Market\, 91 New Market St.\, Jackson\, TN\, 38301\, United States
CATEGORIES:Events
ATTACH;FMTTYPE=image/jpeg:https://visitjacksontn.com/wp-content/uploads/574862138_1156400346680706_6278745631079170925_n.jpg
END:VEVENT
END:VCALENDAR