BEGIN:VCALENDAR
VERSION:2.0
PRODID:-//Jackson Tourism - ECPv6.15.20//NONSGML v1.0//EN
CALSCALE:GREGORIAN
METHOD:PUBLISH
X-WR-CALNAME:Jackson Tourism
X-ORIGINAL-URL:https://visitjacksontn.com
X-WR-CALDESC:Events for Jackson Tourism
REFRESH-INTERVAL;VALUE=DURATION:PT1H
X-Robots-Tag:noindex
X-PUBLISHED-TTL:PT1H
BEGIN:VTIMEZONE
TZID:America/Chicago
BEGIN:DAYLIGHT
TZOFFSETFROM:-0600
TZOFFSETTO:-0500
TZNAME:CDT
DTSTART:20240310T080000
END:DAYLIGHT
BEGIN:STANDARD
TZOFFSETFROM:-0500
TZOFFSETTO:-0600
TZNAME:CST
DTSTART:20241103T070000
END:STANDARD
BEGIN:DAYLIGHT
TZOFFSETFROM:-0600
TZOFFSETTO:-0500
TZNAME:CDT
DTSTART:20250309T080000
END:DAYLIGHT
BEGIN:STANDARD
TZOFFSETFROM:-0500
TZOFFSETTO:-0600
TZNAME:CST
DTSTART:20251102T070000
END:STANDARD
BEGIN:DAYLIGHT
TZOFFSETFROM:-0600
TZOFFSETTO:-0500
TZNAME:CDT
DTSTART:20260308T080000
END:DAYLIGHT
BEGIN:STANDARD
TZOFFSETFROM:-0500
TZOFFSETTO:-0600
TZNAME:CST
DTSTART:20261101T070000
END:STANDARD
END:VTIMEZONE
BEGIN:VEVENT
DTSTART;VALUE=DATE:20251031
DTEND;VALUE=DATE:20251103
DTSTAMP:20260423T113036
CREATED:20250204T154609Z
LAST-MODIFIED:20250204T154620Z
UID:10005255-1761868800-1762127999@visitjacksontn.com
SUMMARY:Jackson's Hub City Flea Market
DESCRIPTION:Discover an incredible variety of vendors at Jackson’s Hub City Flea Market\, held every first Friday to Sunday of the month! \nBrowse collectibles\, antiques\, trendy finds\, and hidden treasures while enjoying live music and delicious offerings from food trucks. Whether you’re searching for unique gifts or just looking for a fun day out\, this event has something for everyone. \nDates and Times: \nOctober 31 – 5:00 PM – 8:00 PM \nNovember 1 – 9:00 AM – 6:00 PM \nNovember 2 – 9:00 AM – 5:00 PM
URL:https://visitjacksontn.com/event/jacksons-hub-city-flea-market-20/
LOCATION:Jackson Fairgrounds\, 800 S. Highland Ave\, Jackson\, TN\, 38301\, United States
CATEGORIES:Events
ATTACH;FMTTYPE=image/jpeg:https://visitjacksontn.com/wp-content/uploads/295852656_154348647185154_6885629444478173904_n-1.jpg
END:VEVENT
BEGIN:VEVENT
DTSTART;TZID=America/Chicago:20251101T190000
DTEND;TZID=America/Chicago:20251101T203000
DTSTAMP:20260423T113036
CREATED:20250612T144253Z
LAST-MODIFIED:20250612T144542Z
UID:10005619-1762023600-1762029000@visitjacksontn.com
SUMMARY:The Winery Comedy Tour
DESCRIPTION:Get ready to laugh your socks off at The Winery Comedy Tour at Century Farm Winery – a night of hilarious stand-up and top-notch drinks! \nThe Winery Comedy Tour is hitting the road and making a stop at this awesome venue. Get ready to enjoy some hilarious stand-up comedy from talented comedians while sipping on delicious drinks. This in-person event promises to be a night full of fun and laughter. Don’t miss out on this unique comedy experience!
URL:https://visitjacksontn.com/event/the-winery-comedy-tour-4/
LOCATION:Century Farm Winery\, 1548 Lower Brownsville Rd.\, Jackson\, TN\, 38301\, United States
CATEGORIES:Arts & Culture,Events
ATTACH;FMTTYPE=image/jpeg:https://visitjacksontn.com/wp-content/uploads/487483101_955041863502669_4168466362393988362_n-1.jpg
END:VEVENT
BEGIN:VEVENT
DTSTART;TZID=America/Chicago:20251101T193000
DTEND;TZID=America/Chicago:20251101T193000
DTSTAMP:20260423T113036
CREATED:20250909T154439Z
LAST-MODIFIED:20250909T154439Z
UID:10005709-1762025400-1762025400@visitjacksontn.com
SUMMARY:Cocktails and Classics
DESCRIPTION:  \nJoin us for an evening of music\, romance\, and revelry as we toast to a new era with Music Director Paul Haas. With a signature cocktail available for each piece and an after-party to follow\, this night features Beethoven’s beloved Symphony No. 7\, Dvořák’s lush Cello Concerto performed by soloist Willard Carter\, and the Tennessee premiere of The Father—a celebration of love\, legacy\, and unforgettable sound.
URL:https://visitjacksontn.com/event/cocktails-and-classics-2/
LOCATION:Carl Perkins Civic Center\, 400 South Highland Avenue\, Jackson\, TN\, 38301\, United States
CATEGORIES:Events,Music
ATTACH;FMTTYPE=image/avif:https://visitjacksontn.com/wp-content/uploads/cocktails-and-classics.avif
END:VEVENT
BEGIN:VEVENT
DTSTART;TZID=America/Chicago:20251107T183000
DTEND;TZID=America/Chicago:20251108T110000
DTSTAMP:20260423T113036
CREATED:20250911T161104Z
LAST-MODIFIED:20250911T161104Z
UID:10005712-1762540200-1762599600@visitjacksontn.com
SUMMARY:2025 VETERANS DAY CELEBRATION
DESCRIPTION:FOR MORE INFORMATION PLEASE CALL: 423-341-3330
URL:https://visitjacksontn.com/event/2025-veterans-day-celebration/2025-11-07/
LOCATION:Englewood Baptist Church\, 2239 North Highland Avenue\, Jackson\, TN\, 38305\, United States
CATEGORIES:Events
ATTACH;FMTTYPE=image/png:https://visitjacksontn.com/wp-content/uploads/2025-VETERANS-CELEBRATION-1.png
END:VEVENT
BEGIN:VEVENT
DTSTART;TZID=America/Chicago:20251108T083000
DTEND;TZID=America/Chicago:20251108T120000
DTSTAMP:20260423T113036
CREATED:20250113T180618Z
LAST-MODIFIED:20250113T180618Z
UID:10005188-1762590600-1762603200@visitjacksontn.com
SUMMARY:Pie Gobbler 1M\, 5K\, 10K\, 15K\, & Half Marathon
DESCRIPTION:Get ready to race at the Pie Gobbler 1M\, 5K\, 10K\, 15K & Half Marathon! \nThis event offers a variety of race distances\, from the 1M to the Half Marathon\, each with its own scenic out-and-back paved course. Participants will receive a themed finisher medal\, and the best costume will be awarded before the race begins. All races are part of the US Road Running Race Series\, earning valuable points towards the overall standings. \nBe sure to register on RunSignup\, as there is no on-site registration. Packet pickup starts 30 minutes before the race and ends 10 minutes prior to the start.
URL:https://visitjacksontn.com/event/pie-gobbler-1m-5k-10k-15k-half-marathon/
LOCATION:North Park Soccer Complex\, 210 Demonbreun Drive\, Jackson\, TN\, 38305\, United States
CATEGORIES:Events,Sports & Outdoor
ATTACH;FMTTYPE=image/png:https://visitjacksontn.com/wp-content/uploads/genericImage-websiteLogo-227191-1736032853.5357-0.bNECjv.png
END:VEVENT
BEGIN:VEVENT
DTSTART;TZID=America/Chicago:20251108T110000
DTEND;TZID=America/Chicago:20251108T110000
DTSTAMP:20260423T113036
CREATED:20250911T161104Z
LAST-MODIFIED:20250911T161104Z
UID:10005713-1762599600-1762599600@visitjacksontn.com
SUMMARY:2025 VETERANS DAY CELEBRATION
DESCRIPTION:FOR MORE INFORMATION PLEASE CALL: 423-341-3330
URL:https://visitjacksontn.com/event/2025-veterans-day-celebration/2025-11-08/
LOCATION:Englewood Baptist Church\, 2239 North Highland Avenue\, Jackson\, TN\, 38305\, United States
CATEGORIES:Events
ATTACH;FMTTYPE=image/png:https://visitjacksontn.com/wp-content/uploads/2025-VETERANS-CELEBRATION-1.png
END:VEVENT
BEGIN:VEVENT
DTSTART;TZID=America/Chicago:20251108T180000
DTEND;TZID=America/Chicago:20251108T180000
DTSTAMP:20260423T113036
CREATED:20250604T171840Z
LAST-MODIFIED:20250604T173741Z
UID:10005597-1762624800-1762624800@visitjacksontn.com
SUMMARY:The Charity Gala
DESCRIPTION:Save the date for the 34th Annual Charity Gala as the Community Foundation of West Tennessee celebrates 40 years of impact and recognizes community leaders. \nThe Charity Gala is the largest annual fundraiser hosted by the Community Foundation of West Tennessee. The event includes a cocktail reception\, silent auction\, seated dinner\, award presentations\, live music\, and dancing. Proceeds from the event support critical community initiatives. \nStay tuned for more details!
URL:https://visitjacksontn.com/event/the-charity-gala/
LOCATION:Carl Perkins Civic Center\, 400 South Highland Avenue\, Jackson\, TN\, 38301\, United States
CATEGORIES:Events,Music
ATTACH;FMTTYPE=image/png:https://visitjacksontn.com/wp-content/uploads/67101c10273f27935c5f9f88_Thumbnail.png
END:VEVENT
BEGIN:VEVENT
DTSTART;TZID=America/Chicago:20251113T190000
DTEND;TZID=America/Chicago:20251116T140000
DTSTAMP:20260423T113036
CREATED:20251027T160803Z
LAST-MODIFIED:20251027T160803Z
UID:10005736-1763060400-1763301600@visitjacksontn.com
SUMMARY:Guys & Dolls: A Musical Fable of Broadway
DESCRIPTION:Based on a Story and Characters of Damon Runyon Music and Lyrics by Frank Loesser Book by Jo Swerling and Abe Burrows Directed by David McCall Choreographed by Noah Gonzalez \nThe oldest established permanent floating crap game in New York just got busted and Nathan Detroit needs cold hard cash to get it up and running again. Enter high-roller Sky Masterson\, who Nathan wagers can’t get a date with the straightlaced Sarah Brown\, a Salvation Army missionary trying to save them all from sin. Dance the night away to “Luck Be a Lady\,” “Sit Down\, You’re Rockin’ the Boat\,” “A Bushel and a Peck.” \nNov. Showtimes below: \n13th/14th: 7pm \n15th: 2pm and 7pm \n16th: 2pm
URL:https://visitjacksontn.com/event/guys-dolls-a-musical-fable-of-broadway/
LOCATION:The NED\, 314 East Main Street\, Jackson\, TN\, 38301\, United States
CATEGORIES:Events,Music
ATTACH;FMTTYPE=image/jpeg:https://visitjacksontn.com/wp-content/uploads/guys-and-dolls.jpg
END:VEVENT
BEGIN:VEVENT
DTSTART;TZID=America/Chicago:20251114T193000
DTEND;TZID=America/Chicago:20251114T193000
DTSTAMP:20260423T113036
CREATED:20250909T161248Z
LAST-MODIFIED:20250909T161248Z
UID:10005710-1763148600-1763148600@visitjacksontn.com
SUMMARY:Lights Camera Christmas! - Holiday Pops
DESCRIPTION:We’re decking the hall a little early this year with a festive celebration of beloved movie soundtracks and wintery favorites. Kick off your Christmas season with a sparkling evening of nostalgia and cheer for the whole family—Santa-approved!
URL:https://visitjacksontn.com/event/lights-camera-christmas-holiday-pops-2/
LOCATION:Carl Perkins Civic Center\, 400 South Highland Avenue\, Jackson\, TN\, 38301\, United States
CATEGORIES:Events,Music
ATTACH;FMTTYPE=image/avif:https://visitjacksontn.com/wp-content/uploads/lights-camera.avif
END:VEVENT
BEGIN:VEVENT
DTSTART;TZID=America/Chicago:20251115T180000
DTEND;TZID=America/Chicago:20251115T223000
DTSTAMP:20260423T113036
CREATED:20250911T171055Z
LAST-MODIFIED:20250911T171055Z
UID:10005714-1763229600-1763245800@visitjacksontn.com
SUMMARY:WTVC 2025 Salute to Veterans Military Ball
DESCRIPTION:Step into an evening of elegance and honor as we pay tribute to our local veterans at the upcoming Military Ball. Experience the rich military traditions of a Dining Out\, complete with the iconic Grog Bowl ceremony\, heartfelt toasts\, entertaining limericks\, and an exciting silent auction. Your presence at this formal event will not only provide you with a delightful sit-down meal but also an opportunity to support a noble cause – the Veterans in Crisis Fund. Special Guest Speaker Announcement! Our 2025 Guest Speaker is Retired US Navy Pilot\, Captain Roy “Outlaw” Cash\, who scored the first aerial kill for an F-4J and VF-33s sole MiG Kill during the Vietnam war. He later went on to be the Commanding Officer at the USN’s elite TOPGUN Program. \nMore detailed information in link belowes \nThe 4th Annual Military Ball
URL:https://visitjacksontn.com/event/wtvc-2025-salute-to-veterans-military-ball/
LOCATION:The STAR Center\, 1119 Old Humboldt Rd\, Jackson\, 38305\, United States
CATEGORIES:Events
ATTACH;FMTTYPE=image/png:https://visitjacksontn.com/wp-content/uploads/military-ball-.png
ORGANIZER;CN="West Tennessee Veterans Coalition":MAILTO:wtnvetscoalition@gmail.com
END:VEVENT
BEGIN:VEVENT
DTSTART;VALUE=DATE:20251121
DTEND;VALUE=DATE:20251123
DTSTAMP:20260423T113036
CREATED:20250417T144922Z
LAST-MODIFIED:20250714T185232Z
UID:10005517-1763683200-1763855999@visitjacksontn.com
SUMMARY:2025 FCE Christmas Cottage
DESCRIPTION:Celebrate the spirit of the season while supporting local talent at the 43rd Annual FCE Christmas Cottage\, hosted by the Madison County FCE Clubs! \nBrowse a festive marketplace filled with handcrafted items\, baked goods\, home-canned treats\, clothing\, holiday décor\, and thoughtful gifts—each lovingly made by FCE members. Admission is free\, and convenient parking is available. \nQuestions? Text Krisann Blair at 731-298-0579. \nSchedule: \nFriday: 9 AM– 7 PM \nSaturday: 9 AM– 5 PM
URL:https://visitjacksontn.com/event/2025-fce-christmas-cottage/
LOCATION:Madison County Agricultural Complex Auditorium\, 309 N. Parkway\, Jackson\, TN\, 38305\, United States
CATEGORIES:Events
ATTACH;FMTTYPE=image/jpeg:https://visitjacksontn.com/wp-content/uploads/490060183_689968686703173_2928013400378627952_n.jpg
END:VEVENT
BEGIN:VEVENT
DTSTART;TZID=America/Chicago:20251127T080000
DTEND;TZID=America/Chicago:20251127T080000
DTSTAMP:20260423T113036
CREATED:20250617T192037Z
LAST-MODIFIED:20250617T192438Z
UID:10005626-1764230400-1764230400@visitjacksontn.com
SUMMARY:20th Annual Gold’s Gym/Fleet Feet Turkey Day 5K
DESCRIPTION:Don’t miss the 20th Annual Gold’s Gym/Fleet Feet Turkey Day 5K — a Thanksgiving tradition in Jackson\, TN! This chip-timed charity race benefits RIFA\, helping provide food and assistance to those in need during the holiday season. \nThe race starts and finishes at Gold’s Gym and kicks off at 8:00 AM.
URL:https://visitjacksontn.com/event/20th-annual-golds-gym-fleet-feet-turkey-day-5k-2/
LOCATION:Gold’s Gym\, 1068 Vann Dr\, Jackson\, TN\, 38305\, United States
CATEGORIES:Events,Sports & Outdoor
ATTACH;FMTTYPE=image/png:https://visitjacksontn.com/wp-content/uploads/raceBanner-CHuXPkch-bFGHmj.png
END:VEVENT
BEGIN:VEVENT
DTSTART;TZID=America/Chicago:20251128T190000
DTEND;TZID=America/Chicago:20251130T123000
DTSTAMP:20260423T113036
CREATED:20251103T160005Z
LAST-MODIFIED:20251103T160005Z
UID:10005750-1764356400-1764505800@visitjacksontn.com
SUMMARY:The Nutcracker
DESCRIPTION:Kick off your Christmas season with a cherished classic. The Nutcracker\, brought to life by Ballet Arts—West Tennessee’s premier ballet company. Join Clara and her Nutcracker Prince on a timeless journey through the Land of Sweets premiering Thanksgiving weekend\, November 28th through the 30th at the Carl Perkins Civic Center in Downtown Jackson. It’s a holiday tradition the whole family will love. \nShowtimes: \nFriday\, Nov. 28 at 7 p.m. \nSaturday\, Nov. 29 at 7 p.m. \nSunday\, Nov. 30 at 2 p.m. \nLimited seats are available to join Clara at her magical Tea Party. \nTea Party Saturday\, Nov. 29 at 5:30 p.m. \nSunday\, Nov. 30 at 12:30 p.m.
URL:https://visitjacksontn.com/event/the-nutcracker-2/
LOCATION:Carl Perkins Civic Center\, 400 South Highland Avenue\, Jackson\, TN\, 38301\, United States
CATEGORIES:Events,Music
ATTACH;FMTTYPE=image/jpeg:https://visitjacksontn.com/wp-content/uploads/571220130_1411121200603172_2251819393694042069_n.jpg
END:VEVENT
END:VCALENDAR