BEGIN:VCALENDAR
VERSION:2.0
PRODID:-//Jackson Tourism - ECPv6.15.20//NONSGML v1.0//EN
CALSCALE:GREGORIAN
METHOD:PUBLISH
X-WR-CALNAME:Jackson Tourism
X-ORIGINAL-URL:https://visitjacksontn.com
X-WR-CALDESC:Events for Jackson Tourism
REFRESH-INTERVAL;VALUE=DURATION:PT1H
X-Robots-Tag:noindex
X-PUBLISHED-TTL:PT1H
BEGIN:VTIMEZONE
TZID:America/Chicago
BEGIN:DAYLIGHT
TZOFFSETFROM:-0600
TZOFFSETTO:-0500
TZNAME:CDT
DTSTART:20250309T080000
END:DAYLIGHT
BEGIN:STANDARD
TZOFFSETFROM:-0500
TZOFFSETTO:-0600
TZNAME:CST
DTSTART:20251102T070000
END:STANDARD
BEGIN:DAYLIGHT
TZOFFSETFROM:-0600
TZOFFSETTO:-0500
TZNAME:CDT
DTSTART:20260308T080000
END:DAYLIGHT
BEGIN:STANDARD
TZOFFSETFROM:-0500
TZOFFSETTO:-0600
TZNAME:CST
DTSTART:20261101T070000
END:STANDARD
BEGIN:DAYLIGHT
TZOFFSETFROM:-0600
TZOFFSETTO:-0500
TZNAME:CDT
DTSTART:20270314T080000
END:DAYLIGHT
BEGIN:STANDARD
TZOFFSETFROM:-0500
TZOFFSETTO:-0600
TZNAME:CST
DTSTART:20271107T070000
END:STANDARD
END:VTIMEZONE
BEGIN:VEVENT
DTSTART;TZID=America/Chicago:20260129T100000
DTEND;TZID=America/Chicago:20260131T140000
DTSTAMP:20260422T174359
CREATED:20260116T145145Z
LAST-MODIFIED:20260121T152537Z
UID:10005927-1769680800-1769868000@visitjacksontn.com
SUMMARY:Jackson Christian Theatre Presents Big Fish
DESCRIPTION:Jackson Christian Theatre Presents our 2026 Spring production\, “Big Fish.” \nPerformances will be held at the NED \nJan. 29-31. \nThursday\, Jan. 29 | 10 a.m. & 7 p.m. \nFriday\, Jan. 30 | 7 p.m. \nSaturday\, Jan. 31 | 2 p.m. & 7 p.m. \nJC Students: $11 \nGeneral: $16.75 \nPurchase your tickets today: https://gofan.co/app/school/TN17902
URL:https://visitjacksontn.com/event/jackson-christian-theatre-presents-big-fish/
LOCATION:The NED\, 314 East Main Street\, Jackson\, TN\, 38301\, United States
CATEGORIES:Events
ATTACH;FMTTYPE=image/jpeg:https://visitjacksontn.com/wp-content/uploads/615132338_1549113583255637_5607155691026189217_n.jpg
END:VEVENT
END:VCALENDAR