BEGIN:VCALENDAR
VERSION:2.0
PRODID:-//Jackson Tourism - ECPv6.15.18//NONSGML v1.0//EN
CALSCALE:GREGORIAN
METHOD:PUBLISH
X-ORIGINAL-URL:https://visitjacksontn.com
X-WR-CALDESC:Events for Jackson Tourism
REFRESH-INTERVAL;VALUE=DURATION:PT1H
X-Robots-Tag:noindex
X-PUBLISHED-TTL:PT1H
BEGIN:VTIMEZONE
TZID:America/Chicago
BEGIN:DAYLIGHT
TZOFFSETFROM:-0600
TZOFFSETTO:-0500
TZNAME:CDT
DTSTART:20240310T080000
END:DAYLIGHT
BEGIN:STANDARD
TZOFFSETFROM:-0500
TZOFFSETTO:-0600
TZNAME:CST
DTSTART:20241103T070000
END:STANDARD
BEGIN:DAYLIGHT
TZOFFSETFROM:-0600
TZOFFSETTO:-0500
TZNAME:CDT
DTSTART:20250309T080000
END:DAYLIGHT
BEGIN:STANDARD
TZOFFSETFROM:-0500
TZOFFSETTO:-0600
TZNAME:CST
DTSTART:20251102T070000
END:STANDARD
BEGIN:DAYLIGHT
TZOFFSETFROM:-0600
TZOFFSETTO:-0500
TZNAME:CDT
DTSTART:20260308T080000
END:DAYLIGHT
BEGIN:STANDARD
TZOFFSETFROM:-0500
TZOFFSETTO:-0600
TZNAME:CST
DTSTART:20261101T070000
END:STANDARD
END:VTIMEZONE
BEGIN:VEVENT
DTSTART;TZID=America/Chicago:20250111T193000
DTEND;TZID=America/Chicago:20250111T210000
DTSTAMP:20260419T193305
CREATED:20240624T163716Z
LAST-MODIFIED:20240624T163716Z
UID:10002348-1736623800-1736629200@visitjacksontn.com
SUMMARY:Confederate Railroad
DESCRIPTION:Rising to fame in the early ’90s with their unique country sound\, the band\, led by Danny Shirley\, has a storied career. Their debut album produced hits like “She Took It Like a Man\,” “Jesus and Mama\,” and “Queen of Memphis\,” with “Trashy” earning a Grammy nomination. With 18 charted hits and over five million albums sold\, Confederate Railroad remains a beloved name in country music. \nTickets to this show are on sale soon! Purchase tickets by clicking the BUY TICKETS button below or via The Dixie’s Box Office in person or by phone at 731.986.2100\, M-F\, 10-4p. \nTickets are on sale:\n• Mon\, July 29\, 10A CT – Previous 18th Season Ticket Holders via The Dixie’s Box Office\n• Mon\, Aug 12\, 10A CT – New 19th Season Ticket Holders via The Dixie’s Box Office\n• Mon\, Sep 16\, 10A CT – Individual Show Tickets via DixiePAC.net and The Dixie’s Box Office \nClick here for tickets and more information.
URL:https://visitjacksontn.com/event/confederate-railroad/
LOCATION:Dixie Carter Performing Arts Center\, 191 Court Square\, Huntingdon\, TN\, 38344\, United States
CATEGORIES:Events,Music
ATTACH;FMTTYPE=image/jpeg:https://visitjacksontn.com/wp-content/uploads/D19_ConfederateRailroad.jpeg
END:VEVENT
END:VCALENDAR