BEGIN:VCALENDAR
VERSION:2.0
PRODID:-//Jackson Tourism - ECPv6.15.18//NONSGML v1.0//EN
CALSCALE:GREGORIAN
METHOD:PUBLISH
X-ORIGINAL-URL:https://visitjacksontn.com
X-WR-CALDESC:Events for Jackson Tourism
REFRESH-INTERVAL;VALUE=DURATION:PT1H
X-Robots-Tag:noindex
X-PUBLISHED-TTL:PT1H
BEGIN:VTIMEZONE
TZID:America/Chicago
BEGIN:DAYLIGHT
TZOFFSETFROM:-0600
TZOFFSETTO:-0500
TZNAME:CDT
DTSTART:20230312T080000
END:DAYLIGHT
BEGIN:STANDARD
TZOFFSETFROM:-0500
TZOFFSETTO:-0600
TZNAME:CST
DTSTART:20231105T070000
END:STANDARD
BEGIN:DAYLIGHT
TZOFFSETFROM:-0600
TZOFFSETTO:-0500
TZNAME:CDT
DTSTART:20240310T080000
END:DAYLIGHT
BEGIN:STANDARD
TZOFFSETFROM:-0500
TZOFFSETTO:-0600
TZNAME:CST
DTSTART:20241103T070000
END:STANDARD
BEGIN:DAYLIGHT
TZOFFSETFROM:-0600
TZOFFSETTO:-0500
TZNAME:CDT
DTSTART:20250309T080000
END:DAYLIGHT
BEGIN:STANDARD
TZOFFSETFROM:-0500
TZOFFSETTO:-0600
TZNAME:CST
DTSTART:20251102T070000
END:STANDARD
END:VTIMEZONE
BEGIN:VEVENT
DTSTART;TZID=America/Chicago:20241207T193000
DTEND;TZID=America/Chicago:20241207T220000
DTSTAMP:20260419T220231
CREATED:20240829T193704Z
LAST-MODIFIED:20240829T193704Z
UID:10002545-1733599800-1733608800@visitjacksontn.com
SUMMARY:Christmas at the Dixie
DESCRIPTION:Join The Dixie for CHRISTMAS AT THE DIXIE on SAT\, DEC 7\, at 7:30p! \nTickets go on sale to the general public Mon\, Sept 16\, 2024\, at 10A CT and are $15 for Balcony and $20 for Orchestra\, plus fees. For questions\, please call The Dixie’s Box Office at 731.986.2100\, Monday through Friday\, 10-4 pm. \nHeadling the show is LOLO with a talented\, supporting cast (in alphabetical order): \nAva Bates\nAnnh Browder\nChelsea Brown\nLee Carter\nBryton Cole\nCharlotte Cole\nMadilyn Dudley\nHannah Eaton\nNathan Eaton\nJessica Tucker \nClick here for tickets and more information.
URL:https://visitjacksontn.com/event/christmas-at-the-dixie/
LOCATION:Dixie Carter Performing Arts Center\, 191 Court Square\, Huntingdon\, TN\, 38344\, United States
CATEGORIES:Arts & Culture,Events,Music
ATTACH;FMTTYPE=image/jpeg:https://visitjacksontn.com/wp-content/uploads/456663754_1017358350391781_4747077831422536222_n.jpg
END:VEVENT
BEGIN:VEVENT
DTSTART;TZID=America/Chicago:20241214T140000
DTEND;TZID=America/Chicago:20241214T170000
DTSTAMP:20260419T220231
CREATED:20240829T193248Z
LAST-MODIFIED:20240829T193415Z
UID:10002544-1734184800-1734195600@visitjacksontn.com
SUMMARY:Main Street Christmas
DESCRIPTION:Join The Dixie + The Town of Huntingdon for MAIN STREET CHRISTMAS on SAT\, DEC 14\, from 2-5p! \nThis event is free + open to the public. All ages welcome. \nThere are many more details to come\, but a few of our favorite highlights include: Lighting of the Tree at City Hall\, Christmas Parade\, great food + pop-up vendors\, Court Theatre movie showings\, holiday choirs\, + more! \nClick here for more event information.
URL:https://visitjacksontn.com/event/main-street-christmas/
LOCATION:Dixie Carter Performing Arts Center\, 191 Court Square\, Huntingdon\, TN\, 38344\, United States
CATEGORIES:Arts & Culture,Events
ATTACH;FMTTYPE=image/jpeg:https://visitjacksontn.com/wp-content/uploads/456708019_1017368327057450_1057867205506254750_n.jpg
END:VEVENT
BEGIN:VEVENT
DTSTART;TZID=America/Chicago:20241221T193000
DTEND;TZID=America/Chicago:20241221T210000
DTSTAMP:20260419T220231
CREATED:20240624T163327Z
LAST-MODIFIED:20240624T163327Z
UID:10002347-1734809400-1734814800@visitjacksontn.com
SUMMARY:Mandy Barnett "Winter Wonderland"
DESCRIPTION:Known for her mesmerizing voice and classic country and pop style\, Grand Ole Opry member Mandy Barnett has been singing since she was five years old. She gained national fame as the original star of “Always…Patsy Cline” at Nashville’s Ryman Auditorium. Don’t miss the chance to see one of Nashville’s enduring musical treasures live. \nTickets to this show are on sale soon! Purchase tickets by clicking the BUY TICKETS button below or via The Dixie’s Box Office in person or by phone at 731.986.2100\, M-F\, 10-4p. \nTickets are on sale:\n• Mon\, July 29\, 10A CT – Previous 18th Season Ticket Holders via The Dixie’s Box Office\n• Mon\, Aug 12\, 10A CT – New 19th Season Ticket Holders via The Dixie’s Box Office\n• Mon\, Sep 16\, 10A CT – Individual Show Tickets via DixiePAC.net and The Dixie’s Box Office \nClick here for tickets and more information.
URL:https://visitjacksontn.com/event/mandy-barnett-winter-wonderland/
LOCATION:Dixie Carter Performing Arts Center\, 191 Court Square\, Huntingdon\, TN\, 38344\, United States
CATEGORIES:Events,Music
ATTACH;FMTTYPE=image/jpeg:https://visitjacksontn.com/wp-content/uploads/D19_MandyBarnett.jpg
END:VEVENT
END:VCALENDAR