BEGIN:VCALENDAR
VERSION:2.0
PRODID:-//Jackson Tourism - ECPv6.15.18//NONSGML v1.0//EN
CALSCALE:GREGORIAN
METHOD:PUBLISH
X-WR-CALNAME:Jackson Tourism
X-ORIGINAL-URL:https://visitjacksontn.com
X-WR-CALDESC:Events for Jackson Tourism
REFRESH-INTERVAL;VALUE=DURATION:PT1H
X-Robots-Tag:noindex
X-PUBLISHED-TTL:PT1H
BEGIN:VTIMEZONE
TZID:America/Chicago
BEGIN:DAYLIGHT
TZOFFSETFROM:-0600
TZOFFSETTO:-0500
TZNAME:CDT
DTSTART:20240310T080000
END:DAYLIGHT
BEGIN:STANDARD
TZOFFSETFROM:-0500
TZOFFSETTO:-0600
TZNAME:CST
DTSTART:20241103T070000
END:STANDARD
BEGIN:DAYLIGHT
TZOFFSETFROM:-0600
TZOFFSETTO:-0500
TZNAME:CDT
DTSTART:20250309T080000
END:DAYLIGHT
BEGIN:STANDARD
TZOFFSETFROM:-0500
TZOFFSETTO:-0600
TZNAME:CST
DTSTART:20251102T070000
END:STANDARD
BEGIN:DAYLIGHT
TZOFFSETFROM:-0600
TZOFFSETTO:-0500
TZNAME:CDT
DTSTART:20260308T080000
END:DAYLIGHT
BEGIN:STANDARD
TZOFFSETFROM:-0500
TZOFFSETTO:-0600
TZNAME:CST
DTSTART:20261101T070000
END:STANDARD
END:VTIMEZONE
BEGIN:VEVENT
DTSTART;TZID=America/Chicago:20250317T173000
DTEND;TZID=America/Chicago:20250317T220000
DTSTAMP:20260420T213435
CREATED:20250306T164002Z
LAST-MODIFIED:20250306T164002Z
UID:10005362-1742232600-1742248800@visitjacksontn.com
SUMMARY:St. Patrick's Day Downtown Pub Crawl
DESCRIPTION:Get ready to paint the town green at the St. Patrick’s Day Downtown Pub Crawl! Kick off the night at Hub City Brewing and make your way through some of downtown’s best bars\, enjoying festive drinks and great company. Whether you’re sipping craft brews or toasting with friends\, this crawl is the perfect way to celebrate St. Patrick’s Day! \nRoute: \n\nHub City Brewing | 5:30-6:15 PM\nBaker Bros BBQ | 6:15-7:00 PM\nBlacksmith | 7:00-7:45 PM\nIceHouse of Jackson | 7:45-8:30 PM\nSpring Street Cigars | 8:30-9:15 PM\nFranklin’s Little Bar | 9:15-10:00 PM
URL:https://visitjacksontn.com/event/st-patricks-day-downtown-pub-crawl/
LOCATION:Hub City Brewing\, 250 West Main Street\, Jackson\, TN\, 38301\, United States
CATEGORIES:Events
ATTACH;FMTTYPE=image/jpeg:https://visitjacksontn.com/wp-content/uploads/481082816_10234031776871511_2998251902532416937_n.jpg
END:VEVENT
END:VCALENDAR