BEGIN:VCALENDAR
VERSION:2.0
PRODID:-//Jackson Tourism - ECPv6.15.18//NONSGML v1.0//EN
CALSCALE:GREGORIAN
METHOD:PUBLISH
X-WR-CALNAME:Jackson Tourism
X-ORIGINAL-URL:https://visitjacksontn.com
X-WR-CALDESC:Events for Jackson Tourism
REFRESH-INTERVAL;VALUE=DURATION:PT1H
X-Robots-Tag:noindex
X-PUBLISHED-TTL:PT1H
BEGIN:VTIMEZONE
TZID:America/Chicago
BEGIN:DAYLIGHT
TZOFFSETFROM:-0600
TZOFFSETTO:-0500
TZNAME:CDT
DTSTART:20240310T080000
END:DAYLIGHT
BEGIN:STANDARD
TZOFFSETFROM:-0500
TZOFFSETTO:-0600
TZNAME:CST
DTSTART:20241103T070000
END:STANDARD
BEGIN:DAYLIGHT
TZOFFSETFROM:-0600
TZOFFSETTO:-0500
TZNAME:CDT
DTSTART:20250309T080000
END:DAYLIGHT
BEGIN:STANDARD
TZOFFSETFROM:-0500
TZOFFSETTO:-0600
TZNAME:CST
DTSTART:20251102T070000
END:STANDARD
BEGIN:DAYLIGHT
TZOFFSETFROM:-0600
TZOFFSETTO:-0500
TZNAME:CDT
DTSTART:20260308T080000
END:DAYLIGHT
BEGIN:STANDARD
TZOFFSETFROM:-0500
TZOFFSETTO:-0600
TZNAME:CST
DTSTART:20261101T070000
END:STANDARD
END:VTIMEZONE
BEGIN:VEVENT
DTSTART;TZID=America/Chicago:20250315T110000
DTEND;TZID=America/Chicago:20250315T150000
DTSTAMP:20260420T213552
CREATED:20250224T213528Z
LAST-MODIFIED:20250224T213613Z
UID:10005293-1742036400-1742050800@visitjacksontn.com
SUMMARY:St. Patrick’s Day Customer Appreciation Lunch
DESCRIPTION:Celebrate St. Patrick’s Day with Bumpus Harley-Davidson at the St. Patrick’s Day Customer Appreciation Lunch! \nEnjoy free food and drinks\, enter for a chance to win a special gift basket\, and keep an eye out for hidden four-leaf clovers to score exciting prizes. Feeling festive? Dress in your best leprechaun-inspired outfit and compete for a $100 BHD gift card (not valid for motorcycle purchases) in our Best Dressed Leprechaun Contest! \nIt’s a celebration you won’t want to miss—bring your lucky charm and join the fun!
URL:https://visitjacksontn.com/event/st-patricks-day-customer-appreciation-lunch/
LOCATION:Bumpus Harley Davidson\, 326 Carriage House Drive.\, Jackson\, TN\, 38305\, United States
CATEGORIES:Events
ATTACH;FMTTYPE=image/jpeg:https://visitjacksontn.com/wp-content/uploads/472336027_997149082458434_2846049074995545271_n.jpg
END:VEVENT
BEGIN:VEVENT
DTSTART;TZID=America/Chicago:20250315T170000
DTEND;TZID=America/Chicago:20250315T170000
DTSTAMP:20260420T213552
CREATED:20250221T202411Z
LAST-MODIFIED:20250221T202508Z
UID:10005284-1742058000-1742058000@visitjacksontn.com
SUMMARY:Raising Pots of Gold for St. Jude
DESCRIPTION:Get ready for the Raising Pots of Gold for St. Jude St. Patrick’s Day Party! \nDoors open at 5 PM\, followed by dinner at 6 PM and dancing at 7:30 PM. Guests will enjoy live entertainment by 24 Seven with a special guest\, all while supporting St. Jude Children’s Research Hospital. Tickets are $35\, including dinner\, and can be purchased using cash\, credit cards\, Venmo\, or checks.
URL:https://visitjacksontn.com/event/raising-pots-of-gold-for-st-jude/
LOCATION:ELKS LODGE 192\, 28 Executive Dr.\, Jackson\, TN\, 38305\, United States
CATEGORIES:Events,Music
ATTACH;FMTTYPE=image/jpeg:https://visitjacksontn.com/wp-content/uploads/480561567_1025625892932083_7481787047113705203_n.jpg
END:VEVENT
END:VCALENDAR