BEGIN:VCALENDAR
VERSION:2.0
PRODID:-//Jackson Tourism - ECPv6.15.18//NONSGML v1.0//EN
CALSCALE:GREGORIAN
METHOD:PUBLISH
X-WR-CALNAME:Jackson Tourism
X-ORIGINAL-URL:https://visitjacksontn.com
X-WR-CALDESC:Events for Jackson Tourism
REFRESH-INTERVAL;VALUE=DURATION:PT1H
X-Robots-Tag:noindex
X-PUBLISHED-TTL:PT1H
BEGIN:VTIMEZONE
TZID:America/Chicago
BEGIN:DAYLIGHT
TZOFFSETFROM:-0600
TZOFFSETTO:-0500
TZNAME:CDT
DTSTART:20240310T080000
END:DAYLIGHT
BEGIN:STANDARD
TZOFFSETFROM:-0500
TZOFFSETTO:-0600
TZNAME:CST
DTSTART:20241103T070000
END:STANDARD
BEGIN:DAYLIGHT
TZOFFSETFROM:-0600
TZOFFSETTO:-0500
TZNAME:CDT
DTSTART:20250309T080000
END:DAYLIGHT
BEGIN:STANDARD
TZOFFSETFROM:-0500
TZOFFSETTO:-0600
TZNAME:CST
DTSTART:20251102T070000
END:STANDARD
BEGIN:DAYLIGHT
TZOFFSETFROM:-0600
TZOFFSETTO:-0500
TZNAME:CDT
DTSTART:20260308T080000
END:DAYLIGHT
BEGIN:STANDARD
TZOFFSETFROM:-0500
TZOFFSETTO:-0600
TZNAME:CST
DTSTART:20261101T070000
END:STANDARD
END:VTIMEZONE
BEGIN:VEVENT
DTSTART;VALUE=DATE:20250913
DTEND;VALUE=DATE:20250915
DTSTAMP:20260421T125922
CREATED:20250624T160610Z
LAST-MODIFIED:20250624T160610Z
UID:10005649-1757721600-1757894399@visitjacksontn.com
SUMMARY:Fall Spring Creek Craft Market
DESCRIPTION:Calling all makers\, artists\, and small business owners! The Spring Creek Craft Market is back this September\, offering a vibrant space for creators to showcase handcrafted goods\, unique art\, and locally made products. \nJoin a supportive community of shoppers who value creativity and love to shop local. Whether you’re a seasoned vendor or just starting out\, this is the perfect opportunity to shine. Vendor spaces are limited\, so apply today to secure your spot!
URL:https://visitjacksontn.com/event/fall-spring-creek-craft-market/
LOCATION:The Ledge\, 3581 Highway 70 E\, Medina\, TN\, 38355\, United States
CATEGORIES:Arts & Culture,Events
ATTACH;FMTTYPE=image/jpeg:https://visitjacksontn.com/wp-content/uploads/495369541_671570885581919_5188566821484216003_n.jpg
END:VEVENT
END:VCALENDAR