BEGIN:VCALENDAR
VERSION:2.0
PRODID:-//Jackson Tourism - ECPv6.15.18//NONSGML v1.0//EN
CALSCALE:GREGORIAN
METHOD:PUBLISH
X-WR-CALNAME:Jackson Tourism
X-ORIGINAL-URL:https://visitjacksontn.com
X-WR-CALDESC:Events for Jackson Tourism
REFRESH-INTERVAL;VALUE=DURATION:PT1H
X-Robots-Tag:noindex
X-PUBLISHED-TTL:PT1H
BEGIN:VTIMEZONE
TZID:America/Chicago
BEGIN:DAYLIGHT
TZOFFSETFROM:-0600
TZOFFSETTO:-0500
TZNAME:CDT
DTSTART:20240310T080000
END:DAYLIGHT
BEGIN:STANDARD
TZOFFSETFROM:-0500
TZOFFSETTO:-0600
TZNAME:CST
DTSTART:20241103T070000
END:STANDARD
BEGIN:DAYLIGHT
TZOFFSETFROM:-0600
TZOFFSETTO:-0500
TZNAME:CDT
DTSTART:20250309T080000
END:DAYLIGHT
BEGIN:STANDARD
TZOFFSETFROM:-0500
TZOFFSETTO:-0600
TZNAME:CST
DTSTART:20251102T070000
END:STANDARD
BEGIN:DAYLIGHT
TZOFFSETFROM:-0600
TZOFFSETTO:-0500
TZNAME:CDT
DTSTART:20260308T080000
END:DAYLIGHT
BEGIN:STANDARD
TZOFFSETFROM:-0500
TZOFFSETTO:-0600
TZNAME:CST
DTSTART:20261101T070000
END:STANDARD
END:VTIMEZONE
BEGIN:VEVENT
DTSTART;VALUE=DATE:20250426
DTEND;VALUE=DATE:20250428
DTSTAMP:20260422T021710
CREATED:20250320T142145Z
LAST-MODIFIED:20250320T143135Z
UID:10005418-1745625600-1745798399@visitjacksontn.com
SUMMARY:Spring Creek Craft Market
DESCRIPTION:Don’t miss the Spring Creek Craft Market\, where local artisans and vendors come together to showcase a variety of handmade wood crafts\, artwork\, jewelry\, candles\, and more! \nThis vibrant event is the perfect way to shake off the winter blues and support the West Tennessee arts and craft community. From unique artisan goods to delicious edibles\, there’s something for everyone to enjoy. Bring the whole family for a fun-filled weekend celebrating creativity and craftsmanship. \nSchedule: \nSaturday\, April 26 – 9:00 am – 5:00 pm \nSunday\, April 27 – 12:00 pm – 4:00 pm
URL:https://visitjacksontn.com/event/spring-creek-craft-market/
LOCATION:The Ledge\, 3581 Highway 70 E\, Medina\, TN\, 38355\, United States
CATEGORIES:Arts & Culture,Events
ATTACH;FMTTYPE=image/jpeg:https://visitjacksontn.com/wp-content/uploads/484868708_631603166245358_2370450728613438592_n.jpg
END:VEVENT
END:VCALENDAR