BEGIN:VCALENDAR
VERSION:2.0
PRODID:-//Jackson Tourism - ECPv6.15.20//NONSGML v1.0//EN
CALSCALE:GREGORIAN
METHOD:PUBLISH
X-WR-CALNAME:Jackson Tourism
X-ORIGINAL-URL:https://visitjacksontn.com
X-WR-CALDESC:Events for Jackson Tourism
REFRESH-INTERVAL;VALUE=DURATION:PT1H
X-Robots-Tag:noindex
X-PUBLISHED-TTL:PT1H
BEGIN:VTIMEZONE
TZID:America/Chicago
BEGIN:DAYLIGHT
TZOFFSETFROM:-0600
TZOFFSETTO:-0500
TZNAME:CDT
DTSTART:20230312T080000
END:DAYLIGHT
BEGIN:STANDARD
TZOFFSETFROM:-0500
TZOFFSETTO:-0600
TZNAME:CST
DTSTART:20231105T070000
END:STANDARD
BEGIN:DAYLIGHT
TZOFFSETFROM:-0600
TZOFFSETTO:-0500
TZNAME:CDT
DTSTART:20240310T080000
END:DAYLIGHT
BEGIN:STANDARD
TZOFFSETFROM:-0500
TZOFFSETTO:-0600
TZNAME:CST
DTSTART:20241103T070000
END:STANDARD
BEGIN:DAYLIGHT
TZOFFSETFROM:-0600
TZOFFSETTO:-0500
TZNAME:CDT
DTSTART:20250309T080000
END:DAYLIGHT
BEGIN:STANDARD
TZOFFSETFROM:-0500
TZOFFSETTO:-0600
TZNAME:CST
DTSTART:20251102T070000
END:STANDARD
END:VTIMEZONE
BEGIN:VEVENT
DTSTART;VALUE=DATE:20240830
DTEND;VALUE=DATE:20240902
DTSTAMP:20260422T210012
CREATED:20240801T134107Z
LAST-MODIFIED:20240801T134107Z
UID:10002436-1724976000-1725235199@visitjacksontn.com
SUMMARY:34th Annual African Street Festival
DESCRIPTION:Live Entertainment Featuring African Dance & Drummers \nR&B Neo-Soul\, Jazz\, Reggae\, Blues & Gospel Music Artists \nAfrican Drum Classes \nChildrens Hut and Activities \nHealth Screenings \nFood and Merchandise Vendors and so much more! \nFor general information\, contact 731-267-3212. For Vendor information\, contact 731-616-0814. \nClick here for more event information.
URL:https://visitjacksontn.com/event/34th-annual-african-street-festival/
LOCATION:T.R. White Sportsplex\, 304 N. Hays Ave.\, TN
CATEGORIES:Events,Sports & Outdoor
ATTACH;FMTTYPE=image/jpeg:https://visitjacksontn.com/wp-content/uploads/417446724_871106215058190_702311799593375151_n.jpg
END:VEVENT
END:VCALENDAR