BEGIN:VCALENDAR
VERSION:2.0
PRODID:-//Jackson Tourism - ECPv6.15.20//NONSGML v1.0//EN
CALSCALE:GREGORIAN
METHOD:PUBLISH
X-WR-CALNAME:Jackson Tourism
X-ORIGINAL-URL:https://visitjacksontn.com
X-WR-CALDESC:Events for Jackson Tourism
REFRESH-INTERVAL;VALUE=DURATION:PT1H
X-Robots-Tag:noindex
X-PUBLISHED-TTL:PT1H
BEGIN:VTIMEZONE
TZID:America/Chicago
BEGIN:DAYLIGHT
TZOFFSETFROM:-0600
TZOFFSETTO:-0500
TZNAME:CDT
DTSTART:20240310T080000
END:DAYLIGHT
BEGIN:STANDARD
TZOFFSETFROM:-0500
TZOFFSETTO:-0600
TZNAME:CST
DTSTART:20241103T070000
END:STANDARD
BEGIN:DAYLIGHT
TZOFFSETFROM:-0600
TZOFFSETTO:-0500
TZNAME:CDT
DTSTART:20250309T080000
END:DAYLIGHT
BEGIN:STANDARD
TZOFFSETFROM:-0500
TZOFFSETTO:-0600
TZNAME:CST
DTSTART:20251102T070000
END:STANDARD
BEGIN:DAYLIGHT
TZOFFSETFROM:-0600
TZOFFSETTO:-0500
TZNAME:CDT
DTSTART:20260308T080000
END:DAYLIGHT
BEGIN:STANDARD
TZOFFSETFROM:-0500
TZOFFSETTO:-0600
TZNAME:CST
DTSTART:20261101T070000
END:STANDARD
END:VTIMEZONE
BEGIN:VEVENT
DTSTART;VALUE=DATE:20250124
DTEND;VALUE=DATE:20250126
DTSTAMP:20260425T214717
CREATED:20250116T223240Z
LAST-MODIFIED:20250116T223344Z
UID:10005203-1737676800-1737849599@visitjacksontn.com
SUMMARY:2nd Annual Rock-A-Billy Rodeo
DESCRIPTION:Get ready for the thrilling 2nd Annual Rock-a-Billy Rodeo! \nExperience professional rodeo action featuring top athletes and their trusty steeds as they compete in an unforgettable display of skill and grit. Tickets are $20 at the gate\, and kids 12 and under get in free. Gates open at 6:00 PM\, with the show kicking off at 8:00 PM. \nDon’t miss this exciting family-friendly event!
URL:https://visitjacksontn.com/event/2nd-annual-rock-a-billy-rodeo/
LOCATION:McNairy AG Event Center\, 851 High School Rd.\, Selmer\, TN\, 38375\, United States
CATEGORIES:Events,Sports & Outdoor
ATTACH;FMTTYPE=image/jpeg:https://visitjacksontn.com/wp-content/uploads/472984619_122099575616724056_8553356435429673433_n.jpg
END:VEVENT
END:VCALENDAR