BEGIN:VCALENDAR
VERSION:2.0
PRODID:-//Jackson Tourism - ECPv6.15.20//NONSGML v1.0//EN
CALSCALE:GREGORIAN
METHOD:PUBLISH
X-WR-CALNAME:Jackson Tourism
X-ORIGINAL-URL:https://visitjacksontn.com
X-WR-CALDESC:Events for Jackson Tourism
REFRESH-INTERVAL;VALUE=DURATION:PT1H
X-Robots-Tag:noindex
X-PUBLISHED-TTL:PT1H
BEGIN:VTIMEZONE
TZID:America/Chicago
BEGIN:DAYLIGHT
TZOFFSETFROM:-0600
TZOFFSETTO:-0500
TZNAME:CDT
DTSTART:20230312T080000
END:DAYLIGHT
BEGIN:STANDARD
TZOFFSETFROM:-0500
TZOFFSETTO:-0600
TZNAME:CST
DTSTART:20231105T070000
END:STANDARD
BEGIN:DAYLIGHT
TZOFFSETFROM:-0600
TZOFFSETTO:-0500
TZNAME:CDT
DTSTART:20240310T080000
END:DAYLIGHT
BEGIN:STANDARD
TZOFFSETFROM:-0500
TZOFFSETTO:-0600
TZNAME:CST
DTSTART:20241103T070000
END:STANDARD
BEGIN:DAYLIGHT
TZOFFSETFROM:-0600
TZOFFSETTO:-0500
TZNAME:CDT
DTSTART:20250309T080000
END:DAYLIGHT
BEGIN:STANDARD
TZOFFSETFROM:-0500
TZOFFSETTO:-0600
TZNAME:CST
DTSTART:20251102T070000
END:STANDARD
END:VTIMEZONE
BEGIN:VEVENT
DTSTART;TZID=America/Chicago:20240705T100000
DTEND;TZID=America/Chicago:20240706T180000
DTSTAMP:20260424T003205
CREATED:20240701T191357Z
LAST-MODIFIED:20240701T191357Z
UID:10002374-1720173600-1720288800@visitjacksontn.com
SUMMARY:Independence Weekend Events
DESCRIPTION:Friday\, July 5th\n1:00 pm: 10 Essentials for a Summer Hike\n7:30 pm: Independence Day Weekend Night Hike! ($5) \nSaturday\, July 6th\n10:00 am: Western Sector Golf Cart Tour ($8)\n2:00 pm: Atlatl: Native American Spear Throwing \nSunday July 7th\n2:00 pm: Turtle Tales with Frankie \nClick here for more event information.
URL:https://visitjacksontn.com/event/independence-weekend-events/
LOCATION:Pinson Mounds\, 460 Ozier Rd\, Pinson\, TN\, 38366\, United States
CATEGORIES:Events,Sports & Outdoor
ATTACH;FMTTYPE=image/jpeg:https://visitjacksontn.com/wp-content/uploads/pinson-mounds-1.jpg
END:VEVENT
BEGIN:VEVENT
DTSTART;TZID=America/Chicago:20240705T193000
DTEND;TZID=America/Chicago:20240705T193000
DTSTAMP:20260424T003205
CREATED:20240625T141230Z
LAST-MODIFIED:20240625T141230Z
UID:10002362-1720207800-1720207800@visitjacksontn.com
SUMMARY:Independence Day Weekend Night Hike
DESCRIPTION:Come celebrate Independence Day Weekend with the Pinson Mounds staff with a Night Hike. Learn about the first Americans and how they lived. We may even see some Fireworks in the distance. Bring water\, bug spray\, and sturdy shoes. This hike will be around 1 mile long and will end with 124 steps at the top of Sauls Mound. Registration is required. To sign up\, please visit our website or call the office at 731-988-5614. This is a weather dependent event. If there is a cancellation\, participants will be notified by phone. \n$3 / 14 and under\n$5 / 15 and up \nClick here for tickets and more event information.
URL:https://visitjacksontn.com/event/independence-day-weekend-night-hike/
LOCATION:Pinson Mounds\, 460 Ozier Rd\, Pinson\, TN\, 38366\, United States
CATEGORIES:Events,Sports & Outdoor
ATTACH;FMTTYPE=image/jpeg:https://visitjacksontn.com/wp-content/uploads/pinson-mounds-1.jpg
END:VEVENT
END:VCALENDAR