BEGIN:VCALENDAR
VERSION:2.0
PRODID:-//Jackson Tourism - ECPv6.15.20//NONSGML v1.0//EN
CALSCALE:GREGORIAN
METHOD:PUBLISH
X-WR-CALNAME:Jackson Tourism
X-ORIGINAL-URL:https://visitjacksontn.com
X-WR-CALDESC:Events for Jackson Tourism
REFRESH-INTERVAL;VALUE=DURATION:PT1H
X-Robots-Tag:noindex
X-PUBLISHED-TTL:PT1H
BEGIN:VTIMEZONE
TZID:America/Chicago
BEGIN:DAYLIGHT
TZOFFSETFROM:-0600
TZOFFSETTO:-0500
TZNAME:CDT
DTSTART:20230312T080000
END:DAYLIGHT
BEGIN:STANDARD
TZOFFSETFROM:-0500
TZOFFSETTO:-0600
TZNAME:CST
DTSTART:20231105T070000
END:STANDARD
BEGIN:DAYLIGHT
TZOFFSETFROM:-0600
TZOFFSETTO:-0500
TZNAME:CDT
DTSTART:20240310T080000
END:DAYLIGHT
BEGIN:STANDARD
TZOFFSETFROM:-0500
TZOFFSETTO:-0600
TZNAME:CST
DTSTART:20241103T070000
END:STANDARD
BEGIN:DAYLIGHT
TZOFFSETFROM:-0600
TZOFFSETTO:-0500
TZNAME:CDT
DTSTART:20250309T080000
END:DAYLIGHT
BEGIN:STANDARD
TZOFFSETFROM:-0500
TZOFFSETTO:-0600
TZNAME:CST
DTSTART:20251102T070000
END:STANDARD
END:VTIMEZONE
BEGIN:VEVENT
DTSTART;TZID=America/Chicago:20240601T090000
DTEND;TZID=America/Chicago:20240601T090000
DTSTAMP:20260424T193914
CREATED:20240524T145639Z
LAST-MODIFIED:20240524T145639Z
UID:10002247-1717232400-1717232400@visitjacksontn.com
SUMMARY:National Trails Day Hike
DESCRIPTION:Millions of people have found physical\, mental\, and emotional restoration on our trails at Tennessee State Parks. Come celebrate National Trails Day at Pinson Mounds with a Ranger-led hike of the Eastern Citadel. Visitors will get to see Mounds 28 and 29\, the Eastern Enclosure\, and the Bird Effigy Mound. This hike will be 3 miles over paved and unimproved trails with slopes. Please bring water\, bug spray\, closed-toe shoes\, and snacks. Preregistration is required. Please call the office or visit our site to reserve your spot. \nClick here for more information.
URL:https://visitjacksontn.com/event/national-trails-day-hike/
LOCATION:Pinson Mounds\, 460 Ozier Rd\, Pinson\, TN\, 38366\, United States
CATEGORIES:Events,Sports & Outdoor
ATTACH;FMTTYPE=image/jpeg:https://visitjacksontn.com/wp-content/uploads/pinson-mounds.jpg
END:VEVENT
END:VCALENDAR