BEGIN:VCALENDAR
VERSION:2.0
PRODID:-//Jackson Tourism - ECPv6.15.20//NONSGML v1.0//EN
CALSCALE:GREGORIAN
METHOD:PUBLISH
X-ORIGINAL-URL:https://visitjacksontn.com
X-WR-CALDESC:Events for Jackson Tourism
REFRESH-INTERVAL;VALUE=DURATION:PT1H
X-Robots-Tag:noindex
X-PUBLISHED-TTL:PT1H
BEGIN:VTIMEZONE
TZID:America/Chicago
BEGIN:DAYLIGHT
TZOFFSETFROM:-0600
TZOFFSETTO:-0500
TZNAME:CDT
DTSTART:20230312T080000
END:DAYLIGHT
BEGIN:STANDARD
TZOFFSETFROM:-0500
TZOFFSETTO:-0600
TZNAME:CST
DTSTART:20231105T070000
END:STANDARD
BEGIN:DAYLIGHT
TZOFFSETFROM:-0600
TZOFFSETTO:-0500
TZNAME:CDT
DTSTART:20240310T080000
END:DAYLIGHT
BEGIN:STANDARD
TZOFFSETFROM:-0500
TZOFFSETTO:-0600
TZNAME:CST
DTSTART:20241103T070000
END:STANDARD
BEGIN:DAYLIGHT
TZOFFSETFROM:-0600
TZOFFSETTO:-0500
TZNAME:CDT
DTSTART:20250309T080000
END:DAYLIGHT
BEGIN:STANDARD
TZOFFSETFROM:-0500
TZOFFSETTO:-0600
TZNAME:CST
DTSTART:20251102T070000
END:STANDARD
END:VTIMEZONE
BEGIN:VEVENT
DTSTART;TZID=America/Chicago:20240518T100000
DTEND;TZID=America/Chicago:20240518T150000
DTSTAMP:20260424T214109
CREATED:20240417T203757Z
LAST-MODIFIED:20240417T203757Z
UID:10002146-1716026400-1716044400@visitjacksontn.com
SUMMARY:Bee Fest 2024
DESCRIPTION:Come and celebrate our favorite Pollinators: Bees! Craft and Educational vendors will be set up from 10:00am – 3:00pm behind the museum. The park will also be set up for a Virtual 5K. The proceeds of the run will go to help the Honeybee Project at Pinson Mounds State Archaeological Park and the Friends of Pinson Mounds. \nVendors: call the park office at 731-988-5614. \nClick here to register for the 5K. \nClick here for more event information.
URL:https://visitjacksontn.com/event/bee-fest-2024/
LOCATION:Pinson Mounds\, 460 Ozier Rd\, Pinson\, TN\, 38366\, United States
CATEGORIES:Events,Sports & Outdoor
END:VEVENT
END:VCALENDAR