BEGIN:VCALENDAR
VERSION:2.0
PRODID:-//Jackson Tourism - ECPv6.15.20//NONSGML v1.0//EN
CALSCALE:GREGORIAN
METHOD:PUBLISH
X-ORIGINAL-URL:https://visitjacksontn.com
X-WR-CALDESC:Events for Jackson Tourism
REFRESH-INTERVAL;VALUE=DURATION:PT1H
X-Robots-Tag:noindex
X-PUBLISHED-TTL:PT1H
BEGIN:VTIMEZONE
TZID:America/Chicago
BEGIN:DAYLIGHT
TZOFFSETFROM:-0600
TZOFFSETTO:-0500
TZNAME:CDT
DTSTART:20230312T080000
END:DAYLIGHT
BEGIN:STANDARD
TZOFFSETFROM:-0500
TZOFFSETTO:-0600
TZNAME:CST
DTSTART:20231105T070000
END:STANDARD
BEGIN:DAYLIGHT
TZOFFSETFROM:-0600
TZOFFSETTO:-0500
TZNAME:CDT
DTSTART:20240310T080000
END:DAYLIGHT
BEGIN:STANDARD
TZOFFSETFROM:-0500
TZOFFSETTO:-0600
TZNAME:CST
DTSTART:20241103T070000
END:STANDARD
BEGIN:DAYLIGHT
TZOFFSETFROM:-0600
TZOFFSETTO:-0500
TZNAME:CDT
DTSTART:20250309T080000
END:DAYLIGHT
BEGIN:STANDARD
TZOFFSETFROM:-0500
TZOFFSETTO:-0600
TZNAME:CST
DTSTART:20251102T070000
END:STANDARD
END:VTIMEZONE
BEGIN:VEVENT
DTSTART;TZID=America/Chicago:20240504T090000
DTEND;TZID=America/Chicago:20240504T140000
DTSTAMP:20260423T181928
CREATED:20240417T151854Z
LAST-MODIFIED:20240417T151854Z
UID:10002123-1714813200-1714831200@visitjacksontn.com
SUMMARY:2024 Spring Car Show
DESCRIPTION:The Parkway Christian Auto Club 2024 “MONUMENTAL” SPRING CAR SHOW benefitting The Carl Perkins Center for the Prevention of child abuse. The date is set for Saturday\, May 4th at the AutoZone located at 2159 N Highland Blvd in Jackson\, TN from 9 to 2. As always we are incorporating new ideas to make our shows bigger and better than the ones before. \nClick here for more event information.
URL:https://visitjacksontn.com/event/2024-spring-car-show/
LOCATION:Auto Zone\, 2159 N. Highland Ave\, Jackson\, TN\, 38305
CATEGORIES:Events
ATTACH;FMTTYPE=image/jpeg:https://visitjacksontn.com/wp-content/uploads/400835606_819668526624914_2359791152517391951_n-1.jpg
END:VEVENT
END:VCALENDAR