BEGIN:VCALENDAR
VERSION:2.0
PRODID:-//Jackson Tourism - ECPv6.15.20//NONSGML v1.0//EN
CALSCALE:GREGORIAN
METHOD:PUBLISH
X-WR-CALNAME:Jackson Tourism
X-ORIGINAL-URL:https://visitjacksontn.com
X-WR-CALDESC:Events for Jackson Tourism
REFRESH-INTERVAL;VALUE=DURATION:PT1H
X-Robots-Tag:noindex
X-PUBLISHED-TTL:PT1H
BEGIN:VTIMEZONE
TZID:America/Chicago
BEGIN:DAYLIGHT
TZOFFSETFROM:-0600
TZOFFSETTO:-0500
TZNAME:CDT
DTSTART:20240310T080000
END:DAYLIGHT
BEGIN:STANDARD
TZOFFSETFROM:-0500
TZOFFSETTO:-0600
TZNAME:CST
DTSTART:20241103T070000
END:STANDARD
BEGIN:DAYLIGHT
TZOFFSETFROM:-0600
TZOFFSETTO:-0500
TZNAME:CDT
DTSTART:20250309T080000
END:DAYLIGHT
BEGIN:STANDARD
TZOFFSETFROM:-0500
TZOFFSETTO:-0600
TZNAME:CST
DTSTART:20251102T070000
END:STANDARD
BEGIN:DAYLIGHT
TZOFFSETFROM:-0600
TZOFFSETTO:-0500
TZNAME:CDT
DTSTART:20260308T080000
END:DAYLIGHT
BEGIN:STANDARD
TZOFFSETFROM:-0500
TZOFFSETTO:-0600
TZNAME:CST
DTSTART:20261101T070000
END:STANDARD
END:VTIMEZONE
BEGIN:VEVENT
DTSTART;VALUE=DATE:20250214
DTEND;VALUE=DATE:20250216
DTSTAMP:20260425T101320
CREATED:20250123T175940Z
LAST-MODIFIED:20250123T175940Z
UID:10005226-1739491200-1739663999@visitjacksontn.com
SUMMARY:Love & Laughter Weekend at The Lodge at Paris Landing
DESCRIPTION:Celebrate Valentine’s Day with the upcoming Love & Laughter Weekend at The Lodge at Paris Landing. The weekend includes a cozy two-night stay\, a special Valentine’s Day dinner in the restaurant\, and a relaxing movie night. On Saturday\, enjoy lunch at the restaurant\, followed by an elegant dinner and an evening of fun with “The Newlywed Game.” \nThe package is $500 per couple\, which includes tax\, gratuity\, and non-alcoholic beverages. Reservations are required and must be made by February 1st by calling (931) 924-4302. Walk-in guests are welcome to dine from the regular menu in the restaurant. Don’t miss this chance to create lasting memories with your loved one!
URL:https://visitjacksontn.com/event/love-laughter-weekend-at-the-lodge-at-paris-landing/
LOCATION:Paris Landing State Park\, 400 Lodge Road\, Buchanan\, TN\, 38222\, United States
CATEGORIES:Events
ATTACH;FMTTYPE=image/png:https://visitjacksontn.com/wp-content/uploads/paris_landing.png
END:VEVENT
END:VCALENDAR