BEGIN:VCALENDAR
VERSION:2.0
PRODID:-//Jackson Tourism - ECPv6.15.20//NONSGML v1.0//EN
CALSCALE:GREGORIAN
METHOD:PUBLISH
X-ORIGINAL-URL:https://visitjacksontn.com
X-WR-CALDESC:Events for Jackson Tourism
REFRESH-INTERVAL;VALUE=DURATION:PT1H
X-Robots-Tag:noindex
X-PUBLISHED-TTL:PT1H
BEGIN:VTIMEZONE
TZID:America/Chicago
BEGIN:DAYLIGHT
TZOFFSETFROM:-0600
TZOFFSETTO:-0500
TZNAME:CDT
DTSTART:20230312T080000
END:DAYLIGHT
BEGIN:STANDARD
TZOFFSETFROM:-0500
TZOFFSETTO:-0600
TZNAME:CST
DTSTART:20231105T070000
END:STANDARD
BEGIN:DAYLIGHT
TZOFFSETFROM:-0600
TZOFFSETTO:-0500
TZNAME:CDT
DTSTART:20240310T080000
END:DAYLIGHT
BEGIN:STANDARD
TZOFFSETFROM:-0500
TZOFFSETTO:-0600
TZNAME:CST
DTSTART:20241103T070000
END:STANDARD
BEGIN:DAYLIGHT
TZOFFSETFROM:-0600
TZOFFSETTO:-0500
TZNAME:CDT
DTSTART:20250309T080000
END:DAYLIGHT
BEGIN:STANDARD
TZOFFSETFROM:-0500
TZOFFSETTO:-0600
TZNAME:CST
DTSTART:20251102T070000
END:STANDARD
BEGIN:DAYLIGHT
TZOFFSETFROM:-0600
TZOFFSETTO:-0500
TZNAME:CDT
DTSTART:20260308T080000
END:DAYLIGHT
BEGIN:STANDARD
TZOFFSETFROM:-0500
TZOFFSETTO:-0600
TZNAME:CST
DTSTART:20261101T070000
END:STANDARD
END:VTIMEZONE
BEGIN:VEVENT
DTSTART;VALUE=DATE:20241230
DTEND;VALUE=DATE:20250105
DTSTAMP:20260422T173248
CREATED:20241106T162551Z
LAST-MODIFIED:20241206T211532Z
UID:10002827-1735516800-1736035199@visitjacksontn.com
SUMMARY:Ames Plantation Field Trials
DESCRIPTION:Get ready for some fun in the fields! \n\n*Dates are subject to change* December 30th-January 4th\, 2025: The Ames Amateur\n\n  \n\n*Dates are subject to change* January 13th-16th: The Hobart Ames Open All Age\n\n  \n\nFebruary 8th: Drawing for the Order of Running for the 2025 National Championship\n\n  \n\nFebruary 10th: The Running of the 2025 National Championship\n\n  \n\nMarch 3rd: The National Amateur Shooting Dog & Derby Championship\n\n 
URL:https://visitjacksontn.com/event/ames-plantation-field-trails-2/
LOCATION:Ames Plantation\, 4275 Buford Ellington Rd\, Grand Junction\, TN\, 38039\, United States
CATEGORIES:Events,Sports & Outdoor
ATTACH;FMTTYPE=image/jpeg:https://visitjacksontn.com/wp-content/uploads/ames-scaled.jpg
END:VEVENT
END:VCALENDAR