BEGIN:VCALENDAR
VERSION:2.0
PRODID:-//Jackson Tourism - ECPv6.15.20//NONSGML v1.0//EN
CALSCALE:GREGORIAN
METHOD:PUBLISH
X-WR-CALNAME:Jackson Tourism
X-ORIGINAL-URL:https://visitjacksontn.com
X-WR-CALDESC:Events for Jackson Tourism
REFRESH-INTERVAL;VALUE=DURATION:PT1H
X-Robots-Tag:noindex
X-PUBLISHED-TTL:PT1H
BEGIN:VTIMEZONE
TZID:America/Chicago
BEGIN:DAYLIGHT
TZOFFSETFROM:-0600
TZOFFSETTO:-0500
TZNAME:CDT
DTSTART:20230312T080000
END:DAYLIGHT
BEGIN:STANDARD
TZOFFSETFROM:-0500
TZOFFSETTO:-0600
TZNAME:CST
DTSTART:20231105T070000
END:STANDARD
BEGIN:DAYLIGHT
TZOFFSETFROM:-0600
TZOFFSETTO:-0500
TZNAME:CDT
DTSTART:20240310T080000
END:DAYLIGHT
BEGIN:STANDARD
TZOFFSETFROM:-0500
TZOFFSETTO:-0600
TZNAME:CST
DTSTART:20241103T070000
END:STANDARD
BEGIN:DAYLIGHT
TZOFFSETFROM:-0600
TZOFFSETTO:-0500
TZNAME:CDT
DTSTART:20250309T080000
END:DAYLIGHT
BEGIN:STANDARD
TZOFFSETFROM:-0500
TZOFFSETTO:-0600
TZNAME:CST
DTSTART:20251102T070000
END:STANDARD
END:VTIMEZONE
BEGIN:VEVENT
DTSTART;TZID=America/Chicago:20241012T193000
DTEND;TZID=America/Chicago:20241012T223000
DTSTAMP:20260425T155730
CREATED:20240624T155039Z
LAST-MODIFIED:20240624T155039Z
UID:10002342-1728761400-1728772200@visitjacksontn.com
SUMMARY:Heart by Heart
DESCRIPTION:Kicking off the Dixie Pac season is an electrifying performance by Heart By Heart. This special event features Rock and Roll Hall of Fame inductees and original members of the legendary band Heart\, Steve Fossen\, and Michael Derosier. Join us for a night filled with all your favorite Heart hits\, delivered by the musicians who helped create them. \nTickets are on sale:\n• Mon\, July 29\, 10 A CT – Previous 18th Season Ticket Holders via The Dixie’s Box Office\n• Mon\, Aug 12\, 10 A CT – New 19th Season Ticket Holders via The Dixie’s Box Office\n• Mon\, Sep 16\, 10 A CT – Individual Show Tickets via DixiePAC.net and The Dixie’s Box Office \nClick here for tickets and more information.
URL:https://visitjacksontn.com/event/heart-by-heart/
LOCATION:Dixie Carter Performing Arts Center\, 191 Court Square\, Huntingdon\, TN\, 38344\, United States
CATEGORIES:Events,Music
ATTACH;FMTTYPE=image/jpeg:https://visitjacksontn.com/wp-content/uploads/D19_HeartByHeart.jpg
END:VEVENT
BEGIN:VEVENT
DTSTART;TZID=America/Chicago:20241019T150000
DTEND;TZID=America/Chicago:20241019T150000
DTSTAMP:20260425T155730
CREATED:20241018T141444Z
LAST-MODIFIED:20241018T141546Z
UID:10002656-1729350000-1729350000@visitjacksontn.com
SUMMARY:ART-oberFEST 2024
DESCRIPTION:Forget stuffy galleries and overpriced beer tents. ART-oberFest is here to shake up your Saturday night with art\, music\, and good ol’ fashioned revelry! \nPub Crawl of Epic Proportions: Kick things off at Rock n Dough at 3 pm sharp\, then meander through a curated selection of watering holes like The Blacksmith and Franklin’s Little Bar. \nArt Crawl & Live Music Mayhem: From 7 pm\, enjoy original artwork from local talents and groove to live music that’s definitely better than your parallel parking skills. \nAfter Party & Other Shenanigans: Indulge in Big Burger Food Truck fare and keep the party going at Downtown Tavern from 9 pm\, where you can debate art or belt out 80s ballads. \nGet ready for an experience guaranteed to be anything but ordinary. Support local artists\, find that perfect piece of art\, and prove that fun can happen without pumpkin spice lattes!
URL:https://visitjacksontn.com/event/art-oberfest-2024/
LOCATION:Art on Shannon\, 201 S Shannon St\, Jackson\, TN\, 38301\, United States
CATEGORIES:Arts & Culture,Events,Music
ATTACH;FMTTYPE=image/jpeg:https://visitjacksontn.com/wp-content/uploads/460082103_10100753050065242_2135335701434310251_n.jpg
END:VEVENT
BEGIN:VEVENT
DTSTART;TZID=America/Chicago:20241026T193000
DTEND;TZID=America/Chicago:20241026T210000
DTSTAMP:20260425T155730
CREATED:20240624T155616Z
LAST-MODIFIED:20240624T155616Z
UID:10002343-1729971000-1729976400@visitjacksontn.com
SUMMARY:Thompson Square
DESCRIPTION:A decade after their multi-platinum hit “Are You Gonna Kiss Me Or Not\,” Keifer and Shawna Thompson continue to captivate audiences. The Grammy-nominated pair has toured globally\, won multiple major awards\, and appeared on top TV shows including The Tonight Show and NBC’s TODAY Show. They’ve also earned praise from outlets like Taste of Country and Rolling Stone. \nTickets to this show are on sale soon! Purchase tickets by clicking the BUY TICKETS button below or via The Dixie’s Box Office in person or by phone at 731.986.2100\, M-F\, 10-4p. \nTickets are on sale:\n• Mon\, July 29\, 10A CT – Previous 18th Season Ticket Holders via The Dixie’s Box Office\n• Mon\, Aug 12\, 10A CT – New 19th Season Ticket Holders via The Dixie’s Box Office\n• Mon\, Sep 16\, 10A CT – Individual Show Tickets via DixiePAC.net and The Dixie’s Box Office \nClick here for tickets and more information. \n 
URL:https://visitjacksontn.com/event/thompson-square/
LOCATION:Dixie Carter Performing Arts Center\, 191 Court Square\, Huntingdon\, TN\, 38344\, United States
CATEGORIES:Events,Music
ATTACH;FMTTYPE=image/jpeg:https://visitjacksontn.com/wp-content/uploads/D19_ThompsonSquare.jpeg
END:VEVENT
END:VCALENDAR